{"text_format":"2","workbook":"xlsx","n_sheets":6,"sheets":["data (monthly)","biweekly","data through Sept 2016","mnth-mnth","work details","graphs"],"not_rendered":{"charts":2,"images":1,"macros":0,"external_links":0,"defined_names":0,"comments":0,"pivot_tables":0},"unopened":[],"bounds":{"document_bytes":16777216,"sheet_cells":100000,"run_cost":"one","rows_first":2000,"rows_last":500,"rows_between":2000,"halvings":0,"cell_chars":16384,"cell_head_chars":4096},"cells_cut":0,"cells_raw":0,"read":"whole","date_system":"1900"}

{"sheet":"data (monthly)","index":0,"n_rows":205,"n_cols":6,"rows_kept":205,"cut":false,"hidden":false,"merged":[]}
["month","average help wanted","index: average help wanted (base year 2000)","base_avg","average help wanted","real average help wanted base year 2000"]
["2000-01-01",{"$f":"AVERAGE(biweekly!C2:C3)","v":304.5},{"$f":"(B2/$D$2)*100","v":88.872674206493983},{"$f":"AVERAGE(B2:B13)","v":342.625},304.5,88.872674206493983]
["2000-02-01",{"$f":"AVERAGE(biweekly!C4:C5)","v":323},{"$f":"(B3/$D$2)*100","v":94.272163443998537},null,323,94.272163443998537]
["2000-03-01",{"$f":"AVERAGE(biweekly!C6:C7)","v":337},98.358263407515494,null,337,98.358263407515494]
["2000-04-01",{"$f":"AVERAGE(biweekly!C8:C9)","v":381.5},111.34622400583729,null,381.5,111.34622400583729]
["2000-05-01",{"$f":"AVERAGE(biweekly!C10:C11)","v":354.5},103.46588836191171,null,354.5,103.46588836191171]
["2000-06-01",{"$f":"AVERAGE(biweekly!C12:C13)","v":361.5},105.5089383436702,null,361.5,105.5089383436702]
["2000-07-01",{"$f":"AVERAGE(biweekly!C14:C15)","v":345.5},100.83910981393652,null,345.5,100.83910981393652]
["2000-08-01",{"$f":"AVERAGE(biweekly!C16:C17)","v":411.5},120.10215249908794,null,411.5,120.10215249908794]
["2000-09-01",{"$f":"AVERAGE(biweekly!C18:C19)","v":395.5},115.43232396935426,null,395.5,115.43232396935426]
["2000-10-01",{"$f":"AVERAGE(biweekly!C20:C21)","v":353.5},103.17402407880336,null,353.5,103.17402407880336]
["2000-11-01",{"$f":"AVERAGE(biweekly!C22:C23)","v":299},87.267420649398034,null,299,87.267420649398034]
["2000-12-01",{"$f":"AVERAGE(biweekly!C24:C25)","v":244.5},71.360817219992697,null,244.5,71.360817219992697]
["2001-01-01",{"$f":"AVERAGE(biweekly!C26:C27)","v":298.5},87.12148850784385,null,298.5,87.12148850784385]
["2001-02-01",{"$f":"AVERAGE(biweekly!C28:C29)","v":280},81.721999270339296,null,280,81.721999270339296]
["2001-03-01",{"$f":"AVERAGE(biweekly!C30:C31)","v":275},80.262677854797516,null,275,80.262677854797516]
["2001-04-01",{"$f":"AVERAGE(biweekly!C32:C33)","v":256.5},74.863188617292963,null,256.5,74.863188617292963]
["2001-05-01",{"$f":"AVERAGE(biweekly!C34:C35)","v":270},78.803356439255751,null,270,78.803356439255751]
["2001-06-01",{"$f":"AVERAGE(biweekly!C36:C37)","v":280.5},81.867931411893466,null,280.5,81.867931411893466]
["2001-07-01",{"$f":"AVERAGE(biweekly!C38:C39)","v":251.5},73.403867201751183,null,251.5,73.403867201751183]
["2001-08-01",{"$f":"AVERAGE(biweekly!C40:C41)","v":322},93.980299160890183,null,322,93.980299160890183]
["2001-09-01",{"$f":"AVERAGE(biweekly!C42:C43)","v":283},82.597592119664355,null,283,82.597592119664355]
["2001-10-01",{"$f":"AVERAGE(biweekly!C44:C45)","v":248.5},72.528274352426124,null,248.5,72.528274352426124]
["2001-11-01",{"$f":"AVERAGE(biweekly!C46:C47)","v":209},60.999635169646119,null,209,60.999635169646119]
["2001-12-01",{"$f":"AVERAGE(biweekly!C48:C49)","v":184},53.703028091937242,null,184,53.703028091937242]
["2002-01-01",{"$f":"AVERAGE(biweekly!C50:C51)","v":189.5},55.308281649033198,null,189.5,55.308281649033198]
["2002-02-01",{"$f":"AVERAGE(biweekly!C52:C53)","v":190.5},55.600145932141551,null,190.5,55.600145932141551]
["2002-03-01",{"$f":"AVERAGE(biweekly!C54:C55)","v":220},64.21014228383801,null,220,64.21014228383801]
["2002-04-01",{"$f":"AVERAGE(biweekly!C56:C57)","v":227.5},66.39912440715068,null,227.5,66.39912440715068]
["2002-05-01",{"$f":"AVERAGE(biweekly!C58:C59)","v":221},64.502006566946363,null,221,64.502006566946363]
["2002-06-01",{"$f":"AVERAGE(biweekly!C60:C61)","v":208},60.707770886537759,null,208,60.707770886537759]
["2002-07-01",{"$f":"AVERAGE(biweekly!C62:C63)","v":236},68.879970813571688,null,236,68.879970813571688]
["2002-08-01",{"$f":"AVERAGE(biweekly!C64:C65)","v":256.5},74.863188617292963,null,256.5,74.863188617292963]
["2002-09-01",{"$f":"AVERAGE(biweekly!C66:C67)","v":230.5},67.274717256475739,null,230.5,67.274717256475739]
["2002-10-01",{"$f":"AVERAGE(biweekly!C68:C69)","v":222.5},64.9398029916089,null,222.5,64.9398029916089]
["2002-11-01",{"$f":"AVERAGE(biweekly!C70:C71)","v":203.5},59.394381612550163,null,203.5,59.394381612550163]
["2002-12-01",{"$f":"AVERAGE(biweekly!C72:C73)","v":138},40.277271068952935,null,138,40.277271068952935]
["2003-01-01",{"$f":"AVERAGE(biweekly!C74:C75)","v":168},49.033199562203578,null,168,49.033199562203578]
["2003-02-01",{"$f":"AVERAGE(biweekly!C76:C77)","v":139},40.569135352061295,null,139,40.569135352061295]
["2003-03-01",{"$f":"AVERAGE(biweekly!C78:C79)","v":210},61.291499452754472,null,210,61.291499452754472]
["2003-04-01",{"$f":"AVERAGE(biweekly!C80:C81)","v":224},65.377599416271437,null,224,65.377599416271437]
["2003-05-01",{"$f":"AVERAGE(biweekly!C82:C83)","v":228.5},66.690988690259033,null,228.5,66.690988690259033]
["2003-06-01",{"$f":"AVERAGE(biweekly!C84:C85)","v":226.5},66.107260124042327,null,226.5,66.107260124042327]
["2003-07-01",{"$f":"AVERAGE(biweekly!C86:C87)","v":190},55.454213790587382,null,190,55.454213790587382]
["2003-08-01",{"$f":"AVERAGE(biweekly!C88:C89)","v":214},62.458956585187885,null,214,62.458956585187885]
["2003-09-01",{"$f":"AVERAGE(biweekly!C90:C91)","v":211},61.583363735862825,null,211,61.583363735862825]
["2003-10-01",{"$f":"AVERAGE(biweekly!C92:C93)","v":196.5},57.351331630791677,null,196.5,57.351331630791677]
["2003-11-01",{"$f":"AVERAGE(biweekly!C94:C95)","v":172.5},50.346588836191174,null,172.5,50.346588836191174]
["2003-12-01",{"$f":"AVERAGE(biweekly!C96:C97)","v":150.5},43.92557460780737,null,150.5,43.92557460780737]
["2004-01-01",{"$f":"AVERAGE(biweekly!C98:C99)","v":181.5},52.973367384166359,null,181.5,52.973367384166359]
["2004-02-01",{"$f":"AVERAGE(biweekly!C100:C101)","v":213.5},62.313024443633715,null,213.5,62.313024443633715]
["2004-03-01",{"$f":"AVERAGE(biweekly!C102:C103)","v":210},61.291499452754472,null,210,61.291499452754472]
["2004-04-01",{"$f":"AVERAGE(biweekly!C104:C105)","v":253.5},73.987595767967889,null,253.5,73.987595767967889]
["2004-05-01",{"$f":"AVERAGE(biweekly!C106:C107)","v":251.5},73.403867201751183,null,251.5,73.403867201751183]
["2004-06-01",{"$f":"AVERAGE(biweekly!C108:C109)","v":201.5},58.810653046333449,null,201.5,58.810653046333449]
["2004-07-01",{"$f":"AVERAGE(biweekly!C110:C111)","v":223.5},65.231667274717253,null,223.5,65.231667274717253]
["2004-08-01",{"$f":"AVERAGE(biweekly!C112:C113)","v":251},73.257935060197013,null,251,73.257935060197013]
["2004-09-01",{"$f":"AVERAGE(biweekly!C114:C115)","v":243.5},71.068952936884344,null,243.5,71.068952936884344]
["2004-10-01",{"$f":"AVERAGE(biweekly!C116:C117)","v":237},69.171835096680041,null,237,69.171835096680041]
["2004-11-01",{"$f":"AVERAGE(biweekly!C118:C119)","v":180.5},52.681503101058006,null,180.5,52.681503101058006]
["2004-12-01",{"$f":"AVERAGE(biweekly!C120:C121)","v":160},46.698285297336739,null,160,46.698285297336739]
["2005-01-01",{"$f":"AVERAGE(biweekly!C122:C123)","v":192},56.037942356804081,null,192,56.037942356804081]
["2005-02-01",{"$f":"AVERAGE(biweekly!C124:C125)","v":215.5},62.896753009850414,null,215.5,62.896753009850414]
["2005-03-01",{"$f":"AVERAGE(biweekly!C126:C127)","v":206.5},60.269974461875229,null,206.5,60.269974461875229]
["2005-04-01",{"$f":"AVERAGE(biweekly!C128:C129)","v":229.5},66.982852973367386,null,229.5,66.982852973367386]
["2005-05-01",{"$f":"AVERAGE(biweekly!C130:C131)","v":268},78.21962787303903,null,268,78.21962787303903]
["2005-06-01",{"$f":"AVERAGE(biweekly!C132:C133)","v":243},70.923020795330174,null,243,70.923020795330174]
["2005-07-01",{"$f":"AVERAGE(biweekly!C134:C135)","v":245.5},71.65268150310105,null,245.5,71.65268150310105]
["2005-08-01",{"$f":"AVERAGE(biweekly!C136:C137)","v":277.5},80.992338562568406,null,277.5,80.992338562568406]
["2005-09-01",{"$f":"AVERAGE(biweekly!C138:C139)","v":227},66.253192265596496,null,227,66.253192265596496]
["2005-10-01",{"$f":"AVERAGE(biweekly!C140:C141)","v":234},68.296242247354982,null,234,68.296242247354982]
["2005-11-01",{"$f":"AVERAGE(biweekly!C142:C143)","v":198},57.789128055454206,null,198,57.789128055454206]
["2005-12-01",{"$f":"AVERAGE(biweekly!C144:C145)","v":162.5},{"$f":"(B73/$D$2)*100","v":47.427946005107621},null,162.5,47.427946005107621]
["2006-01-01",{"$f":"AVERAGE(biweekly!C146:C147)","v":181},52.827435242612189,null,181,52.827435242612189]
["2006-02-01",{"$f":"AVERAGE(biweekly!C148:C149)","v":216},63.042685151404598,null,216,63.042685151404598]
["2006-03-01",{"$f":"AVERAGE(biweekly!C150:C151)","v":230.5},67.274717256475739,null,230.5,67.274717256475739]
["2006-04-01",{"$f":"AVERAGE(biweekly!C152:C153)","v":243.5},71.068952936884344,null,243.5,71.068952936884344]
["2006-05-01",{"$f":"AVERAGE(biweekly!C154:C155)","v":253.5},73.987595767967889,null,253.5,73.987595767967889]
["2006-06-01",{"$f":"AVERAGE(biweekly!C155:C156)","v":245},71.506749361546881,null,245,71.506749361546881]
["2006-07-01",{"$f":"AVERAGE(biweekly!C158:C159)","v":235},68.588106530463335,null,235,68.588106530463335]
["2006-08-01",{"$f":"AVERAGE(biweekly!C160:C161)","v":257},75.009120758847132,null,257,75.009120758847132]
["2006-09-01",{"$f":"AVERAGE(biweekly!C162:C163)","v":215},62.750820868296245,null,215,62.750820868296245]
["2006-10-01",{"$f":"AVERAGE(biweekly!C164:C165)","v":218},63.626413717621311,null,218,63.626413717621311]
["2006-11-01",{"$f":"AVERAGE(biweekly!C166:C167)","v":190},55.454213790587382,null,190,55.454213790587382]
["2006-12-01",{"$f":"AVERAGE(biweekly!C168:C169)","v":179},52.243706676395476,null,179,52.243706676395476]
["2007-01-01",{"$f":"AVERAGE(biweekly!C170:C171)","v":196},57.205399489237507,null,196,57.205399489237507]
["2007-02-01",{"$f":"AVERAGE(biweekly!C172:C173)","v":191},55.746078073695728,null,191,55.746078073695728]
["2007-03-01",{"$f":"AVERAGE(biweekly!C174:C175)","v":226},65.961327982488143,null,226,65.961327982488143]
["2007-04-01",{"$f":"AVERAGE(biweekly!C176:C177)","v":240},70.047427946005101,null,240,70.047427946005101]
["2007-05-01",{"$f":"AVERAGE(biweekly!C178:C179)","v":221.5},64.647938708500547,null,221.5,64.647938708500547]
["2007-06-01",{"$f":"AVERAGE(biweekly!C180:C181)","v":227},66.253192265596496,null,227,66.253192265596496]
["2007-07-01",{"$f":"AVERAGE(biweekly!C182:C183)","v":231},67.420649398029923,null,231,67.420649398029923]
["2007-08-01",{"$f":"AVERAGE(biweekly!C184:C185)","v":249.5},72.820138635534477,null,249.5,72.820138635534477]
["2007-09-01",{"$f":"AVERAGE(biweekly!C186:C187)","v":246},71.798613644655234,null,246,71.798613644655234]
["2007-10-01",{"$f":"AVERAGE(biweekly!C188:C189)","v":240.5},70.193360087559284,null,240.5,70.193360087559284]
["2007-11-01",{"$f":"AVERAGE(biweekly!C190:C191)","v":178},51.951842393287116,null,178,51.951842393287116]
["2007-12-01",{"$f":"AVERAGE(biweekly!C192:C193)","v":177},51.659978110178763,null,177,51.659978110178763]
["2008-01-01",{"$f":"AVERAGE(biweekly!C194:C195)","v":181},52.827435242612189,null,181,52.827435242612189]
["2008-02-01",{"$f":"AVERAGE(biweekly!C196:C197)","v":171},49.908792411528644,null,171,49.908792411528644]
["2008-03-01",{"$f":"AVERAGE(biweekly!C198:C199)","v":194.5},56.767603064574971,null,194.5,56.767603064574971]
["2008-04-01",{"$f":"AVERAGE(biweekly!C200:C201)","v":225.5},65.815395840933959,null,225.5,65.815395840933959]
["2008-05-01",{"$f":"AVERAGE(biweekly!C202:C203)","v":209},60.999635169646119,null,209,60.999635169646119]
["2008-06-01",{"$f":"AVERAGE(biweekly!C204:C205)","v":197.5},57.643195913900037,null,197.5,57.643195913900037]
["2008-07-01",{"$f":"AVERAGE(biweekly!C206:C207)","v":172},50.20065669463699,null,172,50.20065669463699]
["2008-08-01",{"$f":"AVERAGE(biweekly!C208:C209)","v":164},47.865742429770158,null,164,47.865742429770158]
["2008-09-01",{"$f":"AVERAGE(biweekly!C210:C211)","v":177.5},{"$f":"(B106/$D$2)*100","v":51.805910251732946},null,177.5,51.805910251732946]
["2008-10-01",{"$f":"AVERAGE(biweekly!C212:C213)","v":149},43.48777818314484,null,149,43.48777818314484]
["2008-11-01",{"$f":"AVERAGE(biweekly!C214:C215)","v":112},32.688799708135718,null,112,32.688799708135718]
["2008-12-01",{"$f":"AVERAGE(biweekly!C216:C217)","v":96.5},28.16490331995622,null,96.5,28.16490331995622]
["2009-01-01",{"$f":"AVERAGE(biweekly!C218:C219)","v":89.5},26.121853338197738,null,89.5,26.121853338197738]
["2009-02-01",{"$f":"AVERAGE(biweekly!C220:C221)","v":85.5},24.954396205764322,null,85.5,24.954396205764322]
["2009-03-01",{"$f":"AVERAGE(biweekly!C222:C223)","v":86.5},25.246260488872675,null,86.5,25.246260488872675]
["2009-04-01",{"$f":"AVERAGE(biweekly!C224:C225)","v":83.5},24.370667639547612,null,83.5,24.370667639547612]
["2009-05-01",{"$f":"AVERAGE(biweekly!C226:C227)","v":81.5},23.786939073330903,null,81.5,23.786939073330903]
["2009-06-01",{"$f":"AVERAGE(biweekly!C228:C229)","v":85},24.808464064210142,null,85,24.808464064210142]
["2009-07-01",{"$f":"AVERAGE(biweekly!C230:C231)","v":84.5},24.662531922655965,null,84.5,24.662531922655965]
["2009-08-01",{"$f":"AVERAGE(biweekly!C232:C233)","v":107},31.229478292593942,null,107,31.229478292593942]
["2009-09-01",{"$f":"AVERAGE(biweekly!C234:C235)","v":98},28.602699744618754,null,98,28.602699744618754]
["2009-10-01",{"$f":"AVERAGE(biweekly!C236:C237)","v":83.5},24.370667639547612,null,83.5,24.370667639547612]
["2009-11-01",{"$f":"AVERAGE(biweekly!C238:C239)","v":62},18.095585552717985,null,62,18.095585552717985]
["2009-12-01",{"$f":"AVERAGE(biweekly!C240:C241)","v":59.5},17.365924844947102,null,59.5,17.365924844947102]
["2010-01-01",{"$f":"AVERAGE(biweekly!C242:C243)","v":73.5},21.452024808464067,null,73.5,21.452024808464067]
["2010-02-01",{"$f":"AVERAGE(biweekly!C244:C245)","v":77},22.473549799343306,null,77,22.473549799343306]
["2010-03-01",{"$f":"AVERAGE(biweekly!C246:C247)","v":81},23.641006931776722,null,81,23.641006931776722]
["2010-04-01",{"$f":"AVERAGE(biweekly!C248:C249)","v":93},27.143378329076977,null,93,27.143378329076977]
["2010-05-01",{"$f":"AVERAGE(biweekly!C250:C251)","v":83},24.224735497993432,null,83,24.224735497993432]
["2010-06-01",{"$f":"AVERAGE(biweekly!C252:C253)","v":92},26.851514045968621,null,92,26.851514045968621]
["2010-07-01",{"$f":"AVERAGE(biweekly!C254:C255)","v":78.5},22.91134622400584,null,78.5,22.91134622400584]
["2010-08-01",{"$f":"AVERAGE(biweekly!C256:C257)","v":109},31.813206858810656,null,109,31.813206858810656]
["2010-09-01",{"$f":"AVERAGE(biweekly!C258:C259)","v":111.5},32.542867566581542,null,111.5,32.542867566581542]
["2010-10-01",{"$f":"AVERAGE(biweekly!C260:C261)","v":96.5},28.16490331995622,null,96.5,28.16490331995622]
["2010-11-01",{"$f":"AVERAGE(biweekly!C262:C263)","v":70},20.430499817584824,null,70,20.430499817584824]
["2010-12-01",{"$f":"AVERAGE(biweekly!C264:C265)","v":71},20.722364100693177,null,71,20.722364100693177]
["2011-01-01",{"$f":"AVERAGE(biweekly!C266:C267)","v":78},22.76541408245166,null,78,22.76541408245166]
["2011-02-01",{"$f":"AVERAGE(biweekly!C268:C269)","v":80},23.349142648668369,null,80,23.349142648668369]
["2011-03-01",{"$f":"AVERAGE(biweekly!C270:C271)","v":78},22.76541408245166,null,78,22.76541408245166]
["2011-04-01",{"$f":"AVERAGE(biweekly!C272:C273)","v":93.5},27.289310470631158,null,93.5,27.289310470631158]
["2011-05-01",{"$f":"AVERAGE(biweekly!C274:C275)","v":103.5},30.207953301714703,null,103.5,30.207953301714703]
["2011-06-01",{"$f":"AVERAGE(biweekly!C276:C277)","v":92},26.851514045968621,null,92,26.851514045968621]
["2011-07-01",{"$f":"AVERAGE(biweekly!C278:C279)","v":95},27.727106895293691,null,95,27.727106895293691]
["2011-08-01",{"$f":"AVERAGE(biweekly!C280:C281)","v":106},30.937614009485586,null,106,30.937614009485586]
["2011-09-01",{"$f":"AVERAGE(biweekly!C282:C283)","v":95},27.727106895293691,null,95,27.727106895293691]
["2011-10-01",{"$f":"AVERAGE(biweekly!C284:C285)","v":104.5},30.499817584823059,null,104.5,30.499817584823059]
["2011-11-01",{"$f":"AVERAGE(biweekly!C286:C287)","v":88},25.684056913535208,null,88,25.684056913535208]
["2011-12-01",{"$f":"AVERAGE(biweekly!C288:C289)","v":67},19.554906968259758,null,67,19.554906968259758]
["2012-01-01",{"$f":"AVERAGE(biweekly!C290:C291)","v":86},25.100328347318495,null,86,25.100328347318495]
["2012-02-01",{"$f":"AVERAGE(biweekly!C292:C293)","v":88},25.684056913535208,null,88,25.684056913535208]
["2012-03-01",{"$f":"AVERAGE(biweekly!C294:C295)","v":103.5},30.207953301714703,null,103.5,30.207953301714703]
["2012-04-01",{"$f":"AVERAGE(biweekly!C296:C297)","v":116},33.856256840569138,null,116,33.856256840569138]
["2012-05-01",{"$f":"AVERAGE(biweekly!C298:C299)","v":103},30.062021160160523,null,103,30.062021160160523]
["2012-06-01",{"$f":"AVERAGE(biweekly!C300:C301)","v":85},24.808464064210142,null,85,24.808464064210142]
["2012-07-01",{"$f":"AVERAGE(biweekly!C302:C303)","v":97},28.310835461510397,null,97,28.310835461510397]
["2012-08-01",{"$f":"AVERAGE(biweekly!C304:C305)","v":94},27.435242612185334,null,94,27.435242612185334]
["2012-09-01",{"$f":"AVERAGE(biweekly!C306:C307)","v":96},28.01897117840204,null,96,28.01897117840204]
["2012-10-01",{"$f":"AVERAGE(biweekly!C308:C309)","v":89.5},26.121853338197738,null,89.5,26.121853338197738]
["2012-11-01",{"$f":"AVERAGE(biweekly!C310:C311)","v":62.5},18.241517694272165,null,62.5,18.241517694272165]
["2012-12-01",{"$f":"AVERAGE(biweekly!C312:C313)","v":63.5},18.533381977380518,null,63.5,18.533381977380518]
["2013-01-01",{"$f":"AVERAGE(biweekly!C314:C315)","v":63.5},18.533381977380518,null,63.5,18.533381977380518]
["2013-02-01",{"$f":"AVERAGE(biweekly!C316:C317)","v":68.5},19.992703392922291,null,68.5,19.992703392922291]
["2013-03-01",{"$f":"AVERAGE(biweekly!C318:C319)","v":87.5},25.538124771981032,null,87.5,25.538124771981032]
["2013-04-01",{"$f":"AVERAGE(biweekly!C319:C320)","v":90.5},26.413717621306095,null,90.5,26.413717621306095]
["2013-05-01",{"$f":"AVERAGE(biweekly!C322:C323)","v":92},26.851514045968621,null,92,26.851514045968621]
["2013-06-01",{"$f":"AVERAGE(biweekly!C324:C325)","v":85},24.808464064210142,null,85,24.808464064210142]
["2013-07-01",{"$f":"AVERAGE(biweekly!C326:C327)","v":82},23.932871214885079,null,82,23.932871214885079]
["2013-08-01",{"$f":"AVERAGE(biweekly!C328:C329)","v":101},29.478292593943817,null,101,29.478292593943817]
["2013-09-01",{"$f":"AVERAGE(biweekly!C330:C331)","v":81},23.641006931776722,null,81,23.641006931776722]
["2013-10-01",{"$f":"AVERAGE(biweekly!C332:C333)","v":87},25.392192630426852,null,87,25.392192630426852]
["2013-11-01",{"$f":"AVERAGE(biweekly!C334:C335)","v":74.5},21.74388909157242,null,74.5,21.74388909157242]
["2013-12-01",{"$f":"AVERAGE(biweekly!C336:C337)","v":55},16.052535570959503,null,55,16.052535570959503]
["2014-01-01",{"$f":"AVERAGE(biweekly!C338:C339)","v":67.5},19.700839109813938,null,67.5,19.700839109813938]
["2014-02-01",{"$f":"AVERAGE(biweekly!C340:C341)","v":65},{"$f":"(B171/$D$2)*100","v":18.971178402043051},null,65,18.971178402043051]
["2014-03-01",{"$f":"AVERAGE(biweekly!C342:C343)","v":84},24.516599781101789,null,84,24.516599781101789]
["2014-04-01",{"$f":"AVERAGE(biweekly!C344:C345)","v":89},25.975921196643558,null,89,25.975921196643558]
["2014-05-01",{"$f":"AVERAGE(biweekly!C346:C347)","v":75.5},22.035753374680773,null,75.5,22.035753374680773]
["2014-06-01",{"$f":"AVERAGE(biweekly!C348:C349)","v":84.5},24.662531922655965,null,84.5,24.662531922655965]
["2014-07-01",{"$f":"AVERAGE(biweekly!C350:C351)","v":73.5},21.452024808464067,null,73.5,21.452024808464067]
["2014-08-01",{"$f":"AVERAGE(biweekly!C352:C353)","v":81.5},23.786939073330903,null,81.5,23.786939073330903]
["2014-09-01",{"$f":"AVERAGE(biweekly!C354:C355)","v":90.5},26.413717621306095,null,90.5,26.413717621306095]
["2014-10-01",{"$f":"AVERAGE(biweekly!C356:C357)","v":81},23.641006931776722,null,81,23.641006931776722]
["2014-11-01",{"$f":"AVERAGE(biweekly!C358:C359)","v":68},19.846771251368114,null,68,19.846771251368114]
["2014-12-01",{"$f":"AVERAGE(biweekly!C360:C361)","v":48.5},14.155417730755198,null,48.5,14.155417730755198]
["2015-01-01",{"$f":"AVERAGE(biweekly!C362:C363)","v":60},17.511856986501275,null,60,17.511856986501275]
["2015-02-01",{"$f":"AVERAGE(biweekly!C364:C365)","v":73},21.306092666909887,null,73,21.306092666909887]
["2015-03-01",{"$f":"AVERAGE(biweekly!C366:C367)","v":79},23.057278365560013,null,79,23.057278365560013]
["2015-04-01",{"$f":"AVERAGE(biweekly!C368:C369)","v":80},23.349142648668369,null,80,23.349142648668369]
["2015-05-01",{"$f":"AVERAGE(biweekly!C370:C371)","v":64},18.679314118934695,null,64,18.679314118934695]
["2015-06-01",{"$f":"AVERAGE(biweekly!C372:C373)","v":58.5},17.074060561838746,null,58.5,17.074060561838746]
["2015-07-01",{"$f":"AVERAGE(biweekly!C374:C375)","v":54.5},{"$f":"(B188/$D$2)*100","v":15.906603429405328},null,54.5,15.906603429405328]
["2015-08-01",62.5,{"$f":"(B189/$D$2)*100","v":18.241517694272165}]
["2015-09-01",60,17.511856986501275]
["2015-10-01",47.5,13.863553447646845]
["2015-11-01",46,13.42575702298431]
["2015-12-01",36.5,10.653046333454943]
["2016-01-01",40.5,11.820503465888361]
["2016-02-01",45.5,13.279824881430136]
["2016-03-01",42.5,12.404232032105071]
["2016-04-01",37.5,10.944910616563298]
["2016-05-01",34.5,10.069317767238234]
["2016-06-01",36.5,10.653046333454943]
["2016-07-01",53,15.468807004742793]
["2016-08-01",40,11.674571324334185]
["2016-09-01",36.5,10.653046333454943]
["2016-10-01"]
["2016-11-01"]
["2016-12-01"]

{"sheet":"biweekly","index":1,"n_rows":409,"n_cols":4,"rows_kept":409,"cut":false,"hidden":false,"merged":[]}
["month","sunday","help wanted","year"]
["jan","1st",267,2000]
[null,"last",342]
["feb","1st",355]
[null,"last",291]
["mar","1st",329]
[null,"last",345]
["apr","1st",349]
[null,"last",414]
["may","1st",332]
[null,"last",377]
["jun","1st",366]
[null,"last",357]
["jul","1st",298]
[null,"last",393]
["aug","1st",418]
[null,"last",405]
["sep","1st",404]
[null,"last",387]
["oct","1st",341]
[null,"last",366]
["vov","1st",340]
[null,"last",258]
["dec","1st",283]
[null,"last",206]
["jan","1st",320,2001]
[null,"last",277]
["feb","1st",291]
[null,"last",269]
["mar","1st",256]
[null,"last",294]
["apr","1st",227]
[null,"last",286]
["may","1st",259]
[null,"last",281]
["jun","1st",294]
[null,"last",267]
["jul","1st",234]
[null,"last",269]
["aug","1st",308]
[null,"last",336]
["sep","1st",287]
[null,"last",279]
["oct","1st",254]
[null,"last",243]
["vov","1st",239]
[null,"last",179]
["dec","1st",214]
[null,"last",154]
["jan","1st",207,2002]
[null,"last",172]
["feb","1st",183]
[null,"last",198]
["mar","1st",230]
[null,"last",210]
["apr","1st",215]
[null,"last",240]
["may","1st",232]
[null,"last",210]
["jun","1st",211]
[null,"last",205]
["jul","1st",204]
[null,"last",268]
["aug","1st",249]
[null,"last",264]
["sep","1st",244]
[null,"last",217]
["oct","1st",218]
[null,"last",227]
["vov","1st",211]
[null,"last",196]
["dec","1st",152]
[null,"last",124]
["jan","1st",140,2003]
[null,"last",196]
["feb","1st",177]
[null,"last",101]
["mar","1st",195]
[null,"last",225]
["apr","1st",227]
[null,"last",221]
["may","1st",236]
[null,"last",221]
["jun","1st",237]
[null,"last",216]
["jul","1st",154]
[null,"last",226]
["aug","1st",208]
[null,"last",220]
["sep","1st",229]
[null,"last",193]
["oct","1st",199]
[null,"last",194]
["vov","1st",197]
[null,"last",148]
["dec","1st",182]
[null,"last",119]
["jan","1st",148,2004]
[null,"last",215]
["feb","1st",198]
[null,"last",229]
["mar","1st",209]
[null,"last",211]
["apr","1st",234]
[null,"last",273]
["may","1st",303]
[null,"last",200]
["jun","1st",210]
[null,"last",193]
["jul","1st",171]
[null,"last",276]
["aug","1st",254]
[null,"last",248]
["sep","1st",236]
[null,"last",251]
["oct","1st",244]
[null,"last",230]
["nov","1st",207]
[null,"last",154]
["dec","1st",186]
[null,"last",134]
["jan","1st",187,2005]
[null,"last",197]
["feb","1st",226]
[null,"last",205]
["mar","1st",214]
[null,"last",199]
["apr","1st",221]
[null,"last",238]
["may","1st",281]
[null,"last",255]
["jun","1st",253]
[null,"last",233]
["jul","1st",208]
[null,"last",283]
["aug","1st",290]
[null,"last",265]
["sep","1st",221]
[null,"last",233]
["oct","1st",243]
[null,"last",225]
["nov","1st",227]
[null,"last",169]
["dec","1st",207]
[null,"last",118]
["jan","1st",164,2006]
[null,"last",198]
["feb","1st",211]
[null,"last",221]
["mar","1st",236]
[null,"last",225]
["apr","1st",241]
[null,"last",246]
["may","1st",264]
[null,"last",243]
["jun","1st",247]
[null,"last",234]
["jul","1st",212]
[null,"last",258]
["aug","1st",253]
[null,"last",261]
["sep","1st",216]
[null,"last",214]
["oct","1st",201]
[null,"last",235]
["nov","1st",214]
[null,"last",166]
["dec","1st",203]
[null,"last",155]
["jan","1st",201,2007]
[null,"last",191]
["feb","1st",195]
[null,"last",187]
["mar","1st",211]
[null,"last",241]
["apr","1st",231]
[null,"last",249]
["may","1st",232]
[null,"last",211]
["jun","1st",228]
[null,"last",226]
["jul","1st",224]
[null,"last",238]
["aug","1st",234]
[null,"last",265]
["sep","1st",224]
[null,"last",268]
["oct","1st",250]
[null,"last",231]
["nov","1st",205]
[null,"last",151]
["dec","1st",197]
[null,"last",157]
["jan","1st",199,2008]
[null,"last",163]
["feb","1st",141]
[null,"last",201]
["mar","1st",179]
[null,"last",210]
["apr","1st",216]
[null,"last",235]
["may","1st",211]
[null,"last",207]
["jun","1st",208]
[null,"last",187]
["jul","1st",152]
[null,"last",192]
["aug","1st",174]
[null,"last",154]
["sep","1st",183]
[null,"last",172]
["oct","1st",161]
[null,"last",137]
["nov","1st",123]
[null,"last",101]
["dec","1st",119]
[null,"last",74]
["jan","1st",92,2009]
[null,"last",87]
["feb","1st",98]
[null,"last",73]
["mar","1st",78]
[null,"last",95]
["apr","1st",87]
[null,"last",80]
["may","1st",80]
[null,"last",83]
["jun","1st",78]
[null,"last",92]
["jul","1st",68]
[null,"last",101]
["aug","1st",87]
[null,"last",127]
["sep","1st",100]
[null,"last",96]
["oct","1st",81]
[null,"last",86]
["nov","1st",71]
[null,"last",53]
["dec","1st",72]
[null,"last",47]
["jan","1st",55,2010]
[null,"last",92]
["feb","1st",73]
[null,"last",81]
["mar","1st",75]
[null,"last",87]
["apr","1st",85]
[null,"last",101]
["may","1st",94]
[null,"last",72]
["jun","1st",81]
[null,"last",103]
["jul","1st",72]
[null,"last",85]
["aug","1st",107]
[null,"last",111]
["sep","1st",112]
[null,"last",111]
["oct","1st",92]
[null,"last",101]
["nov","1st",82]
[null,"last",58]
["dec","1st",80]
[null,"last",62]
["jan","1st",72,2011]
[null,"last",84]
["feb","1st",82]
[null,"last",78]
["mar","1st",87]
[null,"last",69]
["apr","1st",90]
[null,"last",97]
["may","1st",110]
[null,"last",97]
["jun","1st",84]
[null,"last",100]
["jul","1st",95]
[null,"last",95]
["aug","1st",102]
[null,"last",110]
["sep","1st",95]
[null,"last",95]
["oct","1st",104]
[null,"last",105]
["nov","1st",107]
[null,"last",69]
["dec","1st",72]
[null,"last",62]
["jan","1st",75,2012]
[null,"last",97]
["feb","1st",86]
[null,"last",90]
["mar","1st",92]
[null,"last",115]
["apr","1st",118]
[null,"last",114]
["may","1st",124]
[null,"last",82]
["jun","1st",87]
[null,"last",83]
["jul","1st",89]
[null,"last",105]
["aug","1st",94]
[null,"last",94]
["sep","1st",91]
[null,"last",101]
["oct","1st",95]
[null,"last",84]
["nov","1st",79]
[null,"last",46]
["dec","1st",75]
[null,"last",52]
["jan","1st",60,2013]
[null,"last",67]
["feb","1st",56]
[null,"last",81]
["mar","1st",94]
[null,"last",81]
["apr","1st",100]
[null,"last",82]
["may","1st",99]
[null,"last",85]
["jun","1st",76]
[null,"last",94]
["jul","1st",79]
[null,"last",85]
["aug","1st",109]
[null,"last",93]
["sep","1st",68]
[null,"last",94]
["oct","1st",82]
[null,"last",92]
["nov","1st",71]
[null,"last",78]
["dec","1st",59]
[null,"last",51]
["jan","1st",67,2014]
[null,"last",68]
["feb","1st",59]
[null,"last",71]
["mar","1st",85]
[null,"last",83]
["apr","1st",80]
[null,"last",98]
["may","1st",78]
[null,"last",73]
["jun","1st",79]
[null,"last",90]
["jul","1st",67]
[null,"last",80]
["aug","1st",82]
[null,"last",81]
["sep","1st",91]
[null,"last",90]
["oct","1st",85]
[null,"last",77]
["nov","1st",77]
[null,"last",59]
["dec","1st",54]
[null,"last",43]
["jan","1st",56,2015]
[null,"last",64]
["feb","1st",63]
[null,"last",83]
["mar","1st",80]
[null,"last",78]
["apr","1st",70]
[null,"last",90]
["may","1st",70]
[null,"last",58]
["jun","1st",56]
[null,"last",61]
["jul","1st",56]
[null,"last",53]
["aug","1st",63]
[null,"last",62]
["sep","1st",63]
[null,"last",57]
["oct","1st",46]
[null,"last",49]
["nov","1st",51]
[null,"last",41]
["dec","1st",46]
[null,"last",27]
["jan","1st",30,2016]
[null,"last",51]
["feb","1st",42]
[null,"last",49]
["mar","1st",44]
[null,"last",39]
["apr","1st",34]
[null,"last",41]
["may","1st",38]
[null,"last",31]
["jun","1st",34]
[null,"last",39]
["jul","1st",52]
[null,"last",54]
["aug","1st",41]
[null,"last",39]
["sep","1st",33]
[null,"last",40]
["oct","1st"]
[null,"last"]
["nov","1st"]
[null,"last"]
["dec","1st"]
[null,"last"]

{"sheet":"data through Sept 2016","index":2,"n_rows":84,"n_cols":13,"rows_kept":84,"cut":false,"hidden":false,"merged":[]}
[null,2000]
[null,"Jan.","Feb. ","March","April","May","June ","July","Aug.","Sept. ","Oct.","Nov.","Dec."]
["1st",267,355,329,349,332,366,298,418,404,341,340,283]
["last",342,291,345,414,377,357,393,405,387,366,258,206]
[]
[null,2001]
[null,"Jan.","Feb. ","March","April","May","June ","July","Aug.","Sept. ","Oct.","Nov.","Dec."]
["1st",320,291,256,227,259,294,234,308,287,254,239,214]
["last",277,269,294,286,281,267,269,336,279,243,179,154]
[]
[null,2002]
[null,"Jan.","Feb. ","March","April","May","June ","July","Aug.","Sept. ","Oct.","Nov.","Dec."]
["1st",207,183,230,215,232,211,204,249,244,218,211,152]
["last",172,198,210,240,210,205,268,264,217,227,196,124]
[]
[null,2003]
[null,"Jan.","Feb. ","March","April","May","June ","July","Aug.","Sept. ","Oct.","Nov.","Dec."]
["1st",140,177,195,227,236,237,154,208,229,199,197,182]
["last",196,101,225,221,221,216,226,220,193,194,148,119]
[]
[null,2004]
[null,"Jan.","Feb. ","March","April","May","June ","July","Aug.","Sept. ","Oct.","Nov.","Dec."]
["1st",148,198,209,234,303,210,171,254,236,244,207,186]
["last",215,229,211,273,200,193,276,248,251,230,154,134]
[]
[null,2005]
[null,"Jan.","Feb. ","March","April","May","June ","July","Aug.","Sept. ","Oct.","Nov.","Dec."]
["1st",187,226,214,221,281,253,208,290,221,243,227,207]
["last",197,205,199,238,255,233,283,265,233,225,169,118]
[]
[null,2006]
[null,"Jan.","Feb. ","March","April","May","June","July","Aug.","Sept.","Oct.","Nov.","Dec."]
["1st",164,211,236,241,264,247,212,253,216,201,214,203]
["last",198,221,225,246,243,234,258,261,214,235,166,155]
[]
[null,2007]
[null,"Jan.","Feb. ","March","April","May","June","July","Aug.","Sept.","Oct.","Nov.","Dec."]
["1st",201,195,211,231,232,228,224,234,224,250,205,197]
["last",191,187,241,249,211,226,238,265,268,231,151,157]
[]
[null,2008]
[null,"Jan.","Feb. ","March","April","May","June","July","Aug.","Sept.","Oct.","Nov.","Dec."]
["1st",199,141,179,216,211,208,152,174,183,161,123,119]
["last",163,201,210,235,207,187,192,154,172,137,101,74]
[]
[null,2009]
[null,"Jan.","Feb. ","March","April","May","June","July","Aug.","Sept.","Oct.","Nov.","Dec."]
["1st",92,98,78,87,80,78,68,87,100,81,71,72]
["last",87,73,95,80,83,92,101,127,96,86,53,47]
[]
[null,2010]
[null,"Jan.","Feb. ","March","April","May","June","July","Aug.","Sept.","Oct.","Nov.","Dec."]
["1st",55,73,75,85,94,81,72,107,112,92,82,80]
["last",92,81,87,101,72,103,85,111,111,101,58,62]
[]
[null,2011]
[null,"Jan.","Feb. ","March","April","May","June","July","Aug.","Sept.","Oct.","Nov.","Dec."]
["1st",72,82,87,90,110,84,95,102,95,104,107,72]
["last",84,78,69,97,97,100,95,110,95,105,69,62]
[]
[null,2012]
[null,"Jan.","Feb. ","March","April","May","June","July","Aug.","Sept.","Oct.","Nov.","Dec."]
["1st",75,86,92,118,124,87,89,94,91,95,79,75]
["last",97,90,115,114,82,83,105,94,101,84,46,52]
[]
[null,2013]
[null,"Jan.","Feb. ","March","April","May","June","July","Aug.","Sept.","Oct.","Nov.","Dec."]
["1st",60,56,94,100,99,76,79,109,68,82,71,59]
["last",67,81,81,82,85,94,85,93,94,92,78,51]
[]
[null,2014]
[null,"Jan.","Feb. ","March","April","May","June","July","Aug.","Sept.","Oct.","Nov.","Dec."]
["1st",67,59,85,80,78,79,67,82,91,85,77,54]
["last",68,71,83,98,73,90,80,81,90,77,59,43]
[]
[null,2015]
[null,"Jan.","Feb. ","March","April","May","June","July","Aug.","Sept.","Oct.","Nov.","Dec."]
["1st",56,63,80,70,70,56,56,63,63,46,51,46]
["last",64,83,78,90,58,61,53,62,57,49,41,27]
[]
[null,2016]
[null,"Jan.","Feb. ","March","April","May","June","July","Aug.","Sept.","Oct.","Nov.","Dec."]
["1st",30,42,44,34,38,34,52,41,33]
["last",51,49,39,41,31,39,54,39,40]

{"sheet":"mnth-mnth","index":3,"n_rows":98,"n_cols":15,"rows_kept":98,"cut":false,"hidden":false,"merged":[]}
["lt_hwa_01=100","jan","feb","mar","apr","may","jun","jul","aug","sep","oct","nov","dec","ytd_avg"]
[2003,49,40.6,61.3,65.400000000000006,66.7,66.099999999999994,55.5,62.5,61.6,57.4,50.3,43.9,{"$f":"AVERAGE(B2:M2)","v":56.691666666666663},{"$f":"AVERAGE(B2:M2)","v":56.691666666666663}]
[2004,53,62.3,61.3,74,73.400000000000006,58.8,65.2,73.3,71.099999999999994,69.2,52.7,46.7,63.416666666666679,63.416666666666679]
[2005,56,62.9,60.3,67,78.2,70.900000000000006,71.7,81,66.3,68.3,57.8,47.4,65.649999999999991,65.649999999999991]
[2006,52.8,63,67.3,71.099999999999994,74,71.5,68.599999999999994,75,62.8,63.6,55.5,52.2,64.783333333333331,64.783333333333331]
[2007,57.2,55.7,66,70,64.599999999999994,66.3,67.400000000000006,72.8,71.8,70.2,52,51.7,63.808333333333337,63.808333333333337]
[2008,52.8,49.9,56.8,65.8,61,57.6,50.2,47.9,51.8,43.5,32.700000000000003,28.2,49.85,49.85]
[2009,26.1,25,25.2,24.4,23.8,24.8,24.7,31.2,28.6,24.4,18.100000000000001,17.399999999999999,{"$f":"AVERAGE(B8:M8)","v":24.474999999999994},24.474999999999994]
[2010,21.5,22.5,23.6,27.1,24.2,26.9,22.9,31.8,32.5,28.2,20.399999999999999,20.7,25.191666666666663,25.191666666666663]
[2011,22.8,23.3,22.8,27.3,30.2,26.9,27.7,30.9,27.7,30.5,25.7,19.600000000000001,26.283333333333335,26.283333333333335]
[2012,25.1,25.7,30.2,33.9,30.1,24.8,28.3,27.4,28,26.1,18.2,18.5,26.358333333333334,{"$f":"AVERAGE(B11:M11)","v":26.358333333333334}]
[2013,18.5,20,25.5,26.4,26.9,24.8,23.9,29.5,23.6,25.4,21.7,16.100000000000001,23.525000000000006,{"$f":"AVERAGE(B12:M12)","v":23.525000000000006}]
[2014,19.7,19,24.5,26,22,24.7,21.5,23.8,26.4,23.6,19.8,14.2,22.100000000000005,{"$f":"AVERAGE(B13:M13)","v":22.100000000000005}]
[2015,14.447282013863552,17.511856986501275,18.533381977380518,21.306092666909887,23.786939073330903,23.057278365560013,21.59795695001824,{"$nulls":5},{"$f":"AVERAGE(B14:H14)","v":20.034398290509195},{"$f":"AVERAGE(B14:M14)","v":20.034398290509195}]
[null,"jan-dec","feb-jan","mar-feb","apr-mar","may-apr","jun-may","jul-jun","aug-jul","sep-aug","oct-sep","nov-oct","dec-nov"]
["change_04",{"$f":"B3-M2","v":9.1000000000000014},{"$f":"C3-B3","v":9.2999999999999972},{"$f":"D3-C3","v":-1},12.700000000000003,-0.59999999999999432,-14.600000000000009,6.4000000000000057,8.0999999999999943,-2.2000000000000028,-1.8999999999999915,-16.5,-6]
["%change_04",{"$f":"(B16/M2)*100","v":20.728929384965834},{"$f":"(C16/B3)*100","v":17.547169811320749},{"$f":"(D16/C3)*100","v":-1.605136436597111},20.717781402936382,-0.81081081081080308,-19.891008174386933,10.884353741496609,12.423312883435573,-3.0013642564802221,-2.6722925457102553,-23.843930635838149,-11.385199240986717]
[null,"jan","feb","mar","apr","may","jun","jul","aug","sep","oct","nov","dec","ytd_avg"]
["chg_prv_04-03",{"$f":"B3-B2","v":4},{"$f":"C3-C2","v":21.699999999999996},0,8.5999999999999943,6.7000000000000028,-7.2999999999999972,9.7000000000000028,10.799999999999997,9.4999999999999929,11.800000000000004,2.4000000000000057,2.8000000000000043,{"$f":"O3-O2","v":6.7250000000000156}]
["%chg_prv_04-03",{"$f":"(B19/B2)*100","v":8.1632653061224492},{"$f":"(C19/C2)*100","v":53.448275862068954},0,13.149847094801215,10.044977511244383,-11.043872919818455,17.477477477477482,17.279999999999994,15.422077922077909,20.557491289198616,4.7713717693837099,6.3781321184510356,{"$f":"(N19/O2)*100","v":11.862413641040746}]
[]
[null,"jan-dec","feb-jan","mar-feb","apr-mar","may-apr","jun-may","jul-jun","aug-jul","sep-aug","oct-sep","nov-oct","dec-nov"]
["change_05",{"$f":"B4-M3","v":9.2999999999999972},{"$f":"C4-B4","v":6.8999999999999986},-2.6000000000000014,6.7000000000000028,11.200000000000003,-7.2999999999999972,0.79999999999999716,9.2999999999999972,-14.700000000000003,2,{"$f":"L4-K4","v":-10.5},{"$f":"M4-L4","v":-10.399999999999999}]
["%change_05",{"$f":"(B23/M3)*100","v":19.914346895074939},{"$f":"(C23/B4)*100","v":12.321428571428569},-4.1335453100159008,11.111111111111116,16.716417910447763,-9.3350383631713516,1.1283497884344105,12.970711297071125,-18.148148148148152,3.0165912518853695,{"$f":"(L23/K4)*100","v":-15.373352855051245},{"$f":"(M23/L4)*100","v":-17.993079584775085}]
[null,"jan","feb","mar","apr","may","jun","jul","aug","sep","oct","nov","dec","ytd_avg"]
["chg_prv_05-04",{"$f":"B4-B3","v":3},0.60000000000000142,-1,-7,4.7999999999999972,12.100000000000009,{"$f":"H4-H3","v":6.5},7.7000000000000028,-4.7999999999999972,-0.90000000000000568,5.0999999999999943,0.69999999999999574,{"$f":"O4-O3","v":2.233333333333313}]
["%chg_prv_05-04",{"$f":"(B26/B3)*100","v":5.6603773584905666},0.96308186195826884,-1.6313213703099512,-9.4594594594594597,6.5395095367847365,20.578231292517021,9.969325153374232,10.504774897680768,-6.7510548523206717,-1.3005780346820892,{"$f":"(L26/L3)*100","v":9.6774193548386975},{"$f":"(M26/M3)*100","v":1.4989293361884277},{"$f":"(N26/O3)*100","v":3.5216819973718465}]
[]
[null,"jan-dec","feb-jan","mar-feb","apr-mar","may-apr","jun-may","jul-jun","aug-jul","sep-aug","oct-sep","nov-oct","dec-nov"]
["change_06",{"$f":"B5-M4","v":5.3999999999999986},{"$f":"C5-B5","v":10.200000000000003},4.2999999999999972,3.7999999999999972,2.9000000000000057,-2.5,-2.9000000000000057,{"$f":"I5-H5","v":6.4000000000000057},{"$f":"J5-I5","v":-12.200000000000003},{"$f":"K5-J5","v":0.80000000000000426},{"$f":"L5-K5","v":-8.1000000000000014},{"$f":"M5-L5","v":-3.2999999999999972}]
["%change_06",{"$f":"(B30/M4)*100","v":11.392405063291136},{"$f":"(C30/B5)*100","v":19.318181818181824},6.8253968253968207,5.6463595839524476,4.0787623066104155,-3.3783783783783785,-4.0559440559440638,{"$f":"(I30/H5)*100","v":9.329446064139951},{"$f":"(J30/I5)*100","v":-16.266666666666669},{"$f":"(K30/J5)*100","v":1.2738853503184782},{"$f":"(L30/K5)*100","v":-12.735849056603776},{"$f":"(M30/L5)*100","v":-5.9459459459459403}]
[null,"jan","feb","mar","apr","may","jun","jul","aug","sep","oct","nov","dec","ytd_avg"]
["chg_prv_06-05",{"$f":"B5-B4","v":-3.2000000000000028},0.10000000000000142,7,4.0999999999999943,-4.2000000000000028,0.59999999999999432,{"$f":"H5-H4","v":-3.1000000000000085},-6,-3.5,-4.6999999999999957,-2.2999999999999972,4.8000000000000043,{"$f":"O5-O4","v":-0.86666666666666003}]
["%chg_prv_06-05",{"$f":"(B33/B4)*100","v":-5.7142857142857197},0.15898251192369067,11.608623548922056,6.1194029850746183,-5.3708439897698241,0.84626234132580291,-4.3235704323570552,{"$f":"(I33/I4)*100","v":-7.4074074074074066},{"$f":"(J33/J4)*100","v":-5.2790346907993966},{"$f":"(K33/K4)*100","v":-6.881405563689599},{"$f":"(L33/L4)*100","v":-3.9792387543252548},{"$f":"(M33/M4)*100","v":10.126582278481022},{"$f":"(N33/O4)*100","v":-1.3201320132013104}]
[]
[null,"jan-dec","feb-jan","mar-feb","apr-mar","may-apr","jun-may","jul-jun","aug-jul","sep-aug","oct-sep","nov-oct","dec-nov"]
["change_07",{"$f":"B6-M5","v":5},{"$f":"C6-B6","v":-1.5},10.299999999999997,4,-5.4000000000000057,1.7000000000000028,1.1000000000000085,5.3999999999999915,-1,-1.5999999999999943,{"$f":"L6-K6","v":-18.200000000000003},{"$f":"M6-L6","v":-0.29999999999999716}]
["%change_07",{"$f":"(B37/M5)*100","v":9.5785440613026811},{"$f":"(C37/B6)*100","v":-2.6223776223776225},18.49192100538599,6.0606060606060606,-7.7142857142857224,2.6315789473684257,1.659125188536966,8.0118694362017671,-1.3736263736263736,-2.2284122562674016,{"$f":"(L37/K6)*100","v":-25.925925925925931},{"$f":"(M37/L6)*100","v":-0.57692307692307154}]
[null,"jan","feb","mar","apr","may","jun","jul","aug","sep","oct","nov","dec","ytd_avg"]
["chg_prv_07-06",{"$f":"B6-B5","v":4.4000000000000057},-7.2999999999999972,-1.2999999999999972,-1.0999999999999943,-9.4000000000000057,-5.2000000000000028,-1.1999999999999886,-2.2000000000000028,{"$f":"J6-J5","v":9},{"$f":"K6-K5","v":6.6000000000000014},{"$f":"L6-L5","v":-3.5},{"$f":"M6-M5","v":-0.5},{"$f":"O6-O5","v":-0.97499999999999432}]
["%chg_prv_07-06",{"$f":"(B40/B5)*100","v":8.3333333333333446},-11.587301587301582,-1.9316493313521503,-1.5471167369901468,-12.702702702702712,-7.2727272727272769,-1.7492711370262224,-2.9333333333333371,{"$f":"(J40/J5)*100","v":14.331210191082802},{"$f":"(K40/K5)*100","v":10.37735849056604},{"$f":"(L40/L5)*100","v":-6.3063063063063058},{"$f":"(M40/M5)*100","v":-0.95785440613026818},{"$f":"(N40/O5)*100","v":-1.505016722408018}]
[]
[null,"jan-dec","feb-jan","mar-feb","apr-mar","may-apr","jun-may","jul-jun","aug-jul","sep-aug","oct-sep","nov-oct","dec-nov"]
["change_08",{"$f":"B7-M6","v":1.0999999999999943},{"$f":"C7-B7","v":-2.8999999999999986},6.8999999999999986,9,-4.7999999999999972,-3.3999999999999986,-7.3999999999999986,{"$f":"I7-H7","v":-2.3000000000000043},{"$f":"J7-I7","v":3.8999999999999986},{"$f":"K7-J7","v":-8.2999999999999972},{"$f":"L7-K7","v":-10.799999999999997},{"$f":"M7-L7","v":-4.5000000000000036}]
["%change_08",{"$f":"(B44/M6)*100","v":2.127659574468074},{"$f":"(C44/B7)*100","v":-5.4924242424242404},13.827655310621239,15.845070422535212,-7.294832826747716,-5.5737704918032769,-12.847222222222218,{"$f":"(I44/H7)*100","v":-4.5816733067729167},{"$f":"(J44/I7)*100","v":8.1419624217118969},{"$f":"(K44/J7)*100","v":-16.02316602316602},{"$f":"(L44/K7)*100","v":-24.827586206896544},{"$f":"(M44/L7)*100","v":-13.761467889908266}]
[null,"jan","feb","mar","apr","may","jun","jul","aug","sep","oct","nov","dec","ytd_avg"]
["chg_prv_08-07",{"$f":"B7-B6","v":-4.4000000000000057},-5.8000000000000043,-9.2000000000000028,-4.2000000000000028,-3.5999999999999943,-8.6999999999999957,{"$f":"H7-H6","v":-17.200000000000003},-24.9,-20,-26.700000000000003,-19.299999999999997,-23.500000000000004,{"$f":"O7-O6","v":-13.958333333333336}]
["%chg_prv_08-07",{"$f":"(B47/B6)*100","v":-7.6923076923077023},-10.412926391382413,-13.939393939393943,-6.0000000000000036,-5.5727554179566479,-13.122171945701352,{"$f":"(H47/H6)*100","v":-25.519287833827896},-34.203296703296701,-27.855153203342621,-38.034188034188041,-37.115384615384613,-45.45454545454546,{"$f":"(N47/O6)*100","v":-21.875408123285883}]
[]
[null,"jan-dec","feb-jan","mar-feb","apr-mar","may-apr","jun-may","jul-jun","aug-jul","sep-aug","oct-sep","nov-oct","dec-nov"]
["change_09",{"$f":"B8-M7","v":-2.0999999999999979},{"$f":"C8-B8","v":-1.1000000000000014},0.19999999999999929,-0.80000000000000071,-0.59999999999999787,1,-0.10000000000000142,6.5,-2.5999999999999979,{"$f":"K8-J8","v":-4.2000000000000028},{"$f":"L8-K8","v":-6.2999999999999972},{"$f":"M8-L8","v":-0.70000000000000284}]
["%change_09",{"$f":"(B51/M7)*100","v":-7.4468085106382906},{"$f":"(C51/B8)*100","v":-4.2145593869731854},0.79999999999999727,-3.1746031746031771,-2.4590163934426141,4.2016806722689068,-0.4032258064516186,26.315789473684209,-8.3333333333333268,{"$f":"(K51/J8)*100","v":-14.685314685314694},{"$f":"(L51/K8)*100","v":-25.819672131147531},{"$f":"(M51/L8)*100","v":-3.8674033149171421}]
[null,"jan","feb","mar","apr","may","jun","jul","aug","sep","oct","nov","dec","ytd_avg"]
["chg_prv_09-08",{"$f":"B8-B7","v":-26.699999999999996},-24.9,-31.599999999999998,-41.4,-37.200000000000003,-32.799999999999997,{"$f":"H8-H7","v":-25.500000000000004},-16.7,-23.199999999999996,-19.100000000000001,-14.600000000000001,-10.8,{"$f":"O8-O7","v":-25.375000000000007}]
["%chg_prv_09-08",{"$f":"(B54/B7)*100","v":-50.568181818181813},-49.899799599198396,-55.633802816901415,-62.91793313069909,-60.983606557377058,-56.944444444444443,{"$f":"(H54/H7)*100","v":-50.796812749003983},-34.864300626304804,-44.78764478764478,-43.908045977011497,-44.648318042813457,-38.297872340425535,{"$f":"(N54/O7)*100","v":-50.902708124373127}]
[]
[null,"jan-dec","feb-jan","mar-feb","apr-mar","may-apr","jun-may","jul-jun","aug-jul","sep-aug","oct-sep","nov-oct","dec-nov"]
["change_10",{"$f":"B9-M8","v":4.1000000000000014},{"$f":"C9-B9","v":1},1.1000000000000014,3.5,-2.9000000000000021,2.6999999999999993,-4,8.9000000000000021,0.69999999999999929,-4.3000000000000007,{"$f":"L9-K9","v":-7.8000000000000007},{"$f":"M9-L9","v":0.30000000000000071}]
["%change_10",{"$f":"(B58/M8)*100","v":23.563218390804607},{"$f":"(C58/B9)*100","v":4.6511627906976747},4.8888888888888955,14.83050847457627,-10.701107011070118,11.157024793388427,-14.869888475836431,38.864628820960711,2.2012578616352179,-13.230769230769232,{"$f":"(L58/K9)*100","v":-27.659574468085108},{"$f":"(M58/L9)*100","v":1.4705882352941213}]
[null,"jan","feb","mar","apr","may","jun","jul","aug","sep","oct","nov","dec","ytd_avg"]
["chg_prv_10-09",{"$f":"B9-B8","v":-4.6000000000000014},-2.5,-1.5999999999999979,2.7000000000000028,0.39999999999999858,2.0999999999999979,{"$f":"H9-H8","v":-1.8000000000000007},0.60000000000000142,3.8999999999999986,3.8000000000000007,2.2999999999999972,3.3000000000000007,{"$f":"O9-O8","v":0.71666666666666856}]
["%chg_prv_10-09",{"$f":"(B61/B8)*100","v":-17.624521072796938},-10,-6.3492063492063409,11.065573770491815,1.6806722689075571,8.4677419354838612,{"$f":"(H61/H8)*100","v":-7.2874493927125545},1.9230769230769278,13.63636363636363,15.573770491803282,12.707182320441973,18.965517241379317,{"$f":"(N61/O8)*100","v":2.9281579843377679}]
[]
[]
[null,"jan-dec","feb-jan","mar-feb","apr-mar","may-apr","jun-may","jul-jun","aug-jul","sep-aug","oct-sep","nov-oct","dec-nov"]
["change_11",{"$f":"B10-M9","v":2.1000000000000014},{"$f":"C10-B10","v":0.5},-0.5,4.5,2.8999999999999986,-3.3000000000000007,0.80000000000000071,3.1999999999999993,-3.1999999999999993,2.8000000000000007,-4.8000000000000007,-6.0999999999999979]
["%change_11",{"$f":"(B66/M9)*100","v":10.144927536231892},{"$f":"(C66/B10)*100","v":2.1929824561403506},-2.1459227467811157,19.736842105263158,10.622710622710617,-10.927152317880799,2.9739776951672887,11.552346570397109,-10.355987055016179,10.108303249097476,-15.737704918032788,-23.735408560311278]
[null,"jan","feb","mar","apr","may","jun","jul","aug","sep","oct","nov","dec","ytd_avg"]
["chg_prv_11-10",{"$f":"B10-B9","v":1.3000000000000007},0.80000000000000071,-0.80000000000000071,0.19999999999999929,6,0,{"$f":"H10-H9","v":4.8000000000000007},-0.90000000000000213,-4.8000000000000007,2.3000000000000007,5.3000000000000007,-1.0999999999999979,{"$f":"O10-O9","v":1.0916666666666721}]
["%chg_prv_11-10",{"$f":"(B69/B9)*100","v":6.0465116279069804},3.5555555555555589,-3.3898305084745792,0.73800738007379807,24.793388429752067,0,{"$f":"(H69/H9)*100","v":20.960698689956338},-2.8301886792452895,-14.76923076923077,8.1560283687943276,25.980392156862752,-5.3140096618357386,{"$f":"(N69/O9)*100","v":4.3334435990737896}]
[]
[null,"jan-dec","feb-jan","mar-feb","apr-mar","may-apr","jun-may","jul-jun","aug-jul","sep-aug","oct-sep","nov-oct","dec-nov"]
["change_12",{"$f":"B11-M10","v":5.5},{"$f":"C11-B11","v":0.59999999999999787},4.5,3.6999999999999993,-3.7999999999999972,-5.3000000000000007,3.5,{"$f":"I11-H11","v":-0.90000000000000213},0.60000000000000142,{"$f":"K11-J11","v":-1.8999999999999986},{"$f":"L11-K11","v":-7.9000000000000021},0.30000000000000071]
["%change_12",{"$f":"(B73/M10)*100","v":28.061224489795915},{"$f":"(C73/B11)*100","v":2.3904382470119434},17.509727626459146,12.251655629139071,-11.209439528023591,-17.607973421926911,14.11290322580645,-3.1802120141342831,2.1897810218978155,{"$f":"(K73/J11)*100","v":-6.7857142857142811},{"$f":"(L73/K11)*100","v":-30.26819923371648},1.6483516483516523]
[null,"jan","feb","mar","apr","may","jun","jul","aug","sep","oct","nov","dec","ytd_avg"]
["chg_prv_12-11",{"$f":"B11-B10","v":2.3000000000000007},2.3999999999999986,7.3999999999999986,6.5999999999999979,-9.9999999999997868E-2,-2.0999999999999979,{"$f":"H11-H10","v":0.60000000000000142},-3.5,{"$f":"J11-J10","v":0.30000000000000071},-4.3999999999999986,-7.5,{"$f":"M11-M10","v":-1.1000000000000014},{"$f":"O11-O10","v":7.4999999999999289E-2}]
["%chg_prv_12-11",{"$f":"(B76/B10)*100","v":10.087719298245617},10.300429184549349,32.456140350877192,24.175824175824168,-0.33112582781456246,-7.8066914498141182,2.1660649819494635,{"$f":"(I76/I10)*100","v":-11.326860841423949},1.0830324909747318,{"$f":"(K76/K10)*100","v":-14.426229508196716},-29.18287937743191,{"$f":"(M76/M10)*100","v":-5.612244897959191},{"$f":"(N76/O10)*100","v":0.28535193405199472}]
[]
[null,"jan-dec","feb-jan","mar-feb","apr-mar","may-apr","jun-may","jul-jun","aug-jul","sep-aug","oct-sep","nov-oct","dec-nov"]
["change_13",{"$f":"B12-M11","v":0},{"$f":"C12-B12","v":1.5},{"$f":"D12-C12","v":5.5},{"$f":"E12-D12","v":0.89999999999999858},{"$f":"F12-E12","v":0.5},-2.0999999999999979,-0.90000000000000213,5.6000000000000014,-5.8999999999999986,1.7999999999999972,-3.6999999999999993,-5.5999999999999979]
["%change_13",{"$f":"(B80/M11)*100","v":0},{"$f":"(C80/B12)*100","v":8.1081081081081088},{"$f":"(D80/C12)*100","v":27.500000000000004},{"$f":"(E80/D12)*100","v":3.5294117647058769},{"$f":"(F80/E12)*100","v":1.893939393939394},-7.8066914498141182,-3.6290322580645249,23.430962343096244,-19.999999999999996,7.6271186440677843,-14.566929133858267,-25.806451612903221]
[null,"jan","feb","mar","apr","may","jun","jul","aug","sep","oct","nov","dec","ytd_avg"]
["chg_prv_13-12",{"$f":"B12-B11","v":-6.6000000000000014},{"$f":"C12-C11","v":-5.6999999999999993},{"$f":"D12-D11","v":-4.6999999999999993},{"$f":"E12-E11","v":-7.5},{"$f":"F12-F11","v":-3.2000000000000028},0,{"$f":"H12-H11","v":-4.4000000000000021},2.1000000000000014,{"$f":"J12-J11","v":-4.3999999999999986},-0.70000000000000284,{"$f":"L12-L11","v":3.5},-2.3999999999999986,{"$f":"O12-O11","v":-2.8333333333333286}]
["%chg_prv_13-12",{"$f":"(B83/B11)*100","v":-26.294820717131479},{"$f":"(C83/C11)*100","v":-22.178988326848248},{"$f":"(D83/D11)*100","v":-15.562913907284766},{"$f":"(E83/E11)*100","v":-22.123893805309734},{"$f":"(F83/F11)*100","v":-10.631229235880408},0,{"$f":"(H83/H11)*100","v":-15.547703180212022},7.6642335766423413,{"$f":"(J83/J11)*100","v":-15.714285714285708},-2.6819923371647616,{"$f":"(L83/L11)*100","v":19.230769230769234},-12.972972972972965,{"$f":"(N83/O11)*100","v":-10.74928865001579}]
[]
[null,"jan-dec","feb-jan","mar-feb","apr-mar","may-apr","jun-may","jul-jun","aug-jul","sep-aug","oct-sep","nov-oct","dec-nov"]
["change_14",{"$f":"B13-M12","v":3.5999999999999979},{"$f":"C13-B13","v":-0.69999999999999929},5.5,1.5,-4,2.6999999999999993,-3.1999999999999993,2.3000000000000007,2.5999999999999979,-2.7999999999999972,-3.8000000000000007,-5.6000000000000014]
["%change_14",{"$f":"(B87/M12)*100","v":22.360248447204953},{"$f":"(C87/B13)*100","v":-3.5532994923857837},28.947368421052634,6.1224489795918364,-15.384615384615385,12.27272727272727,-12.955465587044532,10.697674418604654,10.924369747899149,-10.606060606060595,-16.101694915254239,-28.282828282828287]
[null,"jan","feb","mar","apr","may","jun","jul","aug","sep","oct","nov","dec","ytd_avg"]
["chg_prv_14-13",{"$f":"B13-B12","v":1.1999999999999993},-1,-1,-0.39999999999999858,-4.8999999999999986,-0.10000000000000142,{"$f":"H13-H12","v":-2.3999999999999986},-5.6999999999999993,{"$f":"J13-J12","v":2.7999999999999972},-1.7999999999999972,{"$f":"L13-L12","v":-1.8999999999999986},-1.9000000000000021,{"$f":"O13-O12","v":-1.4250000000000007}]
["%chg_prv_14-13",{"$f":"(B90/B12)*100","v":6.4864864864864824},-5,-3.9215686274509802,-1.5151515151515098,-18.215613382899623,-0.4032258064516186,{"$f":"(H90/H12)*100","v":-10.041841004184095},-19.322033898305083,{"$f":"(J90/J12)*100","v":11.864406779661005},-7.0866141732283356,{"$f":"(L90/L12)*100","v":-8.755760368663589},-11.801242236024857,{"$f":"(N90/O12)*100","v":-6.0573857598299696}]
[]
[null,"jan-dec","feb-jan","mar-feb","apr-mar","may-apr","jun-may","jul-jun","aug-jul","sep-aug","oct-sep","nov-oct","dec-nov"]
["change_15",{"$f":"B14-M13","v":0.24728201386355231},{"$f":"C14-B14","v":3.0645749726377236},{"$f":"D14-C14","v":1.021524990879243},2.7727106895293687,2.4808464064210156,-0.72966070777088987,-1.4593214155417726]
["%change_15",{"$f":"(B94/M13)*100","v":1.7414226328419178},{"$f":"(C94/B14)*100","v":21.212121212121215},{"$f":"(D94/C14)*100","v":5.8333333333333446},{"$f":"(E94/D14)*100","v":14.960629921259841},11.643835616438363,-3.0674846625767009,-6.329113924050632]
[null,"jan","feb","mar","apr","may","jun","jul","aug","sep","oct","nov","dec","ytd_avg_total"]
["chg_prv_15-14",{"$f":"B14-B13","v":-5.2527179861364477},{"$f":"C14-C13","v":-1.4881430134987248},{"$f":"D14-D13","v":-5.9666180226194818},-4.6939073330901131,1.7869390733309025,-1.6427216344399866,9.7956950018240008E-2,{"$nulls":5},{"$f":"N14-N13","v":-2.0656017094908101}]
["%chg_prv_15-14",{"$f":"(B97/B13)*100","v":-26.663543076834763},{"$f":"(C97/C13)*100","v":-7.8323316499932893},{"$f":"(D97/D13)*100","v":-24.353542949467272},-18.053489742654278,8.1224503333222842,-6.6506948762752494,0.45561372101506981,{"$nulls":5},{"$f":"(N97/N13)*100","v":-9.3466140700941622}]

{"sheet":"work details","index":4,"n_rows":20,"n_cols":2,"rows_kept":20,"cut":false,"hidden":false,"merged":[]}
["Leader – Telegram: Help-Wanted Ads"]
[]
["cvcerd folder, economic indicators folder, data, folder, empl_unempl_jobs folder"]
["File names: : lt_hlp_wntd_1stlastsun_date.xls, lt_hlp_wntd.xls"]
[]
[]
["Contact: Lisa Behlke","lisa.behlke@ecpc.com      715-833-9268 (ext 14)"]
["-Sent directly to me by email about the 15th of each month "]
[]
["I receive the number of ads appearing in the paper on the first and last Sunday of each month. This data is in the spreadsheet “lt_hlp_wntd_1stlastsun_date.xls” "]
[]
["-This data is then entered into another spreadsheet named “lt_hlp_wntd.xls” in the biweekly tab "]
["-Calculate average of 1st and last numbers in monthly tab"]
["-Pull down index formula"]
[]
["lt_hwa – An average of Leader Telegram Help Wanted Ads (index base 2000=100)"]
[]
[]
["Report: Page 10     "]
["Web Data Folder, employment folder, cvcerd_hlp_wntd_data_2010-2019.xls"]

{"sheet":"graphs","index":5,"n_rows":0,"n_cols":0,"rows_kept":0,"cut":false,"hidden":false,"merged":[]}