{"text_format":"2","workbook":"xlsx","n_sheets":6,"sheets":["data","Work details","Eau Claire data","Chippewa data","mnth-mnth","graphs"],"not_rendered":{"charts":6,"images":14,"macros":0,"external_links":0,"defined_names":0,"comments":0,"pivot_tables":0},"unopened":[],"bounds":{"document_bytes":16777216,"sheet_cells":100000,"run_cost":"one","rows_first":2000,"rows_last":500,"rows_between":2000,"halvings":0,"cell_chars":16384,"cell_head_chars":4096},"cells_cut":0,"cells_raw":0,"read":"whole","date_system":"1900"}

{"sheet":"data","index":0,"n_rows":217,"n_cols":30,"rows_kept":217,"cut":false,"hidden":false,"merged":[]}
["month","# residential homes sold EC","$ residential homes sold EC","average $ residential homes sold EC","median $ residential homes EC","average days on market EC","Real $ residential homes sold EC","ec_avg_rp_r96","ec_med_rp_r96","# of residential homes sold CH","$ residential homes sold CH","average $ residential homes sold CH","median $ residential homes sold CH","average days on market CH","ch_vrps_r96","ch_avg_rp_r96","ch_med_rp_r96","# residential homes sold EC-MSA","Value homes sold EC-MSA","average $ of residential homes sold ED-MSA","median $ residential homes sold EC-MSA","average days on market EC-MSA","EC value weight","CH value weight","ecch_vrps_r96","ecch_avg_rp_r96","ecch_med_rp_r96","mw_u_cpi","mw_u_cpi_96","base: 1996=100"]
["1999-01-01"]
["1999-02-01"]
["1999-03-01"]
["1999-04-01"]
["1999-05-01"]
["1999-06-01"]
["1999-07-01"]
["1999-08-01"]
["1999-09-01"]
["1999-10-01"]
["1999-11-01"]
["1999-12-01"]
["2000-01-01",35,4320677,123447,119900,48,{"$f":"(C14/AC14)*100","v":4008657.2186678792},{"$f":"(D14/AC14)*100","v":114532.21513038204},{"$f":"(E14/AC14)*100","v":111241.36345259754},23,2004140,87136,85000,85,{"$f":"(K14/AC14)*100","v":1859410.0596321004},{"$f":"(L14/AC14)*100","v":80843.431574691742},{"$f":"(M14/AC14)*100","v":78861.683848797242},{"$f":"B14+J14","v":58},{"$f":"C14+K14","v":6324817},{"$f":"W14*D14+X14*L14","v":111941.16077334728},{"$f":"W14*E14+X14*M14","v":108841.26328081902},{"$f":"W14*F14+X14*N14","v":59.724162137813629},{"$f":"C14/(C14+K14)","v":0.68313075303206405},{"$f":"(1-W14)","v":0.31686924696793595},{"$f":"(S14/AC14)*100","v":5868067.2782999799},{"$f":"(T14/AC14)*100","v":103857.27565382468},{"$f":"(U14/AC14)*100","v":100981.23875947829},164.9,{"$f":"(AB14/$AD$14)*100","v":107.78364834685985},152.99166666666667]
["2000-02-01",47,5154020,109660,89900,107,4752996.4426361267,101127.58388587502,82905.068314245538,13,982250,75557,66900,61,905823.17410086398,69678.06725939321,61694.650391802294,60,6136270,104201.03685952541,86218.325301852761,99.636650603705505,0.83992718703707625,{"$f":"(1-W15)","v":0.16007281296292375},5658819.6167369904,96093.37129314983,79509.857053280837,165.9,{"$f":"(AB15/$AD$14)*100","v":108.43727871888447}]
["2000-03-01",93,9572850,102933,97200,72,8764609.6723518856,94242.317324955133,88993.35727109517,27,2446600,90614,81000,72,2240032.3857969283,82963.416417314991,74161.131059245978,120,12019450,100425.42557687747,93902.434803589174,72,0.79644659281414709,0.20355340718585291,11004642.058148814,91946.458615893367,85974.207089521937,167.1,109.221635165314]
["2000-04-01",75,8221713,109622,95000,67,7532057.3336826358,100426.66157684632,87031.187624750513,37,3527150,95328,84000,84,3231284.7729540919,87331.674251497025,76953.892215568878,112,11748863,105330.76925707619,91697.667680693863,72.103604493473114,0.69978797097216983,0.30021202902783017,10763342.106636729,96495.388861809479,84005.862322847242,167,109.15627212811154]
["2000-05-01",121,13848931,114453,98000,54,12649379.314875621,104539.43417910447,89511.542288557219,44,4895500,111261,110000,82,4471466.8905472634,101623.91537313434,100472.13930348259,165,18744431,113619.34247259893,101134.05085489125,61.312785328079578,0.73882909542572939,0.26117090457427061,17120846.205422886,103777.98549524596,92374.131325619324,167.5,109.48308731412386]
["2000-06-01",143,18461345,129100,119900,55,16643676.726330781,116389.06403457084,108094.87821646043,46,4750700,103276,93250,79,4282955.2789235907,93107.645059909657,84068.78560204283,189,23212045,123814.72346361555,114445.6699312792,59.91196704124949,0.79533470661460459,0.20466529338539541,20926632.005254373,111624.16558969348,103177.57092262595,169.7,110.92107413257801]
["2000-07-01",99,12860803,129907,124500,41,11656372.545270536,117741.04527053711,112840.41765402842,28,2984850,106601,86000,34,2705315.0251777251,96617.681625197467,77945.991311216421,127,15845653,125516.84239021264,117247.74444448581,39.681408080815601,0.8116297258308004,0.1883702741691996,14361687.570448261,113762.03146928879,106267.34499685599,168.8,110.33280679775588]
["2000-08-01",109,12771349,117168,105500,55,11616587.212197782,106573.88585017838,95960.8848592945,30,2830500,94350,87000,80,2574571.417954816,85819.047265160538,79133.620689655188,139,15601849,113028.34007892269,102143.71511350994,59.535520116878459,0.81857919532486179,0.18142080467513821,14191158.6301526,102808.52633318181,92908.069053157422,168.2,109.94062857454108]
["2000-09-01",82,10332211,126002,110000,61,9298483.4190686271,113395.62343137256,98994.607843137259,35,4065650,116161,89900,64,3658885.7034313725,104539.20583333334,80905.593137254909,117,14397861,123223.11071568201,104324.1871136275,61.847136251697385,0.71762124943420413,0.28237875056579587,12957369.122500001,110894.75929554933,93886.654471523885,170,111.11716324418541]
["2000-10-01",94,11317487,120398,99250,54,10179195.759014305,108288.59896139524,89267.624436605911,34,3310700,97373,86350,74,2977716.1130707427,87579.409514011364,77665.081814618854,128,14628187,115186.90531683796,96330.42903744668,58.526466608609809,0.77367666956950987,0.22632333043049013,13156911.872085048,103601.62623514737,86641.698348936101,170.1,111.18252628138788]
["2000-11-01",81,10028500,123808,118000,69,9009259.7132511269,111224.85183010374,106007.14425523586,23,1998750,86902,83000,75,1795608.3015267176,78069.769915834797,74564.347230377767,104,12027250,117674.77191377913,112183.5207549523,69.997110727722458,0.8338148787129227,0.1661851212870773,10804868.014777843,105714.97052089799,100781.81921805488,170.3,111.3132523557928]
["2000-12-01",62,7407880,119481,104450,71,6658894.8746572668,107400.68933607521,93889.421758715253,24,2480210,103342,84500,62,2229444.5451429691,92893.447806502154,75956.497258127711,86,9888090,115432.88664443791,99445.98107420138,68.742547853023183,0.74917198366924254,0.25082801633075746,8888339.4198002368,103761.86672078123,89391.341879223619,170.2,111.24788931859032]
["2001-01-01",55,6140500,111645.45454545454,112000,83,5465068.8142330814,99364.887531510569,99680.434361062638,17,1701900,100111.76470588235,90000,132,1514697.60034904,89099.858844061178,80100.349040139612,72,7842400,109142.49795844445,107225.72171784147,93.633619810262161,0.78298735081097626,0.21701264918902374,6979766.4145821212,97137.246462045849,95431.308174222009,171.9,112.35906095103219]
["2001-02-01",52,7060515,135779.13461538462,113950,77,6276583.1340790242,120703.52180921202,101298.08493124154,20,2142300,107115,100500,98,1904439.5554909937,95221.977774549683,89341.443927948872,72,9202815,129106.48330309175,110819.00855879424,81.888536822700445,0.76721253225235975,0.23278746774764025,8181022.6895700181,114771.73769908298,98514.728749317437,172.1,112.48978702543711]
["2001-03-01",98,11426578,116597.73469387754,103950,98,10181544.627353914,103893.31252401954,92623.667734420524,41,4792850,116898.78048780488,116900,111,4270623.8181906436,104161.5565412352,104162.64317608233,139,16219428,116686.69389351297,107776.73220658583,101.84150723441047,0.70449944350688565,0.29550055649311435,14452168.445544556,103972.5787803827,96033.441398791969,171.7,112.22833487662724]
["2001-04-01",104,12738679,122487.29807692308,119450,70,11278424.371190201,108446.38818452117,105757.26032021605,42,4472500,106488.09523809524,112250,110,3959810.3539737654,94281.198904137287,99382.607542438273,146,17211179,118329.74241518383,117579.00673451831,80.394407030453877,0.74013982423865321,0.25986017576134679,15238234.725163966,104765.41960842788,104100.74192896516,172.8,112.94732828585434]
["2001-05-01",139,17134742,123271.52517985612,110000,70,15048637.982108688,108263.58260509849,96607.826253348656,57,6147250,107846.49122807017,93000,84,5398840.5448717959,94716.500787224475,81677.525832376588,196,23281992,119198.78346771585,105511.41285505123,73.696483531134277,0.73596546206183733,0.26403453793816267,20447478.526980486,104686.68511690565,92665.711280419331,174.2,113.8624108066888]
["2001-06-01",125,17704226,141633.80799999999,119900,85,15584574.469409281,124676.59575527425,105544.88396624471,39,4238911,108690.02564102564,91000,78,3731404.2505274257,95677.032064805797,80104.957805907165,164,21943137,135269.82451746229,114317.18256145417,83.647760482013126,0.80682292600187477,0.19317707399812523,19315978.719936706,119074.54489432729,100630.47346786234,173.8,113.60095865787898]
["2001-07-01",142,19461316,137051.52112676058,120000,61,17260400.987632848,121552.11963121725,106428.98550724637,54,5309500,98324.074074074073,89450,72,4709039.1545893718,87204.428788692079,79333.939613526571,196,24770816,128750.48735676936,113451.76093512625,63.357794753309705,0.78565502242639085,0.21434497757360915,21969440.142222222,114189.86460787096,100621.2985028011,172.5,112.75123917424696]
["2001-08-01",121,14495979,119801.47933884297,118000,53,12819445.012572257,105945.82655018393,104352.69749518306,50,5222857,104457.14,93250,59,4618806.9201830449,92376.138403660894,82465.161368015426,171,19718836,115737.27949833254,111444.55672992056,54.5891983685041,0.73513360524931592,0.26486639475068408,17438251.932755303,102351.6721729233,98555.424711204803,173,113.07805436025926]
["2001-09-01",82,9586776,116911.90243902439,114150,76,8400325.5337915234,102442.99431453078,100022.90234822452,40,4051300,101282.5,90000,66,3549914.8864070261,88747.872160175655,78861.683848797256,122,13638076,112269.0629284351,106976.04855699587,73.029419692337825,0.70294196923378338,0.29705803076621662,11950240.42019855,98374.748296255275,93736.792452171023,174.6,114.12386295549865]
["2001-10-01",89,10898879,122459.31460674158,110000,66,9660704.8841734249,108547.24588958907,97503.379683275401,37,3734065,100920.67567567568,91000,116,3309854.1587002706,89455.517802710019,80661.886828891467,126,14632944,116963.04005118183,105151.54059224173,78.759103704627037,0.74481792590745921,0.25518207409254079,12970559.042873695,103675.37911836844,93205.732605879006,172.6,112.81660221144942]
["2001-11-01",59,7690056,130339.93220338984,120000,88,6820373.8214492751,115599.55629575043,106428.98550724637,26,3011350,115821.15384615384,92250,99,2670791.0458937199,102722.73253437383,81817.282608695648,85,10701406,126254.38277128132,112191.21650930728,91.095373635950267,0.71860239673179394,0.28139760326820606,9491164.8673429955,111976.04895159198,99503.311299245048,172.5,112.75123917424696]
["2001-12-01",80,9921414,124017.675,109900,84,8830096.9374636412,110376.21171829553,97811.426216792708,27,2659406,98496.518518518526,88000,115,2366881.6537715727,87662.28347302122,78320.341283692076,107,12580820,118622.86634096262,105270.65219914123,90.552958074274969,0.78861425566854948,0.21138574433145052,11196978.591235215,105574.81108947707,93691.288720381708,171.9,112.35906095103219]
["2002-01-01",76,9002021,118447.64473684211,108450,70,8002522.9294499326,105296.35433486753,96408.752178965718,23,2047900,89039.130434782608,82900,71,1820520.8260701143,79153.079394352797,73695.579120666283,99,11049921,112997.31650017982,103714.77655360612,70.185331641737534,0.81466835826247086,0.18533164173752914,9823043.7555200458,100451.17826974635,92199.282527002462,172.1,112.48978702543711]
["2002-02-01",72,9486352,131754.88888888888,111000,90,8413523.4960386474,116854.49300053676,98446.811594202911,21,2508650,119459.52380952382,102000,63,2224942.2874396136,105949.63273521968,90464.637681159424,93,11995002,129183.42057180572,109117.72853393438,84.353185601803148,0.79085872599270934,0.20914127400729066,10638465.783478262,114573.83663177687,96777.409572681223,172.5,112.75123917424696]
["2002-03-01",98,12471772,127262.97959183673,114500,81,10991228.021697389,112155.38797650397,100907.5220814132,36,3537850,98273.611111111109,95250,106,3117866.174635177,86607.39373986602,83942.720334101381,134,16009622,120856.82976022077,110246.08241843562,86.524568287745964,0.77901726849016173,0.22098273150983827,14109094.196332566,106509.7224254941,97158.593851769372,173.6,113.47023258347404]
["2002-04-01",115,13452600,116979.13043478261,103000,82,11780971.350887237,102443.22913814988,90201.154359855005,38,3763800,99047.368421052626,90450,93,3296107.8133943905,86739.679299852389,79210.625357756173,153,17216400,113058.9400426404,100256.35498710533,84.404788457517242,0.78138286749843178,0.21861713250156822,15077079.164281627,99010.164102405819,87798.436424740838,174.7,114.18922599270111]
["2002-05-01",171,20651507,120769.04678362573,110900,79,18074991.276363462,105701.70337054656,97063.934973302807,53,5423195,102324.43396226416,89900,119,4746588.3392925244,89558.270552689151,78683.929252479022,224,26074702,116932.80995799512,106532.27625765388,87.319473794944997,0.79201315512637493,0.20798684487362507,22821579.615655988,102344.08171333106,93241.135574669504,174.8,114.2545890299036]
["2002-06-01",130,19095145,146885.73076923078,119950,60,16665134.391281614,128193.34147139703,104685.39884008367,25,2695250,107810,100000,144,2352257.7842745772,94090.31137098308,87274.196615326116,155,21790395,142052.46072728024,117482.38812329927,70.389944744003031,0.87631018161901153,0.12368981838098847,19017392.17555619,123975.14387203546,102531.81039910874,175.3,114.5814042159159]
["2002-07-01",135,19143616,141804.56296296295,125500,64,16707437.067123028,123758.79308980019,109529.11675223427,51,5695266,111671.88235294117,111000,92,4970497.6466058185,97460.738168741547,96874.358243011971,186,24838882,134895.49067190266,122175.3190823967,70.420073496061534,0.77071166085494514,0.22928833914505486,21677934.713728845,117728.95575420524,106627.52819137296,175.3,114.5814042159159]
["2002-08-01",142,20033719,141082.52816901408,123750,85,17434539.586698901,122778.44779365422,107694.64590443685,43,5749650,133712.79069767441,119000,89,5003689.0571672358,116364.86179458686,103560.91202123626,185,25783369,139439.08851409203,122690.75760619181,85.891993594785845,0.7770016013035379,0.2229983986964621,22438228.643866137,121348.22838596017,106772.82986784582,175.8,114.90821940192821]
["2002-09-01",116,15645289,134873.18103448275,121285,72,{"$f":"(C46/AC46)*100","v":13584556.410849415},{"$f":"(D46/AC46)*100","v":117108.24492111565},{"$f":"(E46/AC46)*100","v":105309.84274498676},40,4681240,117031,113500,77,{"$f":"(K46/AC46)*100","v":4064646.4793794933},{"$f":"(L46/AC46)*100","v":101616.16198448733},{"$f":"(M46/AC46)*100","v":98550.250662126375},156,20326529,130764.09130520029,119492.09903791247,73.151509930692043,0.76969801386158943,0.23030198613841057,{"$f":"(S46/AC46)*100","v":17649202.890228909},{"$f":"(T46/AC46)*100","v":113540.38745138916},{"$f":"(U46/AC46)*100","v":103753.09526281853},176.2,115.16967155073804]
["2002-10-01",95,13135620,138269.68421052632,119366,80,11398981.262053316,119989.27644266651,103584.81726224239,24,2681900,111745.83333333333,116500,60,2327330.4074494229,96972.10031039262,101097.72641331064,119,15817520,133772.4990849476,118880.06254583524,76.608950075612356,0.83044750378061793,0.16955249621938207,13726311.669502739,116086.65677351828,103163.12480048162,176.3,115.23503458794053]
["2002-11-01",91,12274794,134887.84615384616,118750,77,10664061.283645656,117187.48663346875,103167.29367783458,36,4127845,114662.36111111111,109950,96,3586177.6620764723,99616.046168790883,95522.054230550828,127,16402639,129797.9537709053,116535.4151396004,81.781490039499133,0.74834262950004571,0.25165737049995429,14250238.945722129,112765.50413023142,101243.31282168863,176.1,115.10430851353559]
["2002-12-01",89,11321076,127203.10112359551,115000,66,9869118.4370370377,110888.97120266335,100250.94966761634,20,1881830,94091.5,95250,66,1640480.3879392212,82024.01939696107,83033.938746438755,109,13202906,122483.65493936792,112185.00286982275,66,0.85746849973786077,0.14253150026213923,11509598.82497626,106774.80631680228,97796.983270991273,175.5,114.71213029032081]
["2003-01-01",53,7201105,135869.90566037735,114900,81,6252605.3109629219,117973.68511250796,99765.848467650401,28,2653800,94778.571428571435,92000,108,2304252.4687854713,82294.731028052542,79882.141505864565,81,9854905,124804.53437730901,108733.32259418027,88.270755019962138,0.73071277703843929,0.26928722296156071,8556857.7797483932,108365.79864893193,94411.420237729646,176.2,115.16967155073804]
["2003-02-01",88,11781117,133876.32954545456,110200,98,10137304.415213723,115196.64108197414,94823.856392950882,24,2516550,104856.25,101250,136,2165417.2033183351,90225.716804930635,87122.644825646799,112,14297667,128768.46955821931,108624.69946320614,104.68842686013039,0.82398876683867373,0.17601123316132627,12302721.618532058,110801.47790679359,93468.356648153422,177.8,116.21548014597745]
["2003-03-01",101,13003597,128748.48514851485,119575,92,11139092.820222098,110288.04772497126,102429.89105076522,40,4158400,103960,101900,125,3562153.11683464,89053.827920865995,87289.198394923485,141,17161997,122742.16568338593,115292.29793450028,99.995992540961282,0.75769719572844585,0.24230280427155415,14701245.937056737,105142.936719918,98761.258761641046,178.6,116.73838444359714]
["2003-04-01",106,13711878,129357.33962264151,119725,76,11798667.426040495,111308.18326453297,103019.83853580803,40,3947600,98690,92000,112,3396793.6070491187,84919.840176227968,79163.292088488932,146,17659478,122501.9620234656,113527.35304803461,84.047440586862194,0.7764599836982724,0.2235400163017276,15195461.033089614,105409.33262039769,97686.945754071392,177.8,116.21548014597745]
["2003-05-01",133,18246448,137191.33834586467,121900,53,15709366.855749395,118115.54026879244,104950.38923278937,41,4421477,107840.90243902439,102000,97,3806691.8140592766,92846.141806323823,87817.388857625221,174,22667925,131466.40863562131,118018.41876572293,61.582390668753312,0.80494566661924283,0.19505433338075717,19516058.669808671,113186.6345967629,101608.52326579946,177.7,116.15011710877496]
["2003-06-01",134,18576521,138630.75373134328,116000,58,15930789.846739536,118886.49139357863,99478.886397608367,70,8489197,121274.24285714286,115950,79,7280136.7583613591,104001.95369087657,99436.007567264576,204,27065718,133186.86194012128,115984.31743617516,64.58667680643093,0.68634872350328924,0.31365127649671076,23210926.605100896,114217.93714306271,99465.437397736343,178.4,116.60765836919222]
["2003-07-01",142,20587430,144981.90140845071,131750,63,17685037.776997942,124542.51955632353,113176.03640276998,59,6766600,114688.13559322034,102750,72,5812652.507954333,98519.534033124291,88264.423076923078,201,27354030,137488.09534896558,124576.23437935836,65.226341054681882,0.75262877170201248,0.24737122829798752,23497690.284952275,118105.18166346899,107013.62001547072,178.1,116.41156925758483]
["2003-08-01",159,23860209,150064.20754716982,134900,69,20416180.883249443,128403.65335377009,115428.27647278152,52,6725075,129328.36538461539,113700,117,5754364.836176361,110660.8622341608,97288.324944071603,211,30585284,145504.8222646483,130238.55595390253,79.554212934560297,0.78012056386332718,0.21987943613667282,26170545.719425805,124502.37844689965,111439.6741591022,178.8,116.86911051800206]
["2003-09-01",132,17914711,135717.50757575757,112750,67,15269089.101624884,115674.91743655215,96099.222376973063,47,5208204,110812.85106382979,111900,94,4439063.0100278556,94448.149149528836,95374.749303621167,179,23122915,130107.98422353106,112558.54605053039,73.0814783949169,0.77476005944752213,0.22523994055247787,19708152.111652739,110893.80140946177,95936.042104999418,179.5,117.3266517784193]
["2003-10-01",102,13367588,131054.7843137255,123185,50,11418925.557975061,111950.25056838297,105227.68541782991,57,6337832,111190.0350877193,102600,82,5413933.4490973391,94981.288580655077,87643.467336683432,159,19705420,124665.70743454418,116564.26967707361,60.292123892817308,0.67837112834945923,0.32162887165054077,16832859.007072404,106492.54247118912,99572.093197533715,179.1,117.06519962960944]
["2003-11-01",68,9026115,132736,109950,108,7718951.2430128567,113513.1462642072,94027.0192845165,22,2336382,106199,99500,165,1998026.6973169371,90819.239845351229,85090.390348425572,90,11362497,127279.40281594793,107801.2476702964,119.72046725292864,0.7943777674924799,0.2056222325075201,9716977.9403297938,108846.77456204529,92189.449691586167,178.9,116.93447355520452]
["2003-12-01",86,12400016,144186,124150,105,10633963.646487296,123650.54063901346,106468.13574364723,30,3397145,113238,111500,138,2913312.0821655453,97110.259809417039,95619.791666666657,116,15797161,137530.70013567628,121429.6451052186,112.09657798638629,0.7849521822307185,0.2150478177692815,13547275.728652839,117943.11116362485,104135.22302348226,178.4,116.60765836919222]
["2004-01-01",37,5067846,136968,136700,123,4321840.6128762541,116805.8115942029,116577.26217019695,19,2193850,115465,93000,182,1870907.2905053883,98468.131503158686,79310.061315496088,56,7261696,130471.67234458728,123497.67853129627,{"$f":"W62*F62+X62*N62","v":140.82464454584715},0.69788738057886202,0.30211261942113798,6192747.903381642,111265.76702779069,105318.37050148961,179.4,117.26128874121684]
["2004-02-01",78,11330250,145259,128500,118,9619499.6184794679,123326.39571772105,109097.83111357751,29,3452250,117939,119000,153,2930996.0113762491,100131.43271365151,101032.23270440253,107,14782500,138878.78893962456,126281.40537798073,126.17376966007103,0.76646372399797058,0.23353627600202942,12550495.629855718,117909.53043574582,107214.22129737091,180.2,117.78419303883652]
["2004-03-01",100,13027139,130271,122950,128,11011291.2017035,110112.5823664825,103924.44981583794,41,5110906,124656,99900,138,4320033.2989871083,105366.45966850829,84441.256906077338,141,18138045,128688.81530534299,116455.0120726903,130.81778218104543,0.71822178189545782,0.28177821810454218,15331324.500690607,108775.22836974179,98434.510434738535,181,118.30709733645624]
["2004-04-01",133,17437366,131108,120900,124,14698466.592929294,110514.77373737375,101910.15151515153,58,6684983,115258,104950,165,5634967.9934343435,97154.344444444447,88465.429292929301,191,24122349,126715.51813390976,116479.80531456534,135.36225593121134,0.72287180655582095,0.27712819344417905,20333434.58636364,106812.22210378555,98184.239934348268,181.5,118.63391252246853]
["2004-05-01",130,18306793,140821,132900,119,15313213.627073081,117793.54560780025,111167.8102788409,44,5393585,122581,100500,148,4511610.4891106253,102536.20279752143,84065.951339529798,174,23700378,136670.05395179774,125526.60899332492,125.59964009856719,0.77242620349768265,0.22757379650231735,19824824.116183706,114321.37417992778,105000.13734775162,182.9,119.54899504330301]
["2004-06-01",168,24562914,146207,129550,105,20501479.274686307,122031.92912347699,108129.13484269868,54,6769350,125358,120450,144,5650049.8567921435,104630.2746863066,100533.80387343153,222,31332264,141702.5639927584,127583.94082853381,113.42596787771225,0.78394954159712171,0.21605045840287829,26151529.131478451,118272.29370535785,106488.16010506694,183.3,119.81044719211286]
["2004-07-01",137,20281085,148037,134000,96,16936883.165711429,123626.78689046581,111904.38500727803,53,6325175,119342,108900,135,5282200.1376000736,99663.381459243086,90943.19050218341,190,26606260,141215.26343781501,128032.91208535135,105.27157086339831,0.76226741375901763,0.23773258624098237,22219083.303311501,117929.90454216003,106921.22602688162,183.2,119.74508415491039]
["2004-08-01",131,20620628,157409,144000,126,17211043.346608475,131381.69808146937,120189.852700491,50,6362150,127243,107450,128,5310179.662211311,106203.59324422623,89683.331060192751,181,26982778,150296.29214982979,135382.03699782136,126.47157116290991,0.76421441854504379,0.23578558145495621,22521223.008819785,125445.06399248615,112996.85475736507,183.3,119.81044719211286]
["2004-09-01",94,12765322,135801,127700,76,10637188.934186637,113161.33619281044,106410.87055192447,51,6374513,124990,117500,121,5311804.8369190264,104152.66022149599,97911.333514887432,145,19139835,132200.40155999255,124302.89482119359,90.987228730028235,0.66695047266603913,0.33304952733396087,15948993.771105664,110161.00091865935,103580.10375918179,183.6,120.00653630372025]
["2004-10-01",101,14528761,143849,127250,126,12047584.607000904,119282.91738934055,105518.64272809395,44,5512830,125292,115750,164,4571366.1233062334,103895.02384823847,95982.576784101169,145,20041591,138744.53567329061,124086.70098845946,136.45264021204704,0.72493052073560427,0.27506947926439573,16618950.730307136,115050.17752601366,102895.56203464893,184.5,120.5948036385424]
["2004-11-01",87,12468360,143314,129000,131,10322268.273809524,118646.36210317463,106796.13095238096,24,3001560,125065,111450,155,2484922.4404761908,103538.43501984127,92266.889880952382,111,15469920,139773.22742716188,125594.85129851998,135.65661360886159,0.80597443296410065,0.19402556703589935,12807190.714285715,115715.03798409385,103977.08671489576,184.8,120.79089275014978]
["2004-12-01",78,11495164,147374,135250,116,9568358.5362713076,122671.34865796156,112579.55885019949,34,4114050,121001,116000,201,3424457.9230141453,100718.95896808125,96556.22052956112,112,15609214,140422.98756273059,130176.36448574541,138.40306590709821,0.73643451874002108,0.26356548125997892,12992816.459285455,116885.45650454167,108356.35997432898,183.8,120.13726237812517]
["2005-01-01",46,6381251,138723,132750,128,5302977.8702245168,115282.25407387293,110318.54291146119,16,2039100,127444,118000,122,1694542.6806083655,105909.12529422417,98060.927032409934,62,8420351,135991.64011963399,129178.09129928194,126.54702018953842,0.75783669825640287,0.24216330174359713,6997520.5508328816,113012.42626092526,107350.19817868537,184.1,120.33335148973254]
["2005-02-01",75,10674830,142331,126700,133,8818358.7099532057,117578.06106011521,104665.46526277901,24,2950250,122927,113900,168,2437168.8152447809,101548.63179445645,94091.527177825788,99,13625080,138129.4356055157,123928.40526440946,140.57857935513039,0.78346916128198885,0.21653083871801115,11255527.525197987,114107.19529705106,102375.88158069176,185.2,121.05234489895962]
["2005-03-01",101,13203822,130731,123900,154,{"$f":"(C76/AC76)*100","v":10843127.934245842},{"$f":"(D76/AC76)*100","v":107357.77549651099},{"$f":"(E76/AC76)*100","v":101748.08105206655},43,5042455,117266,112000,161,{"$f":"(K76/AC76)*100","v":4140921.0657094293},{"$f":"(L76/AC76)*100","v":96300.165235283595},{"$f":"(M76/AC76)*100","v":91975.666487743787},144,18246277,127009.87614689836,120611.37216101673,155.9344869641078,0.72364471941317121,0.27635528058682879,{"$f":"(S76/AC76)*100","v":14984048.999955269},{"$f":"(T76/AC76)*100","v":104301.94651014972},{"$f":"(U76/AC76)*100","v":99047.422683132318},186.3,121.77133830818671]
["2005-04-01",113,17609814,155839,130000,140,14353515.1494406,127022.20746759015,105961.19694548038,55,6792488,123500,100000,172,5536462.7593677863,100663.13709820637,81508.613034984912,168,24402302,146837.29723310529,121649.36816206931,148.90734062712608,0.72164560540231004,0.27835439459768996,19889977.908808384,119685.04439276239,99154.712754725217,187.7,122.68642082902117]
["2005-05-01",139,20181725,145192,131052,134,16476177.929340094,118533.43685521168,106989.66862326574,40,4411978,110299,96700,164,3601898.9728744221,90047.106945926731,78945.006225542515,179,24593703,138932.38353012557,124889.43601945587,139.38183859502573,0.82060538016580908,0.17939461983419092,20078076.902214516,113423.14253066416,101958.60707404795,187.4,122.4903317174138]
["2005-06-01",183,27533716,150457,133500,123,22430399.895456161,122570.11284167554,108756.05697550587,78,10130639,129880,123050,146,8252946.4590433082,105807.01632942849,100242.94240326589,261,37664355,144922.37293143611,130689.24756444123,129.18634507347861,0.73102847506614677,0.26897152493385323,30683346.35449947,118061.31721016311,106466.27156707387,187.8,{"$f":"(AB79/$AD$14)*100","v":122.75178386622365}]
["2005-07-01",148,21940400,148246,128750,135,17816870.293701343,120384.30263623495,104552.42613234252,62,7497395,120926,115000,138,6088317.1799805369,98198.886854210883,93386.633050247692,210,29437795,141287.97779079582,125248.06715312747,135.76405807568128,0.74531397477290673,0.25468602522709327,23905187.473681882,114733.98727270082,101708.65467375562,188.4,123.14396208943843]
["2005-08-01",153,23799309,155551,139900,133,19193969.158803374,125450.74718854332,112828.32981901249,67,8661500,129276,116000,134,6985436.5884730285,104260.15129151291,93553.154102969609,220,32460809,148540.05604909599,133522.77600659922,133.26682945579083,0.73317054420917238,0.26682945579082762,26179405.747276403,119796.47201745535,107685.14517242818,189.7,123.99368157307042]
["2005-09-01",127,19982590,157343,142000,145,15881401.290476192,{"$f":"(D82/AC82)*100","v":125050.22238095239},{"$f":"(E82/AC82)*100","v":112856.19047619047},58,7254675,125081,127750,112,{"$f":"(K82/AC82)*100","v":5765739.3214285728},{"$f":"(L82/AC82)*100","v":99409.613809523813},{"$f":"(M82/AC82)*100","v":101530.83333333334},185,27237265,148749.981396627,138204.49708331583,136.21041429820505,0.73364891812742583,0.26635108187257417,{"$f":"(S82/AC82)*100","v":21647140.611904763},{"$f":"(T82/AC82)*100","v":118220.81854808118},{"$f":"(U82/AC82)*100","v":109839.66934859721},192.5,125.82384661473935]
["2005-10-01",96,15818026,164771,147450,142,12597741.598733298,131226.3920267222,117431.65668922436,41,4867200,118712,115000,107,3876319.8334200941,94544.230782578525,91587.931632830121,137,20685226,153933.3922890666,139814.56783213295,133.76455698381056,0.76470162810887343,0.23529837189112657,16474061.432153394,122595.13920852741,111350.67025985288,192.1,125.56239446592951]
["2005-11-01",83,13523676,162936,145000,138,{"$f":"(C84/AC84)*100","v":10872358.01734104},130992.38150289017,116572.73603082851,40,5061950,126549,112250,157,4069554.2148362235,101739.05635838151,90243.376685934491,123,18585626,153025.69756251416,136080.26479710717,143.17480820931186,0.72764167319411244,0.27235832680588756,14941912.232177265,123024.99481302318,109401.71577378221,190.3,124.3858597962852]
["2005-12-01",66,10485970,158878,136620,127,8456858.3390441053,128133.94842734141,110183.03373748025,29,3870300,133459,127500,136,3121368.7269372693,107633.71028817432,102827.82024248816,95,14356270,152025.30388185789,134161.34353839821,129.42630571868597,0.73041047570155759,0.26958952429844241,11578227.065981375,122607.29897939858,108200.14523025183,189.7,123.99368157307042]
["2006-01-01",55,8600900,156380,139175,148,6896572.4624388535,125392.22658979734,111596.51576694619,25,3078900,128288,119500,127,2468794.7720125783,102866.84975541578,95820.252445842052,80,11679800,148974.69692974194,133988.49359578075,142.46421171595404,0.73639103409304951,0.26360896590695049,9365367.2344514318,119454.33529582163,107437.75130699416,190.8,124.71267498229753]
["2006-02-01",70,9840436,140578,135950,144,7894623.5152945304,112780.61099458137,109067.73509875897,31,4491880,144899,130000,158,3603671.7759133019,116247.1919681874,104294.26673658451,101,14332316,141932.24124614612,134085.21513201355,148.38772910114457,0.68659077848967331,0.31340922151032669,11498295.291207831,113867.06943882175,107571.68609546567,190.7,124.64731194509504]
["2006-03-01",102,15790088,154804,126400,134,12582041.041319445,123352.71857638888,100719.51388888889,51,8076600,158364,126000,124,6435690.078125,126189.43906249999,100400.78125,153,23866688,156008.72082259593,126264.63810982069,130.61595274551709,0.66159527455170986,0.33840472544829014,19017731.119444445,124312.67819366488,100611.65325773429,192,125.49703142872706]
["2006-04-01",110,16070427,146094,131700,116,12739074.667227978,115809.14274611398,104398.97668393783,53,7558365,142610,124900,90,5991538.127590674,113047.36571675303,99008.596718480141,163,23628792,144979.53999459642,129524.81973687017,107.683134288033,0.680120549539731,0.319879450460269,18730612.794818655,114925.70702766821,102674.70490281517,193,126.15066180075168]
["2006-05-01",140,20030844,143077,127004,109,15829298.596590912,113066.05729166667,100364.42992424243,73,11450585,156857,129000,133,9048781.4228219707,123955.65009469699,101941.76136363637,213,31481429,148089.13147916505,127729.99524182972,117.72940170536731,0.63627492894302862,0.36372507105697138,24878080.019412883,117026.87520773037,100938.14491411639,193.6,126.54284002396643]
["2006-06-01",135,20518475,150871,135400,93,16172878.349862615,118918.11304310495,106723.707710802,86,13082250,152119,143000,116,10311567.394384339,119901.7998025073,112714.10784818823,221,33600725,151356.90165837196,138359.0165093164,101.9549183834575,0.61065572245836952,0.38934427754163048,26484445.744246956,119301.10585377172,109056.03572447792,194.1,126.86965520997875]
["2006-07-01",132,21276139,161182,145500,100,16726988.519227475,126718.92505995205,114389.96659815004,53,8391907,158337,137700,102,6597594.2365964362,124482.22777492293,108257.72096608428,185,29668046,160377.26296356018,143293.6910775991,100.56572023651304,0.71713988174347576,0.28286011825652424,23324582.75582391,126086.25260140463,112655.39887348586,194.6,127.19647039599107]
["2006-08-01",135,21177330,156869,140000,109,16606637.684520759,123012.04386639332,109783.87151887921,58,8117580,139958,134450,117,6365566.8554587401,109750.93635742355,105431.72518366651,193,29294910,152182.98473728029,138462.10249493853,111.216789196485,0.72290135043937664,0.27709864956062336,22972204.539979499,119337.40888397954,108577.89764670156,195.1,127.52328558200337]
["2006-09-01",99,17389500,175651,159000,97,13734892.036654623,138735.8763121666,125584.27981414562,47,7409800,157655,130000,109,5852543.3746343153,124521.94738427122,102678.97091722596,146,24799300,170273.9627126572,150335.06994149031,100.58548830007298,0.70120930832725115,0.29879069167274885,19587435.411288939,134488.88665641344,118740.38672585702,193.7,126.60820306116889]
["2006-10-01",78,10979064,140757,122000,108,8734816.9516380653,111984.64911596464,97061.795805165544,47,7607664,161865,144000,97,6052569.9157566307,128777.93096723869,114564.74258970359,125,18586728,149396.63639603485,131004.7375740367,103.49763121298164,0.59069374663469543,0.40930625336530457,14787386.867394697,118858.2443922172,104225.86137639712,192.3,125.69312054033443]
["2006-11-01",67,10318799,154011,135000,124,8188227.4741096115,122211.61605290456,107125.90767634854,36,5119084,142196,129000,133,4062122.3701590593,112836.11531811894,102364.75622406638,103,15437883,150093.23631050967,133010.4458622986,126.98433120655208,0.66840764371643446,0.33159235628356554,12250349.844268672,119102.77167291869,105547.14624766336,192.8,126.01993572634676]
["2006-12-01",75,11540887,153878,139900,148,9153237.6202263702,122042.77700017281,110956.63124243995,39,5371680,147367,118000,101,4260353.9450492486,116878.81255400034,93587.437359599091,114,16912567,151810.01064746705,132944.23793265683,133.07210880524522,0.682385293728622,0.317614706271378,13413591.565275617,120402.62594940589,105439.91982917085,192.9,126.08529876354922]
["2007-01-01",66,9529205,144381,130400,125,7549916.9081218718,114391.97216468152,103314.93181425858,24,4099407,170808,160350,117,3247929.1003366131,135329.88399792853,127044.08984981873,90,13628612,152330.08746312538,139408.78531504163,122.59364666042293,0.6992058325528675,0.3007941674471325,10797846.008458484,120689.97392264452,110452.52414978636,193.1,126.21602483795414]
["2007-02-01",82,12525884,152754,135000,146,9852729.4068551846,120154.69948586117,106189.58868894601,38,5513800,145100,137500,150,4337097.4378748927,114134.14310197085,108156.06255355613,120,18039684,150414.56738022686,135764.12092362595,147.2225934778015,0.69435163054962601,0.30564836945037399,14189826.844730077,118314.52624394107,106790.63821923087,194.5,127.13110735878861]
["2007-03-01",111,18259095,164496,146200,143,14223469.327265786,128139.08961303464,113886.87202987103,36,5108200,141894,135000,148,3979185.4972844534,110532.58426680246,105162.29633401224,147,23367295,159555.09706707601,143751.62760601944,144.09302339016989,0.78139532196602135,0.21860467803397865,18202654.824550241,124290.22518051801,111979.63896889474,196.4,128.37300506563537]
["2007-04-01",115,18226865,158494,127000,142,14126435.939505236,122838.20271867614,98429.28909152314,63,9448042,149968,116900,127,7322551.6328098616,116230.26477541373,90601.447990543747,178,27674907,155583.27635811025,123551.92249787868,136.8790928186317,0.65860618790877956,0.34139381209122044,21448987.572315101,120582.29359416355,95756.912577615454,197.4,129.02663543765999]
["2007-05-01",132,21220325,160760,142900,120,16297855.868264727,123468.57597054886,109751.55204149932,63,8955125,142145,121500,118,6877808.7297105081,109171.6890478581,93315.700301204823,195,30175450,155235.65315927353,136549.15270526207,119.40646286965065,0.7032314348253299,0.2967685651746701,23175664.597975235,119225.70935203743,104873.90790310853,199.2,130.20317010730432]
["2007-06-01",142,24133160,169951,141500,99,18525701.807994645,130462.05088643586,108621.78039805988,78,12496900,160216,148950,128,9593183.9396220092,122989.02592406755,114340.73632714502,220,36630060,166629.75724200287,144041.68038490793,108.89378941776235,0.6588348476633672,0.3411651523366328,28118885.747616656,127912.515186734,110572.8888688127,199.3,130.26853314450679]
["2007-07-01",116,16684040,143827,130500,106,12826729.077051926,110574.53488274707,100328.70603015074,77,12360158,160521,149298,108,9502518.455695143,123408.92123115578,114780.6525125628,193,29044198,150931.36134790158,138499.74749118567,106.85112751262747,0.57443624368626045,0.42556375631373955,22329247.532747068,116036.38454715768,106478.93066125116,199,130.0724440328994]
["2007-08-01",118,18521327,156960,138950,112,14267918.86509735,120914.25981873112,107040.24211144682,69,10447150,151407,135000,106,8047970.2437898638,116636.50188821752,103997.35649546828,187,28968477,154957.37404386155,137525.47766491142,109.83616860492873,0.6393614341547883,0.3606385658452117,22315889.108887214,119371.53533363773,105942.8602068693,198.6,129.81099188408953]
["2007-09-01",72,11065630,153689,144500,102,8477462.0751961302,117742.29473376734,110702.53296611586,41,6049563,147550,132000,99,4634615.5532048084,113039.16082457022,101126.18928392591,113,17115193,151519.09941769281,140081.73036669818,100.93961528800756,0.64653842933585381,0.35346157066414619,13112077.628400937,116079.91763517873,107317.66348698935,199.7,130.5299852933166]
["2007-10-01",67,10726703,129050,138000,119,8226045.9639515467,98965.286131996676,105828.82205513786,52,7082300,136198,129050,111,5431242.5104427747,104446.91236424397,98965.286131996676,119,17809003,131892.62293627555,134440.75611644291,115.81855295324505,0.60231911915563152,0.39768088084436848,13657288.474394323,101145.22408049638,103099.32504351612,199.5,130.39925921891168]
["2007-11-01",69,10834343,120000,135425,99,8254801.7570136134,91429.282868525916,103181.75527058434,33,4137950,125392,120000,106,3152748.3420484732,95537.505312085006,91429.282868525916,102,14972293,121490.20770566005,131161.93363134156,100.9346168285646,0.72362616734791396,0.27637383265208604,11407550.099062085,92564.688050639656,99933.679429689568,200.8,131.2489787025437]
["2007-12-01",62,7752196,165000,124450,123,5924182.7490842491,126092.03296703297,95103.960622710627,27,5802800,214918,165000,173,4434465.7509157509,164239.07600732602,126092.03296703297,89,13554996,186369.55041521223,141809.1744328069,144.4046540478507,0.57190691904298607,0.42809308095701393,10358648.5,142422.51815155183,108369.73998551042,200.2,130.85680047932894]
["2008-01-01",47,7693060,105000,163500,119,5843962.6175107583,79762.288977159886,124201.27855014896,26,3107280,119510,105000,86,2360416.8123138035,90784.677672955979,79762.288977159886,73,10800340,109174.55680098959,146669.42985128248,109.50583222380037,0.71229794617576858,0.28770205382423142,8204379.4298245618,82933.452842989413,111416.08998012642,201.4,131.64115692575848]
["2008-02-01",58,8253150,142295,135000,111,6253903.7828132743,107825.40469704475,102297.54829123328,23,2726791,118556,111000,128,2066252.1037229653,89836.949149744105,84111.317483902923,81,10979941,136399.58657755994,129039.76906615436,115.22183024480732,0.75165704442309844,0.24834295557690156,8320155.8865362387,103358.09848016441,97781.125981737161,201.9,131.96797211177079]
["2008-03-01",81,11951663,147551,138000,132,8976459.7045082655,110820.19346260843,103646.78448699068,31,4800590,154857,140000,157,3605548.6749304538,116307.4645311733,105148.91179839635,112,16752253,149644.63543757368,138573.12768616853,139.16409607710676,0.71343615691572948,0.28656384308427052,12582008.379438719,112392.64694806152,104077.23986214894,203.7,133.14450678141509]
["2008-04-01",99,13763376,139024,126000,99,10251615.546251217,103551.67218435572,93850.778967867576,43,5747165,133655,123717,119,4280761.2071973383,99552.586213891584,92150.292234664055,142,19510541,137442.46882231507,125327.50313304996,104.8913435562858,0.7054328221857098,0.2945671778142902,14532376.753448555,102373.67271619938,93349.871389957159,205.4,134.25567841385697]
["2008-05-01",132,20338956,154083,143500,130,15017812.628861004,113771.30779440155,105957.06644144145,56,8026872,143337,125000,149,5926855.8175675683,105836.71102799228,92297.096203346213,188,28365828,151042.13101806864,138264.92870223988,135.37655971121308,0.71702317309404828,0.28297682690595172,20944668.446428575,111526.00077866485,102091.61140783552,207.2,135.43221308350127]
["2008-06-01",117,18336825,156725,135000,118,13422877.59868421,114725.4495614035,98822.368421052641,56,8471736,151281,131200,117,6201459.3789473688,110740.34605263158,96040.701754385969,173,26808561,155004.64914700197,133799.16729585,117.68399139364473,0.68399139364473904,0.31600860635526096,19624336.97763158,113466.12255541504,97943.337814374405,209,136.60874775314559]
["2008-07-01",100,16126000,161260,148000,107,11742711.169284469,117427.11169284469,107771.37870855149,61,9009517,147697,125000,90,6560595.058027924,107550.73865619548,91023.123909249582,161,25135517,156398.50942190684,139755.93281013475,100.90655903357788,0.64156229609281556,0.35843770390718444,18303306.227312393,113887.04721865732,101768.17271383722,210.1,137.32774116237266]
["2008-08-01",102,16440258,161179,151750,116,12011568.633476602,117760.4767987902,110871.46808341294,51,7097262,139162,127500,139,5185396.0943170972,101674.43322190386,93153.951766953207,153,23537520,154540.21998179928,144437.9040994973,122.93518374068296,0.69847027214421908,0.30152972785578092,17196964.727793697,112910.05645677545,105529.11021023046,209.4,136.87019990195543]
["2008-09-01",65,10541765,162181,132500,130,7705696.11542443,118549.17100652969,96853.300684822418,44,5756388,130827,118000,149,4207737.1911132345,95630.390707118961,86254.26023252109,109,16298153,151106.99735982352,127378.70643992606,136.71066052699345,0.64680734068455492,0.35319265931544508,11913433.306537665,110454.42604431439,93109.797401282151,209.3,136.80483686475299]
["2008-10-01",90,13033080,144812,130750,123,9679381.7038834952,107548.68559870552,97105.147653721695,49,7003619,142931,129000,135,5201433.7063511331,106151.70829288027,95805.461165048546,139,20036699,144154.51608316321,130138.30576583499,127.19447474856014,0.65046043761998917,0.34953956238001083,14880815.410234628,107060.38676257255,96650.85580723967,206,134.64785663707173]
["2008-11-01",46,6648288,144528,129750,136,{"$f":"(C120/AC120)*100","v":5042799.5121467523},{"$f":"(D120/AC120)*100","v":109626.07635101635},{"$f":"(E120/AC120)*100","v":98416.800941993046},22,2582624,117392,111250,119,{"$f":"(K120/AC120)*100","v":1958948.6868286233},{"$f":"(L120/AC120)*100","v":89043.122128573785},{"$f":"(M120/AC120)*100","v":84384.347628491159},68,9230912,136935.89156434379,124574.07112103332,131.24374103013872,0.72022006059639609,0.27977993940360391,{"$f":"(S120/AC120)*100","v":7001748.1989753749},{"$f":"(T120/AC120)*100","v":103867.37866591422},{"$f":"(U120/AC120)*100","v":94490.802004257595},201.7,131.83724603736587]
["2008-12-01",46,6307152,137112,125250,122,4834377.2364729466,105095.15731462928,96003.037324649311,21,2506308,119348,95000,144,1921063.3171342688,91479.205577822329,72816.675016700072,67,8813460,132060.40218120918,116647.72382242615,128.25620085641737,0.71562723379921167,0.28437276620078833,6755440.5536072152,101223.15145477703,89409.467337004098,199.6,{"$f":"(AB121/$AD$14)*100","v":130.46462225611415}]
["2009-01-01",29,3529039,121691,113000,125,2688812.541542165,92717.673846281541,86095.908034528562,13,1678690,129130,117500,113,1279011.8571547146,98385.527473439579,89524.506142098282,42,5207729,124088.93101945205,114450.55647096844,121.13184941075083,0.67765411756256899,0.32234588243743101,3967824.3986968794,94544.683125254,87201.10251703643,200.8,131.2489787025437]
["2009-02-01",38,4884596,128542,124000,135,3708697.1862696437,97597.29437551694,94148.717948717938,25,3225050,129002,108500,170,2448663.8937138128,97946.555748552521,82380.128205128203,63,8109646,128724.93313912839,117835.9485728477,148.91882580324716,0.60231926276436731,0.39768073723563269,6157361.079983457,97736.188895833664,89468.576503263481,201.5,131.70651996296095]
["2009-03-01",62,9254182,149261,142500,124,7008245.3201234862,113036.2148407014,107916.07060652113,37,5404442,146066,116000,191,4092815.0488480576,110616.62294183941,87847.46800250141,99,14658624,148083.04549417464,132729.7983084906,148.70201937098597,0.63131314371662717,0.36868685628337283,11101060.368971545,112144.14311002126,100517.04060244477,202.02099999999999,132.04706138678574]
["2009-04-01",106,15031012,141802,129925,161,11367373.097215356,107239.36884165433,98257.253048278144,45,5635440,125232,114500,183,4261865.3386060307,94708.118635689578,86591.922062942831,151,20666452,137283.60270567972,125718.8275036276,166.9990790872086,0.72731458694506435,0.27268541305493565,15629238.43582139,103822.27970314607,95076.287450119431,202.3,132.22942426058063]
["2009-05-01",130,19059170,146609,130000,127,14349872.950705383,110383.63808234911,97878.526902887155,46,6683478,145293,113250,151,5032069.086368111,109392.80622539372,85267.255167322844,176,25742648,146267.33130111557,125651.25326267912,133.23104010123589,0.74037332911517106,0.25962667088482894,19381942.037073493,110126.39170592115,94604.304406558658,203.2,132.81769159540278]
["2009-06-01",103,15200637,147579,128500,143,11322155.740141187,109923.84213729308,95712.897598182404,66,10508982,159227,138000,172,7827588.467137293,118599.82525965595,102788.94839337877,169,25709619,152340.19939140289,132383.18975088661,154.85394766060128,0.59124318411719756,0.40875681588280244,19149744.207278479,113470.20937304308,98605.281590251834,205.4,134.25567841385697]
["2009-07-01",122,18047826,147933,132350,112,13482260.641845703,110510.33312988281,98869.370524088547,53,8901138,167946,138300,167,6649413.7590332031,125460.63696289064,103314.19677734375,175,26948964,154543.21606596824,134315.26185941693,130.16628609545063,0.66970388917362467,0.33029611082637533,20131674.400878906,115448.36034159793,100337.47934883772,204.8,133.86350019064218]
["2009-08-01",121,18049449,149169,130000,89,{"$f":"(C129/AC129)*100","v":13431008.19516051},{"$f":"(D129/AC129)*100","v":111000.06772859924},{"$f":"(E129/AC129)*100","v":96735.976005188088},54,7354044,136186,135750,119,{"$f":"(K129/AC129)*100","v":5472312.4917315189},{"$f":"(L129/AC129)*100","v":101339.12021725034},{"$f":"(M129/AC129)*100","v":101014.6826361868},175,25403493,145410.5580703016,131664.56451480906,97.68468442509068,0.71051051916364416,0.28948948083635584,{"$f":"(S129/AC129)*100","v":18903320.686892029},{"$f":"(T129/AC129)*100","v":108203.32504915156},{"$f":"(U129/AC129)*100","v":97974.616566446974},205.6,134.38640448826186]
["2009-09-01",92,13765408,149624,138500,125,10243155.215304801,111338.6436446174,103061.0205901427,50,5760300,115206,105690,112,4286371.0967898844,85727.421935797684,78646.34849221792,142,19525708,139470.30900964001,128820.68680941044,121.16485609638329,0.7049889304910224,0.2950110695089776,14529526.312094685,103783.04973686695,95858.422062822909,205.6,134.38640448826186]
["2009-10-01",107,15939362,148966,132700,120,11855078.065062391,110795.12210338682,98697.103386809278,56,7229936,129106,116500,139,5377345.4474153304,96024.025846702323,86648.172905525862,163,23169298,142768.72423618531,127644.82037392761,125.92891437625775,0.6879518749338025,0.3120481250661975,17232423.512477722,106185.8292113161,94937.257221071835,205.7,134.45176752546433]
["2009-11-01",94,12189732,129678,123000,129,9044264.8637245409,96215.583656644041,91260.790494665387,42,5444964,129642,120000,137,4039932.6736178473,96188.873181377305,89034.917555771113,136,17634696,129666.88448635576,122073.70719631345,131.47011414316415,0.69123573210448308,0.30876426789551692,13084197.537342388,96207.336416303166,90573.520466259259,206.2,134.77858271147664]
["2009-12-01",49,8272376,168824,150300,160,6155664.3557068752,125625.80317769134,111841.67071984439,19,2817244,148276,113900,163,2096375.7537289239,110335.56598573284,84755.59743839172,68,11089620,163603.91764262435,141052.82276579359,160.76212999183019,0.74595666938993399,0.25404333061006601,8252040.1094357995,121741.42039562827,104960.63445027583,205.6,134.38640448826186]
["2010-01-01",29,4082678,140782,119000,155,3023309.3498709258,104252.04654727332,88122.015166182638,21,2678445,127545,106000,97,1983445.133712488,94449.768272023226,78495.240400129071,50,6761123,135538.11130503024,113849.99977074814,132.02307590026095,0.6038461362113956,0.3961538637886044,5006754.483583414,100368.83613460189,84308.331146787867,206.6,135.04003486028651]
["2010-02-01",50,7185600,143712,126250,125,5321088.673765731,106421.77347531462,93490.793401097137,24,2644872,110203,108750,201,1958583.6176185864,81607.650734107781,80531.673523717327,74,9830472,134696.45976469899,121541.65435800032,145.44767250239866,0.73095167760001756,0.26904832239998244,7279672.291384317,99745.575379965652,90004.163938307829,206.6,135.04003486028651]
["2010-03-01",100,13438900,134389,128450,149,9913402.6478624232,99134.026478624233,94753.035599485695,48,5753280,119860,102000,153,4243991.7839922849,88416.495499839279,75241.803278688516,148,19192180,130033.61123645151,120521.02809581818,150.19908837870423,0.70022790532393919,0.29977209467606081,14157394.431854708,95921.20976735829,88904.112616969054,207.4,135.56293915790621]
["2010-04-01",126,18091962,143587,127750,135,13326525.852912856,105766.07819772107,94100.555689295463,63,8296155,131685,115000,150,6110941.6484111706,96999.073784304288,84708.915101909821,189,26388117,139845.13252192264,123741.52996593126,139.71584709890442,0.68561019340637308,0.31438980659362692,19437467.501324028,103009.82137578148,91147.919621430439,207.7,135.75902826951358]
["2010-05-01",120,16967880,141399,129900,105,12480501.158653848,104004.17632211538,95546.237980769234,75,10739775,143197,128000,144,7899500.369591346,105326.6715945513,94148.717948717953,195,27707655,{"$f":"W138*D138+X138*L138","v":142095.92348378093},{"$f":"W138*E138+X138*M138","v":129163.54025629378},{"$f":"W138*F138+X138*N138","v":120.11680526554845},{"$f":"C138/(C138+K138)","v":0.61238960857568059},{"$f":"(1-W138)","v":0.38761039142431941},{"$f":"(S138/AC138)*100","v":20380001.528245192},{"$f":"(T138/AC138)*100","v":104516.7892323211},{"$f":"(U138/AC138)*100","v":95004.544694122495},208,135.95511738112097]
["2010-06-01",120,18154680,151289,131250,133,13359859.312169315,111332.16093474427,96585.648148148161,64,10474240,163660,138250,112,{"$f":"(K139/AC139)*100","v":7707895.3086419757},{"$f":"(L139/AC139)*100","v":120435.86419753087},{"$f":"(M139/AC139)*100","v":101736.8827160494},184,28628920,155815.08142535589,133811.03548439828,125.31689354680512,0.63413778794310094,0.36586221205689906,21067754.620811291,114662.86194837699,98470.290221984469,207.9,135.8897543439185]
["2010-07-01",67,10478599,156397,140000,107,7699991.9564921558,114925.25308197248,102876.24079410823,37,5770224,155952,147000,165,4240135.3832853027,114598.25360230547,108020.05283381365,104,16248823,156238.97318907344,142485.81500333903,127.59675288480894,0.6448835709515699,0.3551164290484301,11940127.339777458,114809.13019445243,104702.89295734477,208.2,136.08584345552589]
["2010-08-01",75,10906500,145420,130000,119,7999058.5450623212,106654.1139341643,95344.758708852678,40,6318200,157955,127450,149,4633901.9574944079,115847.54893736019,93474.534595717501,115,17224700,150017.96902123114,129064.6333462992,130.00431357295048,0.63318954756831758,0.36681045243168242,12632960.502556728,110026.36198708785,94658.740955764923,208.6,136.34729560433573]
["2010-09-01",60,8988540,149809,135500,113,6586071.4343869723,109767.8572397829,99283.385217113668,35,4717440,134784,113000,112,3456556.5517241377,98758.758620689652,82797.21424010217,95,13705980,144637.5685518292,127755.75989458615,112.6558115508705,0.65581155087049592,0.34418844912950408,10042627.98611111,105978.65265976344,93609.035596452231,208.8,136.47802167874067]
["2010-10-01",52,7600996,146173,133750,129,5572060.5959111974,107155.01145983071,98048.085369749257,39,6733389,172651,153900,129,4936044.1084091999,126565.23354895385,112819.44178246288,91,14334385,158610.69257920727,143215.19772909686,129,0.53026313999519337,0.46973686000480663,10508104.704320397,116272.70823597134,104986.73594906923,208.7,136.4126586415382]
["2010-11-01",66,10684212,161882,134250,136,7828522.0349616855,118613.97022669221,98367.486829501911,35,5046930,144198,118000,150,3697980.0395114943,105656.57255747126,86460.807790549166,101,15731142,156208.54602443991,129036.60783177725,140.4915378680073,0.67917586657090756,0.32082413342909244,11526502.07447318,114456.92434796825,94547.536844811562,208.8,136.47802167874067]
["2010-12-01",72,10593576,147133,137991,119,7743568.3143812716,107549.55992196209,100867.04765886287,28,3854144,137648,125250,104,2817257.1148272017,100616.32552954291,91553.780458671754,100,14447720,144602.73530494777,134592.14892149073,114.99852710323843,0.73323514021589564,0.26676485978410436,10560825.429208472,105700.01662141806,98382.595240071998,209.3,136.80483686475299]
["2011-01-01",28,3519292,125689,105500,124,2559041.580640051,91394.342165716109,76713.977344740182,31,3691046,119066,110000,113,2683931.9357572878,86578.449540557674,79986.137515842842,59,7210338,122298.61834826606,107803.59616983282,118.36898714040868,0.48808974003715222,0.51191025996284778,5242973.5163973393,88929.037320018091,78389.029708569418,210.4,137.52383027398005]
["2011-02-01",35,4493988,124833,100000,139,3256952.6958787306,90470.908218853627,72473.551239538923,24,2267136,94464,79137,119,1643073.9706300334,68461.415442918049,57353.394244433926,59,6761124,114649.68533456862,93004.231490503647,132.29361212721435,0.66468060636071757,0.33531939363928243,4900026.666508764,83090.698446918745,67403.469364209566,211.1,137.98137153439728]
["2011-03-01",57,7468596,131028,115000,156,5364473.9422535216,94113.577934272311,82601.134585289532,28,4378808,156386,121450,142,3145169.6428794996,112327.48724569642,87233.980829420994,85,11847404,140400.33281350075,117383.92407315562,150.82559115904209,0.63039936850300704,0.36960063149699296,8509643.5851330217,100845.45031780362,84313.437482748996,213,139.22326924124405]
["2011-04-01",66,8899110,134835,125700,116,6347271.192307693,96170.775641025655,89655.256410256421,44,5872900,133475,112050,171,4188833.3760683765,95200.758547008561,79919.423076923093,110,14772010,134294.3055379735,120273.17690686643,137.86632015548324,0.60243054262757745,0.39756945737242255,10536104.56837607,95785.126471315307,85784.586434854733,214.5,140.20371479928099]
["2011-05-01",100,13887900,138879,130500,113,9841282.8508568779,98412.828508568782,92475.277906438161,45,6903810,153418,125000,142,4892197.3054654934,108715.49567701097,88577.852400802833,145,20791710,143706.62089265385,128673.74544950848,122.62934217531891,0.6679537180924513,0.3320462819075487,14733480.156322371,101833.79083558098,91181.152258280301,215.9,141.11879732011548]
["2011-06-01",108,16184664,149858,137250,114,11463512.591666669,106143.63510802471,97213.454861111124,60,8722740,145379,145000,153,6178270.9745370373,102971.18290895062,102702.73919753087,168,24907404,148289.42414761489,139964.10199955001,127.6580616751549,0.64979329038064348,0.35020670961935652,17641783.566203706,105032.62106196227,99135.839066733752,216,141.18416035731792]
["2011-07-01",109,16139739,148071,132000,118,11426402.448750578,104829.38026376678,93451.642757982409,62,6283108,120829,113400,115,4448233.0623168284,85542.943506092866,80283.456732993989,171,22422847,140437.51669897226,126788.09230603054,117.15936972677912,0.71978990892637318,0.28021009107362682,15874635.511067407,99425.126063413234,89761.784152645938,216.1,141.24952339452039]
["2011-08-01",96,14290176,148856,141500,121,10093618.851338876,105141.86303477995,99946.079562942468,52,6651632,127916,116500,107,4698265.3080947995,90351.25592489999,82287.761618959703,148,20941808,142204.94226515686,133559.38665849672,116.55325652875817,0.68237546633986901,0.31762453366013099,14791884.159433676,100444.00334895412,94337.364560762609,216.6,141.57633858053268]
["2011-09-01",70,11470690,163867,136000,129,8087188.8521505389,115531.26931643626,95884.178187404003,51,6573135,128885,102000,147,4634262.1146313362,90867.884600614445,71913.133640553002,121,18043825,151123.50417414267,123614.23423248673,135.5571701122129,0.63571277154372752,0.36428722845627248,12721450.966781875,106546.71325395873,87151.83280622981,217,141.83779072934254]
["2011-10-01",77,9484244,123172,117000,116,6726983.2945448942,87363.419409673937,82985.744089012529,37,4725825,127725,95000,153,3351932.5133286975,90592.770630505343,67381.587080822137,114,14210069,124686.18555567885,109683.4873215605,128.30504405010277,0.66743124188911396,0.33256875811088604,10078915.807873592,88437.400734689712,77796.288971431379,215.7,140.98807124571053]
["2011-11-01",58,8323058,143501,135950,129,5906115.5620748298,101829.57865646259,96471.322278911568,39,5529186,141774,122000,85,3923559.2831632653,100604.08418367348,86572.27891156463,97,13852244,142811.66011961672,130381.79424936495,111.43720049978907,0.60084546590429677,0.39915453409570323,9829674.8452380951,101340.41698113958,92520.074235625041,215.6,140.92270820850808]
["2011-12-01",70,9000460,128578,120000,135,6398677.3985439893,91409.677122056994,85311.33828996282,35,5252520,150072,110000,127,3734162.5882899631,106690.35966542752,78202.060099132592,105,14252980,136498.98669050261,116314.79171373285,132.05183337098629,0.6314791713732848,0.3685208286267152,10132839.986833952,97040.926914921685,82691.421200140219,215.2,140.66125605969825]
["2012-01-01",36,5161536,143376,132450,133,3649131.2162661743,101364.75600739373,93640.232208872476,22,2716758,123489,113450,151,1920708.569085028,87304.934958410362,80207.507316697491,58,7878294,136518.14900510188,125898.02288414218,139.20713621502318,0.65515909916537773,0.34484090083462227,5569839.7853512028,96516.354651288741,89008.079256391211,216.4,141.44561250612776]
["2012-02-01",57,7859502,137886,129900,124,5543745.0905947434,97258.685799907791,91625.714615029967,22,1996236,90738,84450,96,1408056.5822959889,64002.57192254495,59567.294836330111,79,9855738,128336.38180519815,120694.30417082921,118.32872424165495,0.79745443720196296,0.20254556279803704,6951801.672890733,90522.807498141716,85132.423938537482,216.9,141.7724276921401]
["2012-03-01",70,8613640,123052,114000,132,6017420.729071538,85963.153272450538,79639.497716894984,42,6354726,151303,131450,171,4439361.2874429226,105699.07827245054,91829.929604261808,112,14968366,135045.78504146676,121408.28816585591,148.55720564288714,0.57545626556699647,0.42454373443300353,10456782.01651446,94341.916574440198,84814.869194708852,219,143.14505147339179]
["2012-04-01",80,10032640,125408,110500,91,6995944.9164387723,87449.31145548464,77053.68808872682,56,7871696,140566,119950,124,5489078.8082649652,98019.264433302946,83643.347386812515,136,17904336,132072.26099063377,114654.72135911658,105.50855077786744,0.56034694612522906,0.43965305387477094,12485023.724703737,92096.42356149519,79950.851923124472,219.4,143.40650362220165]
["2012-05-01",105,15967665,152073,128500,112,11149793.158945689,106188.50627567322,89728.11121253614,65,7810465,120161,107200,85,5453838.6937091146,83905.210672447909,74854.891221664395,170,23778130,141590.78129398738,121503.53288925579,103.13123887370453,0.6715273656927605,0.3284726343072395,16603631.852654804,98869.053467834892,84842.665461503391,219.1,143.21041451059423]
["2012-06-01",140,22590400,161360,138750,118,15781474.642313547,112724.81887366819,96929.651826484012,79,12214032,154608,137500,139,8532626.0840182658,108007.92511415525,96056.411719939133,219,34804432,158990.49878061505,138311.33345316481,125.36959798683111,0.64906676253185225,0.35093323746814775,24314100.726331815,111069.50407584899,96623.202848807196,219,143.14505147339179]
["2012-07-01",100,15397500,153975,139037,76,10756571.632420093,107565.71632420091,97130.147754946738,50,8238350,164767,136545,78,{"$f":"(K164/AC164)*100","v":5755246.1054033488},{"$f":"(L164/AC164)*100","v":115104.92210806697},{"$f":"(M164/AC164)*100","v":95389.256278538829},150,23635850,157736.58560830264,138168.40554708207,76.697106302502348,0.65144684874882863,0.34855315125117137,{"$f":"(S164/AC164)*100","v":16511817.73782344},{"$f":"(T164/AC164)*100","v":110193.53025809849},{"$f":"(U164/AC164)*100","v":96523.354544858448},219,143.14505147339179]
["2012-08-01",110,17478450,158895,150000,97,12127243.520408163,110247.66836734694,104075.96371882087,67,9324591,139173,133000,122,6469771.9640589571,96563.760657596373,92280.687830687835,177,26803041,152033.85377028672,144085.81858304809,105.69732561316457,0.65210697547341734,0.34789302452658266,18597015.484467119,105487.13232685918,99972.469514972792,220.5,144.12549703142872]
["2012-09-01",79,10922935,138265,137500,103,7558200.047678275,95673.41832504145,95144.07131011608,56,8059744,143924,126500,110,5576995.3300165832,99589.202321724704,87532.54560530679,135,18982679,140667.721517653,132829.57471387467,105.97208881844338,0.57541588307951685,0.42458411692048315,13135195.377694858,97335.998015324556,91912.338390322053,221.1,144.51767525464351]
["2012-10-01",93,14281266,153562,132700,102,9913406.022912886,106595.76368723535,92114.311101028448,47,6106616,129928,125000,125,4238935.3880822752,90190.114640048414,86769.320931639464,140,20387882,146483.1007526922,130393.68180569223,108.88900239858167,0.70047815658340573,0.29952184341659427,14152341.410995161,101681.91344217621,90513.369792449492,220.4,144.06013399422625]
["2012-11-01",88,13349952,151704,135450,96,9304926.6806378122,105737.80318906606,94408.752847380412,38,5421650,142675,123750,100,3778894.1666666665,99444.583333333343,86253.843963553532,126,18771602,149096.22694738573,132070.78361772213,97.155287652060821,0.71117808698479756,0.28882191301520244,13083820.847304482,103920.18339130806,92053.436463088874,219.5,143.4718666594041]
["2012-12-01",73,9905151,135687,125000,98,6919660.0916666677,94789.864269406389,87324.010654490106,33,5176413,156861,110500,133,3616201.1517123291,109581.85308219178,77194.425418569255,106,15081564,142954.50679584692,120023.19596959573,110.01297524580342,0.65677213583418803,0.34322786416581197,10535861.243378997,99866.886996383328,83847.254749079453,219,143.14505147339179]
["2013-01-01",49,8575931,175019,143500,106,5982881.7916476671,122099.6284009728,100110.82611339109,29,3200295,110355,106105,114,2232642.3432512539,76987.667008663935,74022.712228302174,78,11776226,157445.97822884851,133337.5734700574,108.17407172722399,0.72824103409700192,0.27175896590299808,8215524.1348989205,109840.04842314296,93021.147261619699,219.3,143.34114058499918]
["2013-02-01",58,7534432,129904,117450,144,5201738.7593261143,89685.15102286404,81086.964124548758,28,3784480,135160,113500,145,2612788.3694344168,93313.870336943452,78359.901474127575,86,11318912,131661.34442320958,116129.31688133982,144.33435015662283,0.6656498433771727,0.3343501566228273,7814527.1287605315,90898.413893866775,80175.170300260157,221.6,144.84449044065579]
["2013-03-01",82,10577344,128992,122900,108,7286112.0552303782,88855.025063785099,84658.603481915066,31,3721147,120037,116900,169,2563279.9704712592,82686.450660363203,80525.555305417991,113,14298491,126661.48334722874,121338.51480551339,123.8750994772805,0.73975246758556545,0.26024753241443455,9849392.0257016383,87249.668796779719,83582.987892631718,222.1,145.1713056266681]
["2013-04-01",111,18173808,163728,138000,90,12530154.013519604,112884.27039206852,95145.786390265886,64,10069696,157339,157950,117,6942674.9610935859,108479.29626708728,108900.55768364129,175,28243504,161450.12089038244,145112.80141444207,99.626347778944137,0.64346860077984658,0.35653139922015342,19472828.974613193,111313.75880376039,100049.79424544623,221.9,145.04057955226318]
["2013-05-01",124,20489140,{"$f":"165235","v":165235},143900,72,14050505.052293442,113310.52461526969,98679.967876886309,73,11269229,154373,139900,100,7727916.3010234581,105861.86713730765,95936.952786493363,197,31758369,161380.69736254402,142480.62874702414,81.935598770831092,0.64515718675603273,0.35484281324396727,21778421.353316899,110667.42204089892,97706.628685440621,223.1,145.82493599869272]
["2013-06-01",129,21429609,166121,152000,79,14649470.942470958,113561.79025171287,103908.54929997021,66,11394174,172639,137875,99,7789158.4921805188,118017.55291182606,94252.573912719701,195,32823783,168383.60410422529,147096.76542310801,85.942633029227622,0.65286834853861908,0.34713165146138092,22438629.434651475,115108.52650243792,100556.65461732351,223.8,146.28247725910995]
["2013-07-01",137,22583491,164843,147919,66,15500609.812658891,113143.13731867803,101527.02710483028,54,8644968,160092,145000,113,5933638.6837146711,109882.19784656797,99523.515776880522,191,31228459,163527.7816292184,147110.93381934089,79.011000510784086,0.72317020189821091,0.27682979810178909,21434248.496373564,112240.41210299166,100972.3954684193,222.9,145.6942099242878]
["2013-08-01",145,23690226,161158,152000,80,16252946.903363228,110564.26464872946,104281.31539611361,77,14083146,182898,142000,100,9661901.2486547083,125479.2369955157,97420.702541106133,222,37773372,169263.38159103191,148271.67360118128,87.456652797637446,0.62716736011812768,0.37283263988187232,25914848.152017936,116125.0531625469,101723.45499417365,223,145.75957296149028]
["2013-09-01",98,16446752,167824,154500,72,11268320.64367816,114982.86371100164,105854.06403940886,80,11587680,144846,123000,125,7939178.1280788174,99239.726600985217,84272.167487684725,178,28034432,158326.33259443246,141479.8710385857,93.906883649363749,0.58666257265351407,0.41333742734648593,19207498.771756977,108475.63591958447,96933.458441461204,223.3,145.95566207309767]
["2013-10-01",88,16275512,184949,160000,69,11206200.300330034,127343.1852310231,110165.01650165017,52,6592664,126782,118750,107,4539255.8646864686,87293.382013201321,81763.098184818489,140,22868176,168180.0418247612,148108.04193565767,79.9550159138184,0.71171010753109476,0.28828989246890524,15745456.165016504,115797.23176795646,101977.03052418014,222.2,145.23666866387057]
["2013-11-01",73,11621016,159192,143000,69,8019479.5047361301,109855.88362652234,98682.040294692531,42,6357792,151376,147450,71,4387411.7925124047,104462.18553600964,101752.91497519171,115,17978808,156428.05134044483,144573.64016568841,69.707254007050963,0.64637299647451596,0.35362700352548404,12406891.297248535,107948.5263328532,99767.98450615973,221.7,144.90985347785826]
["2013-12-01",71,10364225,145975,135000,69,7168354.6856163358,100962.74205093431,93371.948462929475,53,6989216,131872,122000,84,4834049.749246534,91208.485834840263,84380.575647980717,124,17353441,140294.92114716614,129764.16187429341,75.041351683507614,0.59724322109949257,0.40275677890050743,12002404.434862869,97034.149236770027,89750.612110087124,221.2,144.58303829184595]
["2014-01-01",53,8082076,152492,119500,72,5564762.7244224418,104995.52310231024,82279.496699669966,27,4216995,156185,145000,148,2903533.2735148515,107538.26938943894,99837.046204620463,80,12299071,153758.22267120826,128243.21097097496,98.058197403690087,0.65712898153039367,0.34287101846960633,8468295.9979372937,105867.35711148787,88299.471580262878,222.2,145.23666866387057]
["2014-02-01",42,6401850,152425,141000,88,4382235.7997762859,104338.9476137211,96518.2326621924,41,5352632,130552,116500,141,3664018.3030574196,89366.300074571205,79747.334079045497,83,11754482,142464.70402643009,129843.44848203435,112.13458083478284,0.54463055028711604,0.45536944971288396,8046254.102833706,97520.861343073455,88881.2778031942,223.5,146.08638814750259]
["2014-03-01",76,11799228,155253,149000,86,8005248.5902439021,105332.21829268293,101089.83739837399,47,7171495,152585,119000,148,4865538.6808943087,103522.09959349594,80736.17886178862,123,18970723,154244.41700292603,137659.11172705435,109.43783576408764,0.62197039090181228,0.37802960909818772,12870787.27113821,104647.93982840795,93395.551818070613,225.5,147.39364889155183]
["2014-04-01",91,13489658,148238,132500,82,9123807.5162835252,100261.62105806073,89617.134541703519,32,4125792,128931,117750,126,2790503.0698496909,87203.22093280284,79640.887488947847,123,17615450,143716.02263671946,129045.33764394325,92.305433468915069,0.76578560297920295,0.23421439702079705,11914310.586133217,97203.155746667137,87280.553853711855,226.2,147.85119015196904]
["2014-05-01",145,25108200,173160,137500,82,16952097.815533981,116911.01941747575,92834.749190938528,69,11770641,170589,142500,111,7947087.3094660202,115175.17839805825,96210.558252427189,214,36878841,172339.41244381841,139095.85289027929,91.255946763619818,0.68082942194414409,0.31917057805585591,24899185.125,116356.9900358952,93912.208120500058,226.6,148.1126423007789]
["2014-06-01",165,27145800,164520,148500,79,18247281.12917399,110589.58260105448,99821.012741652026,87,14220324,163452,152000,103,9558835.981107207,109871.67794376098,102173.69654364382,252,41366124,164152.85643992171,149703.18582422662,87.250417080411012,0.6562326216495411,0.3437673783504589,27806117.110281199,110342.79039911112,100629.78868435034,227.6,148.76627267280352]
["2014-07-01",125,18391875,147135,130000,62,12395610.613986783,99164.88491189426,87616.372980910426,71,11188677,157587,135000,82,7540856.1322687222,106209.24129955948,90986.233480176204,196,29580552,151088.41006496429,131891.22180681414,69.564887227256605,0.62175563863716943,0.37824436136283057,19936466.746255506,101829.37299495886,88891.003713337021,227,148.37409444958877]
["2014-08-01",131,21187940,161740,146000,79,14305287.969255663,109200.67152103561,98573.624595469271,60,8836680,147278,140750,87,5966188.8834951464,99436.481391585767,95029.025080906154,191,30024620,157483.624193745,144454.84905387645,81.35451572742636,0.7056855340717052,0.2943144659282948,20271476.852750812,106326.92911786423,97530.397682410927,226.6,148.1126423007789]
["2014-09-01",104,16249168,156242,144500,90,10956312.44718672,105349.15814602617,97431.889966211253,59,10347892,175388,134000,130,6977264.1849566633,118258.71499926546,90352.064051711481,163,26597060,163690.97143639185,140414.85427336706,105.56245991098265,0.61093850222543389,0.38906149777456611,17933576.632143382,110371.76967095336,94677.402291932784,226.9,148.30873141238629]
["2014-10-01",107,15952630,149090,132900,76,10808766.392456451,101016.50834071448,90046.910983170936,76,12198684,160509,143500,95,8265265.7054915847,108753.49612488928,97228.98213758487,183,28151314,154038.14460866729,137493.25097222815,84.233185704937256,0.56667443658224981,0.43332556341775019,19074032.097948033,104369.14293144828,93159.086012663727,225.8,147.58973800315923]
["2014-11-01",77,11778613,152969,129000,86,8016146.0582369519,104105.79296411626,87793.260676156598,54,8180190,151485,125950,100,5567174.8298487552,103095.83018238436,85717.528543890876,131,19958803,152360.77705396462,127749.94610147714,91.737952321088585,0.59014626277938609,0.40985373722061391,13583320.888085706,103691.85594356972,86942.514104278584,224.8,146.93610763113458]
["2014-12-01",69,9568023,138667,119000,88,6570142.6637118496,95219.45889437462,81714.57959305805,40,5584560,139614,130500,84,3834789.6858168757,95869.7421454219,89611.36669658887,109,15152583,139016.02157077775,123238.38232729034,86.525780060072933,0.63144501501823158,0.36855498498176842,10404932.349528724,95459.124028198261,84624.979845404072,222.8,145.62884688708536]
["2015-01-01",50,{"$f":"B194*D194","v":8911050},178221,164900,95,{"$error":"#DIV/0!"},{"$error":"#DIV/0!"},{"$error":"#DIV/0!"},23,{"$f":"J194*L194","v":3593934},156258,149900,143,null,null,null,73,null,171908.8309926666,160588.99808268447,108.7952061354097,0.71259987217896481,0.28740012782103519]
["2015-02-01",56,{"$f":"B195*D195","v":10565240},188665,152400,99,{"$f":"(C195/AC195)*100","v":{"$error":"#DIV/0!"}},{"$f":"(D195/AC195)*100","v":{"$error":"#DIV/0!"}},{"$f":"(E195/AC195)*100","v":{"$error":"#DIV/0!"}},21,{"$f":"J195*L195","v":2266866},107946,95900,110,null,null,null,77,null,174405.52017229283,142418.94708475756,100.9432138419056,0.82334419619039934,0.17665580380960066]
["2015-03-01",121,19019264,157184,149500,88,{"$error":"#DIV/0!"},{"$error":"#DIV/0!"},{"$error":"#DIV/0!"},54,8960490,165935,151700,98,null,null,null,175,null,159986.49954985309,150204.54793848438,91.20249062947444,0.67975093705255596,0.32024906294744404]
["2015-04-01",132,21257676,161043,147700,99,{"$error":"#DIV/0!"},{"$error":"#DIV/0!"},{"$error":"#DIV/0!"},60,9539460,158991,148100,105,null,null,null,192,null,160407.38986014805,147823.90061205692,100.8585091808537,0.6902484698577166,0.3097515301422834]
["2015-05-01",176,30411392,172792,149900,80,{"$error":"#DIV/0!"},{"$error":"#DIV/0!"},{"$error":"#DIV/0!"},62,10610184,171132,161700,92,null,null,null,238,null,172362.64288705046,152952.05658602683,83.103786358671343,0.74135113677738762,0.25864886322261238]
["2015-06-01",219,39291666,179414,157900,81,{"$error":"#DIV/0!"},{"$error":"#DIV/0!"},{"$error":"#DIV/0!"},69,12379014,179406,164900,56,null,null,null,288,null,179412.08339832185,159577.0264683956,75.010619755729948,0.76042479022919773,0.23957520977080227]
["2015-07-01",181,29895046,165166,144900,61,{"$error":"#DIV/0!"},{"$error":"#DIV/0!"},{"$error":"#DIV/0!"},86,15239716,177206,158900,69,null,null,null,267,null,169231.29629291056,149627.08871268667,63.70119355010668,0.6623508062366652,0.3376491937633348]
["2015-08-01",124,22379768,180482,150037,47,null,{"$error":"#DIV/0!"},{"$error":"#DIV/0!"},77,12245002,159026,129900,61,null,null,null,201]
["2015-09-01",109,18777430,172270,150000,60,null,{"$error":"#DIV/0!"},{"$error":"#DIV/0!"},null,0]
["2015-10-01",113,16978250,150250,150000,53,null,{"$error":"#DIV/0!"},{"$error":"#DIV/0!"},null,0]
["2015-11-01",58,7807206,134607,123900,74,null,{"$error":"#DIV/0!"},{"$error":"#DIV/0!"},null,0]
["2015-12-01",95,17225970,181326,154900,71,null,{"$error":"#DIV/0!"},{"$error":"#DIV/0!"},null,0]
["2016-01-01",48,7882224,164213,155500,71,null,{"$error":"#DIV/0!"},{"$error":"#DIV/0!"},null,0]
["2016-02-01",66,11282172,170942,136000,109,null,{"$error":"#DIV/0!"},{"$error":"#DIV/0!"},null,0]
["2016-03-01",89,14588524,163916,153000,74,null,{"$error":"#DIV/0!"},{"$error":"#DIV/0!"},null,0]
["2016-04-01",134,22627508,168862,163125,70,null,{"$error":"#DIV/0!"},{"$error":"#DIV/0!"},null,0]
["2016-05-01",131,23663185,180635,160000,65,null,{"$error":"#DIV/0!"},{"$error":"#DIV/0!"},null,0]
["2016-06-01",170,30319330,178349,158950,73,null,{"$error":"#DIV/0!"},{"$error":"#DIV/0!"},null,0]
["2016-07-01",132,24006180,181865,160000,50,null,{"$error":"#DIV/0!"},{"$error":"#DIV/0!"},null,0]
["2016-08-01",144,27528192,191168,161950,77,null,{"$error":"#DIV/0!"},{"$error":"#DIV/0!"},null,0]
["2016-09-01",95,15831845,166651,145000,78,null,null,null,66,11129316,168626,153200,84]
["2016-10-01",{"$nulls":9},0]
["2016-11-01",{"$nulls":9},0]
["2016-12-01",{"$nulls":9},0]

{"sheet":"Work details","index":1,"n_rows":31,"n_cols":2,"rows_kept":31,"cut":false,"hidden":false,"merged":[]}
["Coldwell Banker - Multiple Listing Service Real Estate Data"]
[]
["cvcerd folder, economic indicators folder, data, folder, sls_tx_oth_consump folder"]
["File name: ec_ch_home_sales_data.xls"]
[]
["Contact: Mark Fouts, Managing Broker, Coldwell Banker","715-828-2127     mark@markfouts.com "]
["-Sent directly to me by fax each month about the 12th day"]
[]
["ec_nrps – # of residential homes sold in Eau Claire County"]
["ec_vrps – $ value of residential homes sold in Eau Claire County"]
["ec_avg_rp – average price of residential homes sold in Eau Claire County"]
["ec_med_rp – median price of residential homes sold in Eau Claire County"]
["ec_avg_rdom – average days on market of residential homes sold in Eau Claire County "]
["ch_nrps – # of residential homes sold in Chippewa County"]
["ch_vrps – $ value of residential homes sold in Chippewa County"]
["ch_avg_p – average price of residential homes sold in Chippewa County"]
["ch_med_p – median price of residential homes sold in Chippewa County"]
["ch_avg_rdom – average days on market of residential homes sold in Chippewa County "]
["ecch_nrps – # of residential homes sold in Eau Claire and Chippewa County"]
["ecch_vrps – $ value of residential homes sold in Eau Claire and Chippewa County"]
["ecch_avg_p – average price of residential homes sold in Eau Claire and Chippewa County (wtd avg)"]
["ecch_med_p – median price of residential homes sold in Eau Claire and Chippewa County (wtd avg)"]
["ecch_avg_rdom – average days on market of residential homes sold in EC & Chip County (wtd avg)"]
[]
["*Calculate real $ for value and prices"]
[]
["*On month-to-month page we calculate the % of sales that occurred in each month and use that to create ytd median price as a weighted average."]
[]
[]
["Report: Pages 13-15     "]
["Web Data Folder, housing_market folder, cvcerd_home_sales_price_data_2010-2019.xls"]

{"sheet":"Eau Claire data","index":2,"n_rows":0,"n_cols":0,"rows_kept":0,"cut":false,"hidden":false,"merged":[]}

{"sheet":"Chippewa data","index":3,"n_rows":0,"n_cols":0,"rows_kept":0,"cut":false,"hidden":false,"merged":[]}

{"sheet":"mnth-mnth","index":4,"n_rows":440,"n_cols":33,"rows_kept":440,"cut":false,"hidden":false,"merged":[]}
["ecch_nrps","jan","feb","mar","apr","may","jun","jul","aug","sep","oct","nov","dec","ytd_total"]
[2003,81,112,141,146,174,204,201,211,179,159,90,116,{"$f":"SUM(B2:M2)","v":1814},{"$f":"SUM(B2:M2)","v":1814}]
[2004,56,107,141,191,174,222,190,181,145,145,111,112,1775,1775,null,2000,{"$f":"SUM(data!R14:R25)","v":1405}]
[2005,62,99,144,168,179,261,210,220,185,137,123,95,1883,1883,null,2001,{"$f":"SUM(data!R26:R37)","v":1596}]
[2006,80,101,153,163,213,221,185,193,146,125,103,114,1797,1797,null,2002,{"$f":"SUM(data!R38:R49)","v":1740}]
[2007,90,120,147,178,195,220,193,187,113,119,102,89,1753,1753]
[2008,73,81,112,142,188,173,161,153,109,139,68,67,1466,1466]
[2009,42,63,99,151,176,169,175,175,142,163,136,68,{"$f":"SUM(B8:M8)","v":1559},{"$f":"SUM(B8:M8)","v":1559}]
[2010,50,74,148,189,195,184,104,115,95,91,101,100,1446,1446]
[2011,59,59,85,110,145,168,171,148,121,114,97,105,1382,1382]
[2012,58,79,112,136,170,219,150,177,135,140,126,106,1608,1608]
[2013,78,86,113,175,197,195,191,222,178,140,115,124,1814,1814]
[2014,80,83,123,123,214,252,196,191,163,183,131,109,1848,1848]
[2015,{"$nulls":12},{"$f":"SUM(B14:B14)","v":0},{"$f":"SUM(B14:M14)","v":0}]
[null,"jan-dec","feb-jan","mar-feb","apr-mar","may-apr","jun-may","jul-jun","aug-jul","sep-aug","oct-sep","nov-oct","dec-nov"]
["change_04",{"$f":"B3-M2","v":-60},{"$f":"C3-B3","v":51},34,50,-17,48,-32,-9,-36,0,-34,1]
["%change_04",{"$f":"(B16/M2)*100","v":-51.724137931034484},{"$f":"(C16/B3)*100","v":91.071428571428569},31.775700934579437,35.460992907801419,-8.9005235602094235,27.586206896551722,-14.414414414414415,-4.7368421052631584,-19.88950276243094,0,-23.448275862068964,0.90090090090090091]
[null,"jan","feb","mar","apr","may","jun","jul","aug","sep","oct","nov","dec","ytd_total"]
["chg_prv_04-03",{"$f":"B3-B2","v":-25},-5,0,45,0,18,{"$f":"H3-H2","v":-11},-30,-34,-14,21,-4,{"$f":"O3-O2","v":-39}]
["%chg_prv_04-03",{"$f":"(B19/B2)*100","v":-30.864197530864196},-4.4642857142857144,0,30.82191780821918,0,8.8235294117647065,-5.4726368159203984,-14.218009478672986,-18.994413407821227,-8.8050314465408803,23.333333333333332,-3.4482758620689653,{"$f":"(N19/O2)*100","v":-2.1499448732083795}]
[]
[null,"jan-dec","feb-jan","mar-feb","apr-mar","may-apr","jun-may","jul-jun","aug-jul","sep-aug","oct-sep","nov-oct","dec-nov"]
["change_05",{"$f":"B4-M3","v":-50},{"$f":"C4-B4","v":37},45,24,11,82,-51,10,-35,-48,-14,-28]
["%change_05",{"$f":"(B23/M3)*100","v":-44.642857142857146},{"$f":"(C23/B4)*100","v":59.677419354838712},45.454545454545453,16.666666666666664,6.5476190476190483,45.81005586592179,-19.540229885057471,4.7619047619047619,-15.909090909090908,-25.945945945945947,-10.218978102189782,-22.76422764227642]
[null,"jan","feb","mar","apr","may","jun","jul","aug","sep","oct","nov","dec","ytd_total"]
["chg_prv_05-04",{"$f":"B4-B3","v":6},-8,3,-23,5,39,{"$f":"H4-H3","v":20},39,40,-8,12,-17,{"$f":"O4-O3","v":108}]
["%chg_prv_05-04",{"$f":"(B26/B3)*100","v":10.714285714285714},-7.4766355140186906,2.1276595744680851,-12.041884816753926,2.8735632183908044,17.567567567567568,10.526315789473683,21.546961325966851,27.586206896551722,-5.5172413793103452,10.810810810810811,-15.178571428571427,{"$f":"(N26/O3)*100","v":6.084507042253521}]
[]
[null,"jan-dec","feb-jan","mar-feb","apr-mar","may-apr","jun-may","jul-jun","aug-jul","sep-aug","oct-sep","nov-oct","dec-nov"]
["change_06",{"$f":"B5-M4","v":-15},{"$f":"C5-B5","v":21},52,10,50,8,-36,8,-47,-21,{"$f":"L5-K5","v":-22},{"$f":"M5-L5","v":11}]
["%change_06",{"$f":"(B30/M4)*100","v":-15.789473684210526},{"$f":"(C30/B5)*100","v":26.25},51.485148514851488,6.5359477124183014,30.674846625766872,3.755868544600939,-16.289592760180994,4.3243243243243246,-24.352331606217618,-14.383561643835616,-17.599999999999998,10.679611650485436]
[null,"jan","feb","mar","apr","may","jun","jul","aug","sep","oct","nov","dec","ytd_total"]
["chg_prv_06-05",{"$f":"B5-B4","v":18},2,9,-5,34,-40,{"$f":"H5-H4","v":-25},-27,-39,-12,-20,19,{"$f":"O5-O4","v":-86}]
["%chg_prv_06-05",{"$f":"(B33/B4)*100","v":29.032258064516132},2.0202020202020203,6.25,-2.9761904761904758,18.994413407821227,-15.325670498084291,-11.904761904761903,-12.272727272727273,-21.081081081081081,-8.7591240875912408,-16.260162601626014,20,{"$f":"(N33/O4)*100","v":-4.567180031864047}]
[]
[null,"jan-dec","feb-jan","mar-feb","apr-mar","may-apr","jun-may","jul-jun","aug-jul","sep-aug","oct-sep","nov-oct","dec-nov"]
["change_07",{"$f":"B6-M5","v":-24},{"$f":"C6-B6","v":30},27,31,17,25,-27,-6,-74,{"$f":"K6-J6","v":6},{"$f":"L6-K6","v":-17},{"$f":"M6-L6","v":-13}]
["%change_07",{"$f":"(B37/M5)*100","v":-21.052631578947366},{"$f":"(C37/B6)*100","v":33.333333333333329},22.5,21.088435374149661,9.5505617977528079,12.820512820512819,-12.272727272727273,-3.1088082901554404,-39.572192513368989,5.3097345132743365,-14.285714285714285,-12.745098039215685]
[null,"jan","feb","mar","apr","may","jun","jul","aug","sep","oct","nov","dec","ytd_total"]
["chg_prv_07-06",{"$f":"B6-B5","v":10},19,-6,15,-18,-1,8,-6,{"$f":"J6-J5","v":-33},{"$f":"K6-K5","v":-6},{"$f":"L6-L5","v":-1},{"$f":"M6-M5","v":-25},{"$f":"O6-O5","v":-44}]
["%chg_prv_07-06",{"$f":"(B40/B5)*100","v":12.5},18.811881188118811,-3.9215686274509802,9.2024539877300615,-8.4507042253521121,-0.45248868778280549,4.3243243243243246,-3.1088082901554404,-22.602739726027394,-4.8,-0.97087378640776689,-21.929824561403507,{"$f":"(N40/O5)*100","v":-2.4485253199777408}]
[]
[null,"jan-dec","feb-jan","mar-feb","apr-mar","may-apr","jun-may","jul-jun","aug-jul","sep-aug","oct-sep","nov-oct","dec-nov"]
["change_08",{"$f":"B7-M6","v":-16},{"$f":"C7-B7","v":8},31,30,46,-15,-12,{"$f":"I7-H7","v":-8},{"$f":"J7-I7","v":-44},{"$f":"K7-J7","v":30},{"$f":"L7-K7","v":-71},{"$f":"M7-L7","v":-1}]
["%change_08",{"$f":"(B44/M6)*100","v":-17.977528089887642},{"$f":"(C44/B7)*100","v":10.95890410958904},38.271604938271601,26.785714285714285,32.394366197183103,-7.9787234042553195,-6.9364161849710975,-4.9689440993788816,-28.75816993464052,27.522935779816514,-51.079136690647488,-1.4705882352941175]
[null,"jan","feb","mar","apr","may","jun","jul","aug","sep","oct","nov","dec","ytd_total"]
["chg_prv_08-07",{"$f":"B7-B6","v":-17},-39,-35,-36,-7,-47,{"$f":"H7-H6","v":-32},-34,-4,20,-34,-22,{"$f":"O7-O6","v":-287}]
["%chg_prv_08-07",{"$f":"(B47/B6)*100","v":-18.888888888888889},-32.5,-23.809523809523807,-20.224719101123593,-3.5897435897435894,-21.363636363636363,-16.580310880829018,-18.181818181818183,-3.5398230088495577,16.806722689075631,-33.333333333333329,-24.719101123595504,{"$f":"(N47/O6)*100","v":-16.371933827723904}]
[]
[null,"jan-dec","feb-jan","mar-feb","apr-mar","may-apr","jun-may","jul-jun","aug-jul","sep-aug","oct-sep","nov-oct","dec-nov"]
["change_09",{"$f":"B8-M7","v":-25},{"$f":"C8-B8","v":21},36,52,25,-7,6,0,-33,21,-27,-68]
["%change_09",{"$f":"(B51/M7)*100","v":-37.313432835820898},{"$f":"(C51/B8)*100","v":50},57.142857142857139,52.525252525252533,16.556291390728479,-3.9772727272727271,3.5502958579881656,0,-18.857142857142858,14.788732394366196,-16.564417177914109,-50]
[null,"jan","feb","mar","apr","may","jun","jul","aug","sep","oct","nov","dec","ytd_total"]
["chg_prv_09-08",{"$f":"B8-B7","v":-31},-18,-13,9,-12,-4,14,22,33,24,68,1,{"$f":"O8-O7","v":93}]
["%chg_prv_09-08",{"$f":"(B54/B7)*100","v":-42.465753424657535},-22.222222222222221,-11.607142857142858,6.3380281690140841,-6.3829787234042552,-2.3121387283236992,8.695652173913043,14.37908496732026,30.275229357798167,17.266187050359711,100,1.4925373134328357,{"$f":"(N54/O7)*100","v":6.3437926330150063}]
[]
[null,"jan-dec","feb-jan","mar-feb","apr-mar","may-apr","jun-may","jul-jun","aug-jul","sep-aug","oct-sep","nov-oct","dec-nov"]
["change_10",{"$f":"B9-M8","v":-18},{"$f":"C9-B9","v":24},74,41,6,-11,-80,11,-20,-4,10,-1]
["%change_10",{"$f":"(B58/M8)*100","v":-26.47058823529412},{"$f":"(C58/B9)*100","v":48},100,27.702702702702702,3.1746031746031744,-5.6410256410256414,-43.478260869565219,10.576923076923077,-17.391304347826086,-4.2105263157894735,10.989010989010989,-0.99009900990099009]
[null,"jan","feb","mar","apr","may","jun","jul","aug","sep","oct","nov","dec","ytd_total"]
["chg_prv_10-09",{"$f":"B9-B8","v":8},11,49,38,19,15,{"$f":"H9-H8","v":-71},-60,-47,-72,-35,32,{"$f":"O9-O8","v":-113}]
["%chg_prv_10-09",{"$f":"(B61/B8)*100","v":19.047619047619047},17.460317460317459,49.494949494949495,25.165562913907287,10.795454545454545,8.8757396449704142,-40.571428571428569,{"$f":"(I61/I8)*100","v":-34.285714285714285},{"$f":"(J61/J8)*100","v":-33.098591549295776},{"$f":"(K61/K8)*100","v":-44.171779141104295},{"$f":"(L61/L8)*100","v":-25.735294117647058},{"$f":"(M61/M8)*100","v":47.058823529411761},{"$f":"(N61/O8)*100","v":-7.2482360487491988}]
[]
[null,"jan-dec","feb-jan","mar-feb","apr-mar","may-apr","jun-may","jul-jun","aug-jul","sep-aug","oct-sep","nov-oct","dec-nov"]
["change_11",{"$f":"(B10-M9)","v":-41},{"$f":"C10-B10","v":0},26,25,35,23,3,-23,-27,-7,-17,8]
["%change_11",{"$f":"(B65/M9)*100","v":-41},{"$f":"(C65/B10)*100","v":0},44.067796610169488,29.411764705882355,31.818181818181817,15.862068965517242,1.7857142857142856,-13.450292397660817,-18.243243243243242,-5.785123966942149,-14.912280701754385,8.2474226804123703]
[null,"jan","feb","mar","apr","may","jun","jul","aug","sep","oct","nov","dec","ytd_total"]
["chg_prv_11-10",{"$f":"(B10-B9)","v":9},-15,-63,-79,-50,-16,{"$f":"(H10-H9)","v":67},33,26,23,-4,5,{"$f":"O10-O9","v":-64}]
["%chg_prv_11-10",{"$f":"(B68/B9)*100","v":18},-20.27027027027027,-42.567567567567565,-41.798941798941797,-25.641025641025639,-8.695652173913043,{"$f":"(H68/H9)*100","v":64.423076923076934},28.695652173913043,27.368421052631582,25.274725274725274,-3.9603960396039604,5,{"$f":"(N68/O9)*100","v":-4.4260027662517292}]
[]
[null,"jan-dec","feb-jan","mar-feb","apr-mar","may-apr","jun-may","jul-jun","aug-jul","sep-aug","oct-sep","nov-oct","dec-nov"]
["change_12",{"$f":"B11-M10","v":-47},{"$f":"C11-B11","v":21},33,24,34,49,-69,{"$f":"I11-H11","v":27},-42,5,-14,-20]
["%change_12",{"$f":"(B72/M10)*100","v":-44.761904761904766},{"$f":"(C72/B11)*100","v":36.206896551724135},41.77215189873418,21.428571428571427,25,28.823529411764703,-31.506849315068493,18,-23.728813559322035,3.7037037037037033,-10,-15.873015873015872]
[null,"jan","feb","mar","apr","may","jun","jul","aug","sep","oct","nov","dec","ytd_total"]
["chg_prv_12-11",{"$f":"B11-B10","v":-1},20,27,26,25,51,{"$f":"H11-H10","v":-21},29,{"$f":"J11-J10","v":14},26,{"$f":"L11-L10","v":29},1,{"$f":"O11-O10","v":226}]
["%chg_prv_12-11",{"$f":"(B75/B10)*100","v":-1.6949152542372881},33.898305084745758,31.764705882352938,23.636363636363637,17.241379310344829,30.357142857142854,-12.280701754385964,{"$f":"(I75/I10)*100","v":19.594594594594593},11.570247933884298,{"$f":"(K75/K10)*100","v":22.807017543859647},29.896907216494846,{"$f":"(M75/M10)*100","v":0.95238095238095244},{"$f":"(N75/O10)*100","v":16.353111432706221}]
[]
[null,"jan-dec","feb-jan","mar-feb","apr-mar","may-apr","jun-may","jul-jun","aug-jul","sep-aug","oct-sep","nov-oct","dec-nov"]
["change_13",{"$f":"B12-M11","v":-28},{"$f":"C12-B12","v":8},27,62,22,-2,-4,31,-44,-38,-25,9]
["%change_13",{"$f":"(B79/M11)*100","v":-26.415094339622641},{"$f":"(C79/B12)*100","v":10.256410256410255},31.395348837209301,54.86725663716814,12.571428571428573,-1.015228426395939,-2.0512820512820511,16.230366492146597,-19.81981981981982,-21.348314606741571,-17.857142857142858,7.8260869565217401]
[null,"jan","feb","mar","apr","may","jun","jul","aug","sep","oct","nov","dec","ytd_total"]
["chg_prv_13-12",{"$f":"B12-B11","v":20},7,1,39,27,-24,41,45,43,0,-11,18,{"$f":"O12-O11","v":206}]
["%chg_prv_13-12",{"$f":"(B82/B11)*100","v":34.482758620689658},8.8607594936708853,0.89285714285714279,28.676470588235293,15.882352941176469,-10.95890410958904,27.333333333333332,25.423728813559322,31.851851851851855,0,-8.7301587301587293,16.981132075471699,{"$f":"(N82/O11)*100","v":12.810945273631841}]
[]
[null,"jan-dec","feb-jan","mar-feb","apr-mar","may-apr","jun-may","jul-jun","aug-jul","sep-aug","oct-sep","nov-oct","dec-nov"]
["change_14",{"$f":"B13-M12","v":-44},{"$f":"C13-B13","v":3},40,0,91,38,-56,-5,-28,20,-52,-22]
["%change_14",{"$f":"(B86/M12)*100","v":-35.483870967741936},{"$f":"(C86/B13)*100","v":3.75},48.192771084337352,0,73.983739837398375,17.75700934579439,-22.222222222222221,-2.5510204081632653,-14.659685863874344,12.269938650306749,-28.415300546448087,-16.793893129770993]
[null,"jan","feb","mar","apr","may","jun","jul","aug","sep","oct","nov","dec","ytd_total"]
["chg_prv_14-13",{"$f":"B13-B12","v":2},-3,10,-52,17,57,{"$f":"H13-H12","v":5},-31,{"$f":"J13-J12","v":-15},{"$f":"K13-K12","v":43},16,{"$f":"M13-M12","v":-15},{"$f":"O13-O12","v":34}]
["%chg_prv_14-13",{"$f":"(B89/B12)*100","v":2.5641025641025639},-3.4883720930232558,8.8495575221238933,-29.714285714285715,8.6294416243654819,29.230769230769234,2.6178010471204187,{"$f":"(I89/I12)*100","v":-13.963963963963963},-8.4269662921348321,{"$f":"(K89/K12)*100","v":30.714285714285715},13.913043478260869,{"$f":"(M89/M12)*100","v":-12.096774193548388},{"$f":"(N89/O12)*100","v":1.8743109151047408}]
[]
[null,"jan-dec","feb-jan","mar-feb","apr-mar","may-apr","jun-may","jul-jun","aug-jul","sep-aug","oct-sep","nov-oct","dec-nov"]
["change_15"]
["%change_15"]
[null,"jan","feb","mar","apr","may","jun","jul","aug","sep","oct","nov","dec","ytd_total"]
["chg_prv_15-14",{"$nulls":12},{"$f":"N14-N13","v":-1848}]
["%chg_prv_15-14",{"$nulls":12},{"$f":"(N96/N13)*100","v":-100}]
[]
["ecch_vrps_r96","jan","feb","mar","apr","may","jun","jul","aug","sep","oct","nov","dec","ytd_total"]
[2003,8556857.7797483932,12302721.618532058,14701245.937056737,15195461.033089614,19516058.669808671,23210926.605100896,23497690.284952275,26170545.719425805,19708152.111652739,16832859.007072404,9716977.9403297938,13547275.728652839,{"$f":"SUM(B100:M100)","v":202956772.43542218},{"$f":"SUM(B100:M100)","v":202956772.43542218}]
[2004,6192747.903381642,12550495.629855718,15331324.500690607,20333434.58636364,19824824.116183706,26151529.131478451,22219083.303311501,22521223.008819785,15948993.771105664,16618950.730307136,12807190.714285715,12992816.459285455,203492613.85506904,203492613.85506904,null,2000,{"$f":"SUM(data!S14:S25)","v":160574766}]
[2005,6997520.5508328816,11255527.525197987,14984048.999955269,19889977.908808384,20078076.902214516,30683346.35449947,23905187.473681882,26179405.747276403,21647140.611904763,16474061.432153394,14941912.232177265,11578227.065981375,218614432.80468363,218614432.80468363,null,2001,{"$f":"SUM(data!S26:S37)","v":191743849}]
[2006,9365367,11498295,19017731,18730613,24878080,26484446,23324583,22972205,19587435,14787387,12250350,13413592,{"$f":"SUM(B103:M103)","v":216310084},{"$f":"SUM(B103:M103)","v":216310084},null,2002,{"$f":"SUM(data!S38:S49)","v":220507887}]
[2007,10797846,14189827,18202655,21448988,23175665,28118886,22329248,22315889,13112078,13657288,11407550,10358649,209114569,209114569]
[2008,8204379,8318137,12586216,14532377,20944668,19624337,18303306,17196965,11913433,14880815,7001748,6755441,160261822,160261822]
[2009,3967824,6157361,11101060,15629238.43582139,19381238,19149744,20131674,18903321,14529526,17232424,13084198,8252040,167519648.43582138,167519648.43582138]
[2010,5006754,7279672,14157394,19437468,20380002,21067755,11940127,12632961,10042628,10508105,11526502,10560825,154540193,154540193]
[2011,5242974,4900026,5476801,6442472,9949998,11566484,15874636,14791884,12721451,10078916,9829675,10132840,117008157,117008157]
[2012,5569840,6951802,10456782,12485024,16603632,24314101,16511818,18597015,13135195,14152341,13083821,10535861,{"$f":"SUM(B109:M109)","v":162397232},162397232]
[2013,8215524,7814527,9849392,19472829,21778421,22438629,21434248,25914848,19207499,15745456,12406891,12002404,{"$f":"SUM(B110:M110)","v":196280668},{"$f":"SUM(B110:M110)","v":196280668}]
[2014,8468295.9979372937,8046254,12870787,11914311,24899185,27806117,19936467,20271477,17933576.632143382,19074032,13583321,10404932,{"$f":"SUM(B111:M111)","v":195208755.63008067},195208755.63008067]
[2015]
["2003 (thousands)",{"$f":"(B100/1000)","v":8556.857779748394},12302.721618532058,14701.245937056738,15195.461033089614,{"$f":"(F100/1000)","v":19516.05866980867},23210.926605100896,23497.690284952274,26170.545719425805,19708.15211165274,16832.859007072406,9716.9779403297944,13547.275728652839,202956.77243542223,202956.77243542223]
["2004 (thousands)",6192.7479033816417,12550.495629855719,15331.324500690607,20333.434586363641,{"$f":"F101/1000","v":19824.824116183707},26151.529131478452,22219.083303311501,22521.223008819787,15948.993771105665,16618.950730307137,12807.190714285714,12992.816459285455,203492.61385506901,203492.61385506901]
["2005 (thousands)",6997.5205508328818,11255.527525197987,14984.048999955268,19889.977908808385,{"$f":"(F102/1000)","v":20078.076902214518},30683.34635449947,23905.187473681883,26179.405747276403,21647.140611904764,16474.061432153394,14941.912232177265,11578.227065981375,218614.4328046836,218614.4328046836]
["2006 (thousands)",{"$f":"(B103/1000)","v":9365.3670000000002},11498.295,19017.731,18730.613000000001,24878.080000000002,26484.446,23324.582999999999,22972.205000000002,19587.435000000001,14787.387000000001,12250.35,13413.592000000001,{"$f":"SUM(B116:M116)","v":216310.084},{"$f":"SUM(B116:M116)","v":216310.084}]
["2007 (thousands)",{"$f":"(B104/1000)","v":10797.846},14189.826999999999,18202.654999999999,21448.988000000001,23175.665000000001,28118.885999999999,22329.248,22315.888999999999,13112.078,13657.288,11407.55,10358.648999999999,209114.56899999999,209114.56899999999]
["2008 (thousands)",{"$f":"B105/1000","v":8204.3790000000008},8318.1370000000006,12586.216,14532.377,20944.668000000001,19624.337,18303.306,17196.965,11913.433000000001,14880.815000000001,7001.7479999999996,6755.4409999999998,160261.82199999999,160261.82199999999]
["2009 (thousands)",{"$f":"B106/1000","v":3967.8240000000001},6157.3609999999999,11101.06,15629.238435821389,19381.238000000001,19149.743999999999,20131.673999999999,18903.321,14529.526,17232.423999999999,13084.198,8252.0400000000009,167519.64843582141,167519.64843582141]
["2010 (thousands)",{"$f":"B107/1000","v":5006.7539999999999},7279.6719999999996,14157.394,19437.468000000001,20380.002,21067.755000000001,11940.127,12632.960999999999,10042.628000000001,10508.105,11526.502,10560.825000000001,154540.19300000003,154540.19300000003]
["2011 (thousands)",{"$f":"B108/1000","v":5242.9740000000002},4900.0259999999998,5476.8010000000004,6442.4719999999998,9949.9979999999996,11566.484,15874.636,14791.884,12721.450999999999,10078.915999999999,9829.6749999999993,10132.84,117008.15700000001,117008.15700000001]
["2012 (thousands)",{"$f":"B109/1000","v":5569.84},6951.8019999999997,10456.781999999999,12485.023999999999,16603.632000000001,24314.100999999999,16511.817999999999,18597.014999999999,13135.195,14152.341,13083.821,10535.861000000001,{"$f":"SUM(B122:M122)","v":162397.23199999999},162397.23199999999]
["2013 (thousands)",{"$f":"B110/1000","v":8215.5239999999994},7814.527,9849.3919999999998,19472.829000000002,21778.420999999998,22438.629000000001,21434.248,25914.848000000002,19207.499,15745.456,12406.891,12002.404,{"$f":"SUM(B123:M123)","v":196280.66800000003},{"$f":"SUM(B123:M123)","v":196280.66800000003}]
["2014 (thousands)",{"$f":"B111/1000","v":8468.2959979372936},8046.2539999999999,12870.787,11914.311,24899.185000000001,27806.116999999998,19936.467000000001,20271.476999999999,17933.57663214338,19074.031999999999,13583.321,10404.932000000001,{"$f":"SUM(B124:M124)","v":195208.75563008068},195208.75563008068]
["2015 (thousands)"]
[null,"jan-dec","feb-jan","mar-feb","apr-mar","may-apr","jun-may","jul-jun","aug-jul","sep-aug","oct-sep","nov-oct","dec-nov"]
["change_04",{"$f":"B101-M100","v":-7354527.8252711967},{"$f":"C101-B101","v":6357747.7264740765},2780828.8708348889,5002110.0856730323,-508610.47017993405,6326705.0152947456,-3932445.8281669505,302139.70550828427,-6572229.2377141211,669956.95920147188,-3811760.0160214212,185625.74499974027]
["%change_04",{"$f":"(B127/M100)*100","v":-54.287872872596665},{"$f":"(C127/B101)*100","v":102.66440400395329},22.157123932378578,32.626731535476338,-2.501350512229878,31.913044868478973,-15.037154456232111,1.3598207513054952,-29.182381592421947,4.2006221133223702,-22.936225504719189,1.4493869041294511]
[null,"jan","feb","mar","apr","may","jun","jul","aug","sep","oct","nov","dec","ytd_total"]
["chg_prv_04-03",{"$f":"B101-B100","v":-2364109.8763667513},247774.01132366061,630078.56363387033,5137973.5532740261,308765.44637503475,2940602.526377555,{"$f":"H101-H100","v":-1278606.9816407748},-3649322.7106060199,-3759158.3405470755,-213908.2767652683,3090212.7739559207,-554459.26936738379,{"$f":"O101-O100","v":535841.41964685917}]
["%chg_prv_04-03",{"$f":"(B130/B100)*100","v":-27.628247859417687},2.0139772239536753,4.2858854707386467,33.812554565377006,1.5821096441603482,12.669044094652044,-5.4414155865335578,-13.944389046106936,-19.074128915031142,-1.2707780459361879,31.802200158653843,-4.0927731927289859,{"$f":"(N130/O100)*100","v":0.26401751132367651}]
[]
[null,"jan-dec","feb-jan","mar-feb","apr-mar","may-apr","jun-may","jul-jun","aug-jul","sep-aug","oct-sep","nov-oct","dec-nov"]
["change_05",{"$f":"B102-M101","v":-5995295.9084525732},{"$f":"C102-B102","v":4258006.9743651049},3728521.4747572821,4905928.9088531155,188098.99340613186,10605269.452284954,-6778158.8808175884,2274218.273594521,-4532265.1353716403,-5173079.1797513682,-1532149.1999761295,-3363685.1661958899]
["%change_05",{"$f":"(B134/M101)*100","v":-46.14315862337893},{"$f":"(C134/B102)*100","v":60.850224639330207},33.126137059415143,32.741009515303645,0.9456973470183252,52.820145594298637,-22.090676820273302,9.5134927349902316,-17.312330077787035,-23.897286355254018,-9.3003732339236258,-22.511744908742177]
[null,"jan","feb","mar","apr","may","jun","jul","aug","sep","oct","nov","dec","ytd_total"]
["chg_prv_05-04",{"$f":"B102-B101","v":804772.64745123964},-1294968.104657732,-347275.50073533878,-443456.67755525559,253252.78603081033,4531817.2230210193,{"$f":"H102-H101","v":1686104.1703703813},3658182.738456618,5698146.8407990988,-144889.29815374129,2134721.5178915504,-1414589.3933040798,{"$f":"O102-O101","v":15121818.949614584}]
["%chg_prv_05-04",{"$f":"(B137/B101)*100","v":12.995404625009547},-10.318063468164555,-2.2651369796503595,-2.1809236195278796,1.2774528769920894,17.329071658628543,7.5885406582866839,16.243268569491082,35.72731247235339,-0.87183180517837411,16.668148117060415,-10.887473072038421,{"$f":"(N137/O101)*100","v":7.4311389800047509}]
[]
[null,"jan-dec","feb-jan","mar-feb","apr-mar","may-apr","jun-may","jul-jun","aug-jul","sep-aug","oct-sep","nov-oct","dec-nov"]
["change_06",{"$f":"B103-M102","v":-2212860.0659813751},{"$f":"C103-B103","v":2132928},7519436,-287118,6147467,1606366,-3159863,-352378,-3384770,-4800048,{"$f":"L103-K103","v":-2537037},{"$f":"M103-L103","v":1163242}]
["%change_06",{"$f":"(B141/M102)*100","v":-19.112253140060627},{"$f":"(C141/B103)*100","v":22.774633391302231},65.396095682011989,-1.5097384645939098,32.820426112055166,6.4569532697057008,-11.931014150720767,-1.5107579843978347,-14.734197261429626,-24.505750752969952,-17.156763395723669,9.4955817588885214]
[null,"jan","feb","mar","apr","may","jun","jul","aug","sep","oct","nov","dec","ytd_total"]
["chg_prv_06-05",{"$f":"B103-B102","v":2367846.4491671184},242767.47480201349,4033682.0000447314,-1159364.9088083841,4800003.097785484,-4198900.3544994704,{"$f":"H103-H102","v":-580604.47368188202},-3207200.747276403,-2059705.6119047627,-1686674.4321533944,-2691562.232177265,1835364.9340186249,{"$f":"O103-O102","v":-2304348.8046836257}]
["%chg_prv_06-05",{"$f":"(B144/B102)*100","v":33.838363631319169},2.1568733607423094,26.919839891452391,-5.828889876720039,23.906687483879825,-13.684623267578294,-2.4287802566747962,-12.250853889645937,-9.5149084529530672,-10.238364346884204,-18.013505837499242,15.851865087455499,{"$f":"(N144/O102)*100","v":-1.0540698411904015}]
[]
[null,"jan-dec","feb-jan","mar-feb","apr-mar","may-apr","jun-may","jul-jun","aug-jul","sep-aug","oct-sep","nov-oct","dec-nov"]
["change_07",{"$f":"B104-M103","v":-2615746},{"$f":"C104-B104","v":3391981},4012828,3246333,1726677,4943221,-5789638,-13359,-9203811,{"$f":"K104-J104","v":545210},{"$f":"L104-K104","v":-2249738},{"$f":"M104-L104","v":-1048901}]
["%change_07",{"$f":"(B148/M103)*100","v":-19.50071241170896},{"$f":"(C148/B104)*100","v":31.413496728884631},28.279611865599207,17.8343928399456,8.0501560260092457,21.329359912649757,-20.589855515613241,-5.9827361852938347E-2,-41.24330874741311,{"$f":"(K148/J104)*100","v":4.1580747155408933},{"$f":"(L148/K104)*100","v":-16.472801920849879},{"$f":"(M148/L104)*100","v":-9.1947964286810056}]
[null,"jan","feb","mar","apr","may","jun","jul","aug","sep","oct","nov","dec","ytd_total"]
["chg_prv_07-06",{"$f":"B104-B103","v":1432479},2691532,-815076,2718375,-1702415,1634440,-995335,-656316,-6475357,-1130099,-842800,-3054943,{"$f":"O104-O103","v":-7195515}]
["%chg_prv_07-06",{"$f":"(B151/B103)*100","v":15.295492424375896},23.408096591712074,-4.2858740614219437,14.513006061253842,-6.8430320989401103,6.1713203289206051,-4.2673217351838613,-2.8570004490208927,-33.05872872073347,-7.6423170638598963,-6.8798034341875951,-22.774980780688722,{"$f":"(N151/O103)*100","v":-3.32648153379664}]
[]
[null,"jan-dec","feb-jan","mar-feb","apr-mar","may-apr","jun-may","jul-jun","aug-jul","sep-aug","oct-sep","nov-oct","dec-nov"]
["change_08",{"$f":"B105-M104","v":-2154270},{"$f":"C105-B105","v":113758},4268079,1946161,6412291,-1320331,-1321031,-1106341,-5283532,2967382,-7879067,-246307]
["%change_08",{"$f":"(B155/M104)*100","v":-20.796823987375188},{"$f":"(C155/B105)*100","v":1.3865522302175459},51.310515804199909,15.462637857160564,44.124171840573638,-6.3039003530636055,-6.7315955693178315,-6.0444872636670119,-30.723630594119367,24.907866607383447,-52.947819054265508,-3.5177929854087866]
[null,"jan","feb","mar","apr","may","jun","jul","aug","sep","oct","nov","dec","ytd_total"]
["chg_prv_08-07",{"$f":"B105-B104","v":-2593467},-5871690,-5616439,-6916611,-2230997,-8494549,-4025942,-5118924,-1198645,1223527,-4405802,-3603208,{"$f":"O105-O104","v":-48852747}]
["%chg_prv_08-07",{"$f":"(B158/B104)*100","v":-24.018373664525313},-41.379574254147002,-30.855053836926537,-32.246794114482228,-9.6264637929483357,-30.209408011398459,-18.029904097083786,-22.938472224879771,-9.141533477759971,8.9587844965999093,-38.621807487146668,-34.784536091530853,{"$f":"(N158/O104)*100","v":-23.361713740758063}]
[]
[null,"jan-dec","feb-jan","mar-feb","apr-mar","may-apr","jun-may","jul-jun","aug-jul","sep-aug","oct-sep","nov-oct","dec-nov"]
["change_09",{"$f":"B106-M105","v":-2787617},{"$f":"C106-B106","v":2189537},{"$f":"D106-C106","v":4943699},4528178.4358213898,3751999.5641786102,-231494,981930,-1228353,-4373795,2702898,-4148226,-4832158]
["%change_09",{"$f":"(B162/M105)*100","v":-41.264767170640667},{"$f":"(C162/B106)*100","v":55.182311513817147},{"$f":"(D162/C106)*100","v":80.2892505409379},40.790505013227474,24.006285268380225,-1.1944231839060022,5.1276403486124931,-6.1015939360035336,-23.137706861138316,18.602795438750032,-24.072214100581554,-36.931250963949033]
[null,"jan","feb","mar","apr","may","jun","jul","aug","sep","oct","nov","dec","ytd_total"]
["chg_prv_09-08",{"$f":"B106-B105","v":-4236555},{"$f":"C106-C105","v":-2160776},-1485156,1096861.4358213898,-1563430,-474593,1828368,1706356,2616093,2351609,6082450,1496599,{"$f":"O106-O105","v":7257826.4358213842}]
["%chg_prv_09-08",{"$f":"(B165/B105)*100","v":-51.637729071267913},{"$f":"(C165/C105)*100","v":-25.97668203829776},-11.799861054347073,7.5477083743519024,-7.4645728449837456,-2.4183899817863912,9.9892773469448635,9.9224252651557983,21.95918674323346,15.802958372911698,86.870450064755261,22.153979288694849,{"$f":"(N165/O105)*100","v":4.5287307639753305}]
[]
[null,"jan-dec","feb-jan","mar-feb","apr-mar","may-apr","jun-may","jul-jun","aug-jul","sep-aug","oct-sep","nov-oct","dec-nov"]
["change_10",{"$f":"B107-M106","v":-3245286},{"$f":"C107-B107","v":2272918},6877722,5280074,942534,687753,-9127628,692834,{"$f":"J107-I107","v":-2590333},{"$f":"K107-J107","v":465477},{"$f":"L107-K107","v":1018397},{"$f":"M107-L107","v":-965677}]
["%change_10",{"$f":"(B169/M106)*100","v":-39.327075486788722},{"$f":"(C169/B107)*100","v":45.397037681499832},94.47846001852831,37.295522043110473,4.849057500699165,3.3746463812908365,-43.325109865764055,5.802568096637498,{"$f":"(J169/I107)*100","v":-20.504559461554582},{"$f":"(K169/J107)*100","v":4.6350118713946191},{"$f":"(L169/K107)*100","v":9.6915381032070016},{"$f":"(M169/L107)*100","v":-8.3778842878784907}]
[null,"jan","feb","mar","apr","may","jun","jul","aug","sep","oct","nov","dec","ytd_total"]
["chg_prv_10-09",{"$f":"B107-B106","v":1038930},1122311,3056334,3808229.5641786102,998764,1918011,{"$f":"H107-H106","v":-8191547},-6270360,-4486898,-6724319,-1557696,2308785,{"$f":"O107-O106","v":-12979455.435821384}]
["%chg_prv_10-09",{"$f":"(B172/B106)*100","v":26.183873075015423},18.227143089385208,27.531911367022609,24.366059676013059,5.1532518201365676,10.015857131040498,-40.689845265724053,{"$f":"(I172/I106)*100","v":-33.170679374275032},{"$f":"(J172/J106)*100","v":-30.881241411454162},{"$f":"(K172/K106)*100","v":-39.021318184835749},{"$f":"(L172/L106)*100","v":-11.905169885078168},{"$f":"(M172/M106)*100","v":27.978354443264937},{"$f":"(N172/O106)*100","v":-7.748019743960934}]
[]
[null,"jan-dec","feb-jan","mar-feb","apr-mar","may-apr","jun-may","jul-jun","aug-jul","sep-aug","oct-sep","nov-oct","dec-nov"]
["change_11",{"$f":"B108-M107","v":-5317851},{"$f":"C108-B108","v":-342948},576775,965671,3507526,1616486,4308152,-1082752,-2070433,-2642535,-249241,303165]
["%change_11",{"$f":"(B176/M107)*100","v":-50.35450355440981},{"$f":"(C176/B108)*100","v":-6.5410967134302016},11.770855909744151,17.63202643294872,54.443791141040279,16.246093717807781,37.246859114662669,-6.8206414307704435,-13.997087862506222,-20.772276684475692,-2.4728949025867464,3.084181318304013]
[null,"jan","feb","mar","apr","may","jun","jul","aug","sep","oct","nov","dec","ytd_total"]
["chg_prv_11-10",{"$f":"B108-B107","v":236220},-2379646,-8680593,-12994996,-10430004,-9501271,{"$f":"H108-H107","v":3934509},2158923,2678823,-429189,-1696827,-427985,{"$f":"O108-O107","v":-37532036}]
["%chg_prv_11-10",{"$f":"(B179/B107)*100","v":4.7180268892779633},-32.688917852342797,-61.314907249173125,-66.855394951647,-51.177639727415134,-45.098640078166845,{"$f":"(H179/H107)*100","v":32.951986189091627},17.089603933709601,26.674521848265215,-4.0843615475863633,-14.721092314042892,-4.0525716504155689,{"$f":"(N179/O107)*100","v":-24.286261891752652}]
[]
[null,"jan-dec","feb-jan","mar-feb","apr-mar","may-apr","jun-may","jul-jun","aug-jul","sep-aug","oct-sep","nov-oct","dec-nov"]
["change_12",{"$f":"B109-M108","v":-4563000},{"$f":"C109-B109","v":1381962},3504980,2028242,4118608,7710469,-7802283,{"$f":"I109-H109","v":2085197},-5461820,1017146,-1068520,-2547960]
["%change_12",{"$f":"(B183/M108)*100","v":-45.031797600672661},{"$f":"(C183/B109)*100","v":24.81152061818652},50.418294422079335,19.396426166290929,32.988386726369129,46.438447925128671,-32.08953931712302,12.628512499350467,-29.369336960797206,7.7436688225793375,-7.5501289857275209,-19.474127626784256]
[null,"jan","feb","mar","apr","may","jun","jul","aug","sep","oct","nov","dec","ytd_total"]
["chg_prv_12-11",{"$f":"B109-B108","v":326866},2051776,4979981,6042552,6653634,12747617,{"$f":"H109-H108","v":637182},3805131,{"$f":"J109-J108","v":413744},4073425,{"$f":"L109-L108","v":3254146},403021,{"$f":"O109-O108","v":45389075}]
["%chg_prv_12-11",{"$f":"(B186/B108)*100","v":6.2343624057643616},41.872757409858643,90.928646120244281,93.792444887614565,66.870706908684809,110.21168576379823,4.0138369156936884,{"$f":"(I186/I108)*100","v":25.724451327498244},3.2523334012763168,{"$f":"(K186/K108)*100","v":40.415308551038628},33.105326473153994,{"$f":"(M186/M108)*100","v":3.9773745563928773},{"$f":"(N186/O108)*100","v":38.791376741366847}]
[]
[null,"jan-dec","feb-jan","mar-feb","apr-mar","may-apr","jun-may","jul-jun","aug-jul","sep-aug","oct-sep","nov-oct","dec-nov"]
["change_13",{"$f":"B110-M109","v":-2320337},{"$f":"C110-B110","v":-400997},2034865,9623437,2305592,660208,-1004381,4480600,-6707349,-3462043,-3338565,-404487]
["%change_13",{"$f":"(B190/M109)*100","v":-22.023230944295868},{"$f":"(C190/B110)*100","v":-4.8809668135593061},26.039515891364889,97.70589900371516,11.840046456526682,3.0314778100763133,-4.4761246331048126,20.903929076494776,-25.882262554655927,-18.024434102534638,-21.203355431560698,-3.2601801692301482]
[null,"jan","feb","mar","apr","may","jun","jul","aug","sep","oct","nov","dec","ytd_total"]
["chg_prv_13-12",{"$f":"B110-B109","v":2645684},862725,-607390,6987805,5174789,-1875472,4922430,7317833,6072304,1593115,-676930,1466543,{"$f":"O110-O109","v":33883436}]
["%chg_prv_13-12",{"$f":"(B193/B109)*100","v":47.500179538370944},12.41009165681071,-5.8085747603803926,55.969495933688229,31.166608607080668,-7.713515708436022,29.811556789203951,39.349503132626388,46.229264202016033,11.256900890107156,-5.1737944137266938,13.919536334049965,{"$f":"(N193/O109)*100","v":20.864540351278894}]
[]
[null,"jan-dec","feb-jan","mar-feb","apr-mar","may-apr","jun-may","jul-jun","aug-jul","sep-aug","oct-sep","nov-oct","dec-nov"]
["change_14",{"$f":"B111-M110","v":-3534108.0020627063},{"$f":"C111-B111","v":-422041.99793729372},4824533,-956476,12984874,2906932,-7869650,335010,-2337900.367856618,1140455.367856618,-5490711,-3178389]
["%change_14",{"$f":"(B197/M110)*100","v":-29.445001201948429},{"$f":"(C197/B111)*100","v":-4.983788923298083},59.959988834555809,-7.431371523745983,108.98552169739399,11.674807830055482,-28.301866096585869,1.6803880045546684,-11.532955234868274,6.3593302733182293,-28.78631534224122,-23.399204067988968]
[null,"jan","feb","mar","apr","may","jun","jul","aug","sep","oct","nov","dec","ytd_total"]
["chg_prv_14-13",{"$f":"B111-B110","v":252771.99793729372},231727,3021395,-7558518,3120764,5367488,{"$f":"H111-H110","v":-1497781},-5643371,{"$f":"J111-J110","v":-1273922.367856618},{"$f":"K111-K110","v":3328576},1176430,{"$f":"M111-M110","v":-1597472},{"$f":"O111-O110","v":-1071912.3699193299}]
["%chg_prv_14-13",{"$f":"(B200/B110)*100","v":3.0767605077569455},2.9653362257242186,30.675954414242018,-38.815715990727391,14.329615540079788,23.920748455710019,-6.9877935535690359,{"$f":"(I200/I110)*100","v":-21.776593094429881},-6.632421888225104,{"$f":"(K200/K110)*100","v":21.139914906243426},9.4820692790804717,{"$f":"(M200/M110)*100","v":-13.309600310071215},{"$f":"(N200/O110)*100","v":-0.54611204498210175}]
[]
[null,"jan-dec","feb-jan","mar-feb","apr-mar","may-apr","jun-may","jul-jun","aug-jul","sep-aug","oct-sep","nov-oct","dec-nov"]
["change_15"]
["%change_15"]
[null,"jan","feb","mar","apr","may","jun","jul","aug","sep","oct","nov","dec","ytd_total"]
["chg_prv_15-14",{"$nulls":12},{"$f":"N112-N111","v":-195208755.63008067}]
["%chg_prv_15-14",{"$nulls":12},{"$f":"(N207/N111)*100","v":-100}]
[]
["ecch_med_rp_r96","jan","feb","mar","apr","may","jun","jul","aug","sep","oct","nov","dec","ytd_avg_total"]
[2003,94411,93468,98761,97687,101609,99465,107014,111440,95936,99572,92189,104135,{"$f":"B212*B211+C212*C211+D212*D211+E212*E211+F212*F211+G211*G212+H211*H212+I211*I212+J211*J212+K212*K211+L212*L211+M212*M211","v":100705.04520396914}]
[null,{"$f":"(B2/$O$2)","v":4.4652701212789414E-2},6.1742006615214992E-2,7.7728776185226015E-2,8.0485115766262397E-2,9.5920617420066148E-2,0.11245865490628446,0.11080485115766263,0.11631753031973539,9.867695700110253E-2,8.7651598676957002E-2,4.9614112458654908E-2,6.3947078280044103E-2,{"$f":"SUM(B212:M212)","v":0.99999999999999989}]
[2004,105318,107214,98435,98184,105000,106488,106921,112997,103580,102896,103977,108356,{"$f":"B214*B213+C214*C213+D214*D213+E214*E213+F214*F213+G214*G213+H214*H213+I214*I213+J214*J213+K214*K213+L214*L213+M214*M213","v":104955.66591549297}]
[null,{"$f":"B3/$O$3","v":3.1549295774647886E-2},6.0281690140845071E-2,7.9436619718309856E-2,0.1076056338028169,9.802816901408451E-2,0.12507042253521128,0.10704225352112676,0.10197183098591549,8.1690140845070425E-2,8.1690140845070425E-2,6.2535211267605639E-2,6.3098591549295771E-2,{"$f":"SUM(B214:M214)","v":1}]
[2004,105318,107214,98435,98184,105000,106488,106921,112997,103580,102896,103977,108356,{"$f":"B216*B215+C216*C215+D216*D215+E216*E215+F216*F215+G216*G215+H216*H215+I216*I215+J216*J215+K216*K215+L216*L215+M216*M215","v":104955.66591549297}]
[null,{"$f":"B3/$N$3","v":3.1549295774647886E-2},6.0281690140845071E-2,7.9436619718309856E-2,0.1076056338028169,9.802816901408451E-2,0.12507042253521128,0.10704225352112676,0.10197183098591549,8.1690140845070425E-2,8.1690140845070425E-2,6.2535211267605639E-2,6.3098591549295771E-2,{"$f":"SUM(B216:M216)","v":1}]
[2005,107350,102376,99047,99155,101959,106466,101709,107685,109840,111351,109402,108200,{"$f":"B218*B217+C218*C217+D218*D217+E218*E217+F218*F217+G218*G217+H218*H217+I218*I217+J218*J217+K218*K217+L218*L217+M218*M217","v":105210.05947955392}]
[null,{"$f":"B4/$O$4","v":3.2926181625066386E-2},5.2575677110993098E-2,7.647371216144451E-2,8.9219330855018583E-2,9.5061072756240039E-2,0.13860860329261815,0.11152416356877323,0.11683483802442911,9.8247477429633565E-2,7.275624004248539E-2,6.5321295804567178E-2,5.0451407328730748E-2,{"$f":"SUM(B218:M218)","v":0.99999999999999989}]
[2005,107350,102376,99047,99155,101959,106466,101709,107685,109840,111351,109402,108200,{"$f":"B220*B219+C220*C219+D220*D219+E220*E219+F220*F219+G220*G219+H220*H219+I220*I219+J220*J219+K220*K219+L220*L219+M220*M219","v":105210.05947955392}]
[null,{"$f":"B4/$N$4","v":3.2926181625066386E-2},5.2575677110993098E-2,7.647371216144451E-2,8.9219330855018583E-2,9.5061072756240039E-2,0.13860860329261815,0.11152416356877323,0.11683483802442911,9.8247477429633565E-2,7.275624004248539E-2,6.5321295804567178E-2,5.0451407328730748E-2,{"$f":"SUM(B220:M220)","v":0.99999999999999989}]
[2006,107438,107572,100612,102675,100938,109056,112655,108578,118740,104226,105547,105440,{"$f":"B222*B221+C222*C221+D222*D221+E222*E221+F222*F221+G222*G221+H222*H221+I222*I221+J222*J221+K222*K221+L222*L221+M222*M221","v":106980.05731775181}]
[null,{"$f":"B5/$O$5","v":4.4518642181413465E-2},5.6204785754034502E-2,8.5141903171953262E-2,9.0706733444629942E-2,0.11853088480801335,0.12298274902615471,0.10294936004451864,0.10740122426265999,8.1246521981079581E-2,6.9560378408458537E-2,5.7317751808569836E-2,6.3439065108514187E-2,{"$f":"SUM(B222:M222)","v":0.99999999999999989}]
[2006,107438,107572,100612,102675,100938,109056,112655,108578,118740,104226,105547,105440,{"$f":"B224*B223+C224*C223+D224*D223+E224*E223+F223*F224+G224*G223+H224*H223+I224*I223+J224*J223+K224*K223+L224*L223+M224*M223","v":106980.05731775181}]
[null,{"$f":"B5/$N$5","v":4.4518642181413465E-2},5.6204785754034502E-2,8.5141903171953262E-2,9.0706733444629942E-2,0.11853088480801335,0.12298274902615471,0.10294936004451864,0.10740122426265999,8.1246521981079581E-2,6.9560378408458537E-2,5.7317751808569836E-2,6.3439065108514187E-2,{"$f":"SUM(B224:M224)","v":0.99999999999999989}]
[2007,110453,106791,111980,95757,104874,110573,106479,105943,107318,103099,99934,108370,{"$f":"B226*B225+C226*C225+D226*D225+E226*E225+F225*F226+G226*G225+H226*H225+I226*I225+J226*J225+K226*K225+L226*L225+M226*M225","v":105894.8585282373}]
[null,{"$f":"B6/$O$6","v":5.1340559041642898E-2},6.8454078722190531E-2,8.3856246434683396E-2,0.10154021677124929,0.11123787792355962,0.12549914432401596,0.11009697661152311,0.10667427267541357,6.4460924130062755E-2,6.7883628066172277E-2,5.818596691386195E-2,5.0770108385624645E-2,{"$f":"SUM(B226:M226)","v":1}]
[2007,110453,106791,111980,95757,104874,110573,106479,105943,107318,103099,99934,108370,{"$f":"B228*B227+C228*C227+D228*D227+E228*E227+F228*F227+G228*G227+H228*H227+I228*I227+J228*J227+K228*K227+L228*L227+M228*M227","v":105894.8585282373}]
[null,{"$f":"B6/$N$6","v":5.1340559041642898E-2},6.8454078722190531E-2,8.3856246434683396E-2,0.10154021677124929,0.11123787792355962,0.12549914432401596,0.11009697661152311,0.10667427267541357,6.4460924130062755E-2,6.7883628066172277E-2,5.818596691386195E-2,5.0770108385624645E-2,{"$f":"SUM(B228:M228)","v":1}]
[2008,111416,97781,104077,93350,102092,97943,101768,105529,93110,96651,94491,89409,{"$f":"B230*B229+C230*C229+D230*D229+E230*E229+F230*F229+G230*G229+H230*H229+I230*I229+J230*J229+K230*K229+L230*L229+M230*M229","v":99340.547748976824}]
[null,{"$f":"B7/$O$7","v":4.9795361527967257E-2},5.5252387448840382E-2,7.6398362892223737E-2,9.6862210095497947E-2,0.12824010914051842,0.11800818553888132,0.10982264665757162,0.1043656207366985,7.4351978171896316E-2,9.4815825375170526E-2,4.6384720327421552E-2,4.5702592087312414E-2,{"$f":"SUM(B230:M230)","v":1}]
[2008,111416,97781,104077,93350,102092,97943,101768,105529,93110,96651,94491,89409,{"$f":"B232*B231+C232*C231+D232*D231+E232*E231+F232*F231+G232*G231+H232*H231+I232*I231+J232*J231+K232*K231+L232*L231+M232*M231","v":99340.547748976824}]
[null,{"$f":"B7/$N$7","v":4.9795361527967257E-2},5.5252387448840382E-2,7.6398362892223737E-2,9.6862210095497947E-2,0.12824010914051842,0.11800818553888132,0.10982264665757162,0.1043656207366985,7.4351978171896316E-2,9.4815825375170526E-2,4.6384720327421552E-2,4.5702592087312414E-2,{"$f":"SUM(B232:M232)","v":1}]
[2009,87201,89469,100517,95076.287450119431,94604,98605,100337,97975,95858,94937,90574,104961,{"$f":"B234*B233+C234*C233+D234*D233+E234*E233+F234*F233+G234*G233+H234*H233+I234*I233+J234*J233+K234*K233+L234*L233+M234*M233","v":96323.16831620787}]
[null,{"$f":"B8/$O$8","v":2.6940346375881975E-2},4.0410519563822966E-2,6.3502245028864659E-2,9.6856959589480443E-2,0.11289288005131494,0.10840282232200128,0.11225144323284157,0.11225144323284157,9.1084028223220009E-2,0.10455420141116101,8.7235407312379734E-2,4.3617703656189867E-2,1]
[2009,87201,89469,100517,95076.287450119431,94604,98605,100337,97975,95858,94937,90574,104961,{"$f":"B236*B235+C236*C235+D236*D235+E236*E235+F236*F235+G236*G235+H236*H235+I236*I235+J236*J235+K236*K235+L236*L235+M236*M235","v":96323.16831620787}]
[null,{"$f":"B8/$N$8","v":2.6940346375881975E-2},4.0410519563822966E-2,6.3502245028864659E-2,9.6856959589480443E-2,0.11289288005131494,0.10840282232200128,0.11225144323284157,0.11225144323284157,9.1084028223220009E-2,0.10455420141116101,8.7235407312379734E-2,4.3617703656189867E-2,{"$f":"SUM(B236:M236)","v":1}]
[2010,84308,90004,88904,91148,95005,98470,104703,94659,93609,104987,94548,98383,{"$f":"B238*B237+C238*C237+D238*D237+E238*E237+F238*F237+G238*G237+H238*H237+I238*I237+J238*J237+K238*K237+L238*L237+M238*M237","v":95099.676348547728}]
[null,{"$f":"B9/$O$9","v":3.4578146611341634E-2},5.1175656984785614E-2,0.10235131396957123,0.13070539419087138,0.13485477178423236,0.1272475795297372,7.1922544951590589E-2,7.9529737206085749E-2,6.5698478561549103E-2,6.2932226832641769E-2,6.9847856154910098E-2,6.9156293222683268E-2,{"$f":"SUM(B238:M238)","v":0.99999999999999978}]
[2010,84308,90004,88904,91148,95005,98470,104703,94659,93609,104987,94548,98383,{"$f":"B240*B239+C240*C239+D240*D239+E240*E239+F240*F239+G240*G239+H240*H239+I240*I239+J240*J239+K240*K239+L240*L239+M240*M239","v":95099.676348547728}]
[null,{"$f":"B9/$N$9","v":3.4578146611341634E-2},5.1175656984785614E-2,0.10235131396957123,0.13070539419087138,0.13485477178423236,0.1272475795297372,7.1922544951590589E-2,7.9529737206085749E-2,6.5698478561549103E-2,6.2932226832641769E-2,6.9847856154910098E-2,6.9156293222683268E-2,{"$f":"SUM(B240:M240)","v":0.99999999999999978}]
[2011,78389,67403,84313,85785,91181,99136,89762,94337,87152,77796,92520,82691,{"$f":"B242*B241+C242*C241+D242*D241+E242*E241+F242*F241+G242*G241+H242*H241+I242*I241+J242*J241+K242*K241+L242*L241+M242*M241","v":87889.352387843697}]
[null,{"$f":"B10/$O$10","v":4.2691751085383499E-2},4.2691751085383499E-2,6.1505065123010128E-2,7.9594790159189577E-2,0.10492040520984081,0.12156295224312591,0.12373371924746744,0.10709117221418235,8.7554269175108543E-2,8.2489146164978294E-2,7.0188133140376266E-2,7.5976845151953687E-2,{"$f":"SUM(B242:M242)","v":1}]
[2011,78389,67403,84313,85785,91181,99136,89762,94337,87152,77796,92520,82691,{"$f":"B244*B243+C244*C243+D244*D243+E244*E243+F244*F243+G244*G243+H244*H243+I244*I243+J244*J243+K244*K243+L244*L243+M244*M243","v":87889.352387843697}]
[null,{"$f":"B10/$N$10","v":4.2691751085383499E-2},4.2691751085383499E-2,6.1505065123010128E-2,7.9594790159189577E-2,0.10492040520984081,0.12156295224312591,0.12373371924746744,0.10709117221418235,8.7554269175108543E-2,8.2489146164978294E-2,7.0188133140376266E-2,7.5976845151953687E-2,{"$f":"SUM(B244:M244)","v":1}]
[2012,89008,85132,84815,79951,84843,96623,96523,99972,91912,90513,92053,83847,{"$f":"B246*B245+C246*C245+D246*D245+E246*E245+F246*F245+G246*G245+H246*H245+I246*I245+J246*J245+K246*K245+L246*L245+M246*M245","v":90537.406094527367}]
[null,{"$f":"B11/$O$11","v":3.6069651741293535E-2},4.9129353233830844E-2,6.965174129353234E-2,8.45771144278607E-2,0.10572139303482588,0.13619402985074627,9.3283582089552244E-2,0.11007462686567164,8.3955223880597021E-2,8.7064676616915429E-2,7.8358208955223885E-2,6.5920398009950254E-2,{"$f":"SUM(B246:M246)","v":1},null,null,null,"jan","feb","mar","apr","may","jun","jul","aug","sep","oct","nov","dec"]
[2012,89008,85132,84815,79951,84843,96623,96523,99972,91912,90513,92053,83847,{"$f":"B248*B247+C248*C247+D248*D247+E248*E247+F248*F247+G248*G247+H248*H247+I248*I247+J248*J247+K248*K247+L248*L247+M248*M247","v":90537.406094527367}]
[null,{"$f":"B11/$N$11","v":3.6069651741293535E-2},4.9129353233830844E-2,6.965174129353234E-2,8.45771144278607E-2,0.10572139303482588,0.13619402985074627,9.3283582089552244E-2,0.11007462686567164,8.3955223880597021E-2,8.7064676616915429E-2,7.8358208955223885E-2,6.5920398009950254E-2,{"$f":"SUM(B248:M248)","v":1}]
[2013,93021,80175,83583,100050,97707,100557,100972,101723,96933,101977,99768,89751,{"$f":"B250*B249+C250*C249+D250*D249+E250*E249+F250*F249+G250*G249+H250*H249+I249*I250+J250*J249+K250*K249+L250*L249+M250*M249","v":97002.572767364923}]
[null,{"$f":"B12/$O$12","v":4.2998897464167588E-2},{"$f":"C12/$O$12","v":4.7409040793825796E-2},6.229327453142227E-2,9.6471885336273433E-2,0.10859977949283352,0.10749724366041896,0.10529217199558985,0.12238147739801543,9.812568908489526E-2,7.7177508269018744E-2,6.3395810363836819E-2,6.8357221609702312E-2,{"$f":"SUM(B250:M250)","v":1}]
[2013,93021,80175,83583,100050,97707,100557,100972,101723,96933,101977,99768,89751,{"$f":"B252*B251+C252*C251+D252*D251+E252*E251+F252*F251+G252*G251+H252*H251+I252*I251+J252*J251+K252*K251+L252*L251+M252*M251","v":97002.572767364923}]
[null,{"$f":"B12/$N$12","v":4.2998897464167588E-2},4.7409040793825796E-2,6.229327453142227E-2,9.6471885336273433E-2,0.10859977949283352,0.10749724366041896,0.10529217199558985,0.12238147739801543,9.812568908489526E-2,{"$f":"K12/$N$12","v":7.7177508269018744E-2},{"$f":"L12/$N$12","v":6.3395810363836819E-2},{"$f":"M12/$N$12","v":6.8357221609702312E-2},{"$f":"SUM(B252:M252)","v":1}]
[2014,88299,88881,93396,87281,93912,100630,88891,97530,94677,93159,86943,84625,92675.981601731604]
[null,4.3290043290043288E-2,4.4913419913419912E-2,6.6558441558441553E-2,6.6558441558441553E-2,0.11580086580086581,0.13636363636363635,0.10606060606060606,0.10335497835497835,8.82034632034632E-2,9.9025974025974031E-2,7.0887445887445888E-2,5.8982683982683984E-2,0.99999999999999989]
[2014,88299,88881,93396,87281,93912,100630,88891,97530,94677,93159,86943,84625,{"$f":"B256*B255","v":3822.4675324675322}]
[null,{"$f":"B13/$N$13","v":4.3290043290043288E-2},4.4913419913419912E-2,6.6558441558441553E-2,6.6558441558441553E-2,0.11580086580086581,0.13636363636363635,0.10606060606060606,0.10335497835497835,8.82034632034632E-2,{"$f":"K13/$N$13","v":9.9025974025974031E-2},7.0887445887445888E-2,5.8982683982683984E-2,{"$f":"SUM(B256:B256)","v":4.3290043290043288E-2}]
[]
[2015]
[]
[null,"jan-dec","feb-jan","mar-feb","apr-mar","may-apr","jun-may","jul-jun","aug-jul","sep-aug","oct-sep","nov-oct","dec-nov",null,null,null,2000,108841.26328081902,86218.325301852761,93902.434803589174,91697.667680693863,101134.05085489125,114445.6699312792,117247.74444448581,102143.71511350994,104324.1871136275,96330.42903744668,112183.5207549523,99445.98107420138,null,null,2000,{"$f":"(103820/110)*100","v":94381.818181818191}]
["change_04",{"$f":"B213-M211","v":1183},{"$f":"C213-B213","v":1896},-8779,-251,6816,1488,433,6076,-9417,-684,1081,4379,null,null,null,2001,107225.72171784147,110819.00855879424,107776.73220658583,117579.00673451831,105511.41285505123,114317.18256145417,113451.76093512625,111444.55672992056,106976.04855699587,105151.54059224173,112191.21650930728,105270.65219914123,null,null,2001,{"$f":"(110188/112.9)*100","v":97597.874224977859}]
["%change_04",{"$f":"(B261/M211)*100","v":1.1360253517069188},{"$f":"(C261/B213)*100","v":1.8002620634649347},-8.1882963045870873,-0.25499060293594761,6.9420679540454655,1.417142857142857,0.40661858613177071,5.6827003114448988,-8.3338495712275549,-0.66035914269163931,1.0505753382055667,4.2115083143387482,null,null,null,2002,103714.77655360612,109117.72853393438,110246.08241843562,100256.35498710533,106532.27625765388,117482.38812329927,122175.3190823967,122690.75760619181,119492.09903791247,118880.06254583524,116535.4151396004,112185.00286982275,null,null,2002,{"$f":"(114207/114.3)*100","v":99918.63517060368}]
[null,"jan","feb","mar","apr","may","jun","jul","aug","sep","oct","nov","dec","ytd_avg_total",null,null,2000,{"$f":"data!R14/'mnth-mnth'!R3","v":4.1281138790035588E-2},{"$f":"data!R15/'mnth-mnth'!R3","v":4.2704626334519574E-2},{"$f":"data!R16/'mnth-mnth'!R3","v":8.5409252669039148E-2},{"$f":"data!R17/'mnth-mnth'!R3","v":7.9715302491103202E-2},{"$f":"data!R18/'mnth-mnth'!R3","v":0.11743772241992882},{"$f":"data!R19/'mnth-mnth'!R3","v":0.13451957295373665},{"$f":"data!R20/'mnth-mnth'!R3","v":9.0391459074733102E-2},{"$f":"data!R21/'mnth-mnth'!R3","v":9.8932384341637009E-2},{"$f":"data!R22/'mnth-mnth'!R3","v":8.3274021352313168E-2},{"$f":"data!R23/'mnth-mnth'!R3","v":9.1103202846975095E-2},{"$f":"data!R24/'mnth-mnth'!R3","v":7.4021352313167255E-2},{"$f":"data!R25/'mnth-mnth'!R3","v":6.1209964412811388E-2},{"$f":"SUM(R263:AC263)","v":0.99999999999999989},null,2003,{"$f":"(117718/116.5)*100","v":101045.49356223176}]
["chg_prv_04-03",{"$f":"B213-B211","v":10907},13746,-326,497,3391,7023,-93,1557,7644,3324,11788,4221,4250.6207115238212,null,null,2001,{"$f":"data!R26/'mnth-mnth'!R4","v":4.5112781954887216E-2},{"$f":"data!R27/'mnth-mnth'!R4","v":4.5112781954887216E-2},{"$f":"data!R28/'mnth-mnth'!R4","v":8.709273182957393E-2},{"$f":"data!R29/'mnth-mnth'!R4","v":9.1478696741854632E-2},{"$f":"data!R30/'mnth-mnth'!R4","v":0.12280701754385964},{"$f":"data!R31/'mnth-mnth'!R4","v":0.10275689223057644},{"$f":"data!R32/'mnth-mnth'!R4","v":0.12280701754385964},{"$f":"data!R33/'mnth-mnth'!R4","v":0.10714285714285714},{"$f":"data!R34/'mnth-mnth'!R4","v":7.6441102756892226E-2},{"$f":"data!R35/'mnth-mnth'!R4","v":7.8947368421052627E-2},{"$f":"data!R36/'mnth-mnth'!R4","v":5.3258145363408518E-2},{"$f":"data!R37/'mnth-mnth'!R4","v":6.7042606516290723E-2},{"$f":"SUM(R264:AC264)","v":1},null,2004,{"$f":"(125658/119.4)*100","v":105241.20603015074}]
["%chg_prv_04-03",{"$f":"(B264/B211)*100","v":11.552679242884833},14.706637565797919,-0.33008981278034855,0.50876779919538939,3.3373027979804939,7.0607751470366464,-8.6904517165978273E-2,1.3971643933955491,7.967811874583056,3.3382878720925562,12.786774994847541,4.0533922312382966,4.2208617283419771,null,null,2002,{"$f":"data!R38/'mnth-mnth'!R5","v":5.6896551724137934E-2},{"$f":"data!R39/'mnth-mnth'!R5","v":5.3448275862068968E-2},{"$f":"data!R40/'mnth-mnth'!R5","v":7.7011494252873569E-2},{"$f":"data!R41/'mnth-mnth'!R5","v":8.7931034482758616E-2},{"$f":"data!R42/'mnth-mnth'!R5","v":0.12873563218390804},{"$f":"data!R43/'mnth-mnth'!R5","v":8.9080459770114945E-2},{"$f":"data!R44/'mnth-mnth'!R5","v":0.10689655172413794},{"$f":"data!R45/'mnth-mnth'!R5","v":0.10632183908045977},{"$f":"data!R46/'mnth-mnth'!R5","v":8.9655172413793102E-2},{"$f":"data!R47/'mnth-mnth'!R5","v":6.8390804597701152E-2},{"$f":"data!R48/'mnth-mnth'!R5","v":7.2988505747126439E-2},{"$f":"data!R49/'mnth-mnth'!R5","v":6.2643678160919536E-2},{"$f":"SUM(R265:AC265)","v":1},null,2005,{"$f":"(130034/123.2)*100","v":105547.07792207791}]
[{"$nulls":31},2006,{"$f":"(142913/126.1)*100","v":113333.06899286281}]
[null,"jan-dec","feb-jan","mar-feb","apr-mar","may-apr","jun-may","jul-jun","aug-jul","sep-aug","oct-sep","nov-oct","dec-nov",null,null,null,2000,{"$f":"R263*R260+S263*S260+T263*T260+U263*U260+V263*V260+W263*W260+X263*X260+Y263*Y260+Z263*Z260+AA263*AA260+AB263*AB260+AC263*AC260","v":103335.07404864587}]
["change_05",{"$f":"B217-M215","v":-1006},{"$f":"C217-B217","v":-4974},-3329,108,2804,4507,-4757,5976,2155,1511,-1949,-1202,null,null,null,2001,{"$f":"R264*R261+S264*S261+T264*T261+U264*U261+V264*V261+W264*W261+X264*X261+Y264*Y261+Z264*Z261+AA264*AA261+AB264*AB261+AC264*AC261","v":110068.24922983567}]
["%change_05",{"$f":"(B268/M215)*100","v":-0.9284211303481118},{"$f":"(C268/B217)*100","v":-4.6334420121099207},-3.2517386887551769,0.10903914303310548,2.8278957188240632,4.4204042801518257,-4.4680931001446469,5.875586231306964,2.0012072247759671,1.3756372906045156,-1.7503210568382861,-1.0987002065775762,null,null,null,2002,{"$f":"R265*R262+S265*S262+T265*T262+U265*U262+V265*V262+W265*W262+X265*X262+Y265*Y262+Z265*Z262+AA265*AA262+AB265*AB262+AC265*AC262","v":113700.55543980814}]
[null,"jan","feb","mar","apr","may","jun","jul","aug","sep","oct","nov","dec","ytd_avg_total"]
["chg_prv_05-04",{"$f":"B217-B215","v":2032},-4838,612,971,-3041,-22,-5212,-5312,6260,8455,5425,-156,{"$f":"N217-N213","v":254.39356406095612}]
["%chg_prv_05-04",{"$f":"(B271/B215)*100","v":1.92939478531685},-4.5124703863301434,0.62173007568446181,0.98895950460360149,-2.8961904761904762,-2.0659604838103824E-2,-4.8746270611011866,-4.7010097613210968,6.0436377679088622,8.2170346757891455,5.2175000240437788,-0.1439698770718742,{"$f":"(N271/N213)*100","v":0.24238192558921584}]
[]
[null,"jan-dec","feb-jan","mar-feb","apr-mar","may-apr","jun-may","jul-jun","aug-jul","sep-aug","oct-sep","nov-oct","dec-nov"]
["change_06",{"$f":"B221-M219","v":-762},{"$f":"C221-B221","v":134},-6960,2063,-1737,8118,3599,-4077,10162,-14514,1321,-107]
["%change_06",{"$f":"(B275/M219)*100","v":-0.70425138632162665},{"$f":"(C275/B221)*100","v":0.12472309611124555},-6.4700851522701077,2.0504512384208642,-1.6917457998539078,8.0425607798846812,3.3001393779342725,-3.6190138032044739,9.3591703660041627,-12.223345123799898,1.267438067276879,-0.10137663789591368]
[null,"jan","feb","mar","apr","may","jun","jul","aug","sep","oct","nov","dec","ytd_total"]
["chg_prv_06-05",{"$f":"B221-B219","v":88},5196,1565,3520,-1021,2590,10946,893,8900,-7125,-3855,-2760,{"$f":"N221-N217","v":1769.9978381978872}]
["%chg_prv_06-05",{"$f":"(B278/B219)*100","v":8.1974848625989749E-2},5.0754082988200357,1.5800579522852787,3.5499974786949724,-1.0013829088162889,2.4327015197339996,10.762076119124169,0.82927055764498303,8.1026948288419529,-6.3986852385699278,-3.5237015776676843,-2.5508317929759707,{"$f":"(N278/N217)*100","v":1.6823465806916127}]
[]
[null,"jan-dec","feb-jan","mar-feb","apr-mar","may-apr","jun-may","jul-jun","aug-jul","sep-aug","oct-sep","nov-oct","dec-nov"]
["change_07",{"$f":"B225-M223","v":5013},{"$f":"C225-B225","v":-3662},5189,-16223,9117,5699,-4094,-536,1375,-4219,-3165,8436]
["%change_07",{"$f":"(B282/M223)*100","v":4.7543626707132018},{"$f":"(C282/B225)*100","v":-3.3154373353372022},4.8590237004991055,-14.487408465797463,9.5209749678874651,5.434140015637813,-3.7025313593734452,-0.50338564411761944,1.2978677213218428,-3.9313069568944634,-3.0698648871473049,8.441571437148518]
[null,"jan","feb","mar","apr","may","jun","jul","aug","sep","oct","nov","dec","ytd_total"]
["chg_prv_07-06",{"$f":"B225-B223","v":3015},-781,11368,-6918,3936,1517,-6176,-2635,-11422,-1127,-5613,2930,{"$f":"N225-N221","v":-1085.1987895145139}]
["%chg_prv_07-06",{"$f":"(B285/B223)*100","v":2.8062696625030252},-0.72602535975904514,11.298851031686082,-6.7377647918188455,3.8994234084289361,1.3910284624413147,-5.4822244907016993,-2.4268267973254249,-9.6193363651675927,-1.0813040891907968,-5.3180099860725552,2.7788315629742035,{"$f":"(N285/N221)*100","v":-1.0143935390605188}]
[]
[null,"jan-dec","feb-jan","mar-feb","apr-mar","may-apr","jun-may","jul-jun","aug-jul","sep-aug","oct-sep","nov-oct","dec-nov"]
["change_08",{"$f":"B229-M227","v":3046},{"$f":"C229-B229","v":-13635},6296,-10727,8742,-4149,3825,3761,-12419,3541,-2160,-5082]
["%change_08",{"$f":"(B289/M227)*100","v":2.8107409799760079},{"$f":"(C289/B229)*100","v":-12.237919149852804},6.4388787187694945,-10.306792086628169,9.3647562935190152,-4.0639815068761509,3.905332693505406,3.6956607184969736,-11.768329084896095,3.8030286757598537,-2.2348449576310645,-5.3782899958726222]
[null,"jan","feb","mar","apr","may","jun","jul","aug","sep","oct","nov","dec","ytd_total"]
["chg_prv_08-07",{"$f":"B229-B227","v":963},-9010,-7903,-2407,-2782,-12630,-4711,-414,-14208,-6448,-5443,-18961,{"$f":"N229-N225","v":-6554.3107792604715}]
["%chg_prv_08-07",{"$f":"(B292/B227)*100","v":0.87186405077272677},-8.437040574580255,-7.0575102696910168,-2.5136543542508645,-2.6527070579934016,-11.422318287466199,-4.424346584772584,-0.39077617209254034,-13.239158389086638,-6.2541828727727715,-5.446594752536674,-17.496539632739687,{"$f":"(N292/N225)*100","v":-6.1894513769171686}]
[]
[null,"jan-dec","feb-jan","mar-feb","apr-mar","may-apr","jun-may","jul-jun","aug-jul","sep-aug","oct-sep","nov-oct","dec-nov"]
["change_09",{"$f":"B235-M231","v":-2208},{"$f":"C235-B235","v":2268},11048,-5440.712549880569,-472.28745011943101,4001,1732,-2362,-2117,-921,-4363,14387]
["%change_09",{"$f":"(B296/M231)*100","v":-2.4695500452974533},{"$f":"(C296/B235)*100","v":2.6008876044999485},12.348411181526563,-5.4127287422829662,-0.49674578465972463,4.2292080673121646,1.7565032199178539,-2.3540667949011826,-2.1607552947180402,-0.96079617767948422,-4.5956792399169979,15.884249343078588]
[null,"jan","feb","mar","apr","may","jun","jul","aug","sep","oct","nov","dec","ytd_total"]
["chg_prv_09-08",{"$f":"B235-B231","v":-24215},-8312,-3560,1726.287450119431,-7488,662,-1431,-7554,2748,-1714,-3917,15552,{"$f":"N233-N229","v":-3017.3794327689538}]
["%chg_prv_09-08",{"$f":"(B299/B231)*100","v":-21.733862281898471},-8.50062895654575,-3.4205444046234996,1.8492634709367233,-7.3345609842103201,0.67590333152956306,-1.4061394544454053,-7.158221910564869,2.9513478681129848,-1.7733908598979835,-4.145368341958493,17.394222058182063,{"$f":"(N299/N229)*100","v":-3.0374096994044728}]
[]
[null,"jan-dec","feb-jan","mar-feb","apr-mar","may-apr","jun-may","jul-jun","aug-jul","sep-aug","oct-sep","nov-oct","dec-nov"]
["change_10",{"$f":"B237-M233","v":-20653},{"$f":"C237-B237","v":5696},-1100,2244,3857,3465,6233,-10044,-1050,11378,-10439,3835]
["%change_10",{"$f":"(B303/M233)*100","v":-19.676832347252791},{"$f":"(C303/B237)*100","v":6.7561797219718178},-1.2221679036487267,2.5240709079456494,4.2315794093123271,3.6471764643966105,6.3298466538031892,-9.5928483424543707,-1.1092447627800843,12.154814173850804,-9.9431358168154151,4.0561407962093332]
[null,"jan","feb","mar","apr","may","jun","jul","aug","sep","oct","nov","dec","ytd_total"]
["chg_prv_10-09",{"$f":"B237-B235","v":-2893},{"$f":"C237-C233","v":535},-11613,-3928.287450119431,401,-135,4366,-3316,-2249,10050,3974,-6578,-1223.4919676601421]
["%chg_prv_10-09",{"$f":"(B306/B235)*100","v":-3.317622504329079},{"$f":"(C306/C233)*100","v":0.59797248208876819},-11.553269596187709,-4.131721542219827,0.42387214071286622,-0.13690989300745399,4.3513359976877917,-3.3845368716509312,-2.3461787226939852,10.585967536366221,4.3875725925762357,-6.2670896809291072,-1.2701948960437908]
[]
[null,"jan-dec","feb-jan","mar-feb","apr-mar","may-apr","jun-may","jul-jun","aug-jul","sep-aug","oct-sep","nov-oct","dec-nov"]
["change_11",{"$f":"B241-M239","v":-19994},{"$f":"C241-B241","v":-10986},16910,1472,5396,7955,-9374,4575,-7185,-9356,14724,-9829]
["%change_11",{"$f":"(B310/M239)*100","v":-20.322616712236872},{"$f":"(C310/B241)*100","v":-14.014721453265128},25.087904099224069,1.7458754877658249,6.2901439645625699,8.724405303736523,-9.4556972240154948,5.0968115683696888,-7.6163117334661896,-10.73526711951533,18.926422952336878,-10.623648940769563]
[null,"jan","feb","mar","apr","may","jun","jul","aug","sep","oct","nov","dec","ytd_total"]
["chg_prv_11-10",{"$f":"B241-B239","v":-5919},-22601,-4591,-5363,-3824,666,-14941,-322,-6457,-27191,-2028,-15692,{"$f":"N241-N237","v":-7210.3239607040305}]
["%chg_prv_11-10",{"$f":"(B313/B239)*100","v":-7.020686055890307},-25.111106173058971,-5.1639971204895172,-5.8838372756396184,-4.0250513130887855,0.67634812633289321,-14.269887204760131,-0.34016839391922588,-6.8978410195600848,-25.899397068208447,-2.1449422515547658,-15.949910045434679,{"$f":"(N313/N237)*100","v":-7.581859620928288}]
[]
[null,"jan-dec","feb-jan","mar-feb","apr-mar","may-apr","jun-may","jul-jun","aug-jul","sep-aug","oct-sep","nov-oct","dec-nov"]
["change_12",{"$f":"B245-M243","v":6317},{"$f":"C245-B245","v":-3876},-317,-4864,4892,11780,-100,3449,-8060,-1399,1540,-8206]
["%change_12",{"$f":"(B317/M243)*100","v":7.6392835979731775},{"$f":"(C317/B245)*100","v":-4.354664749236024},-0.37236291876145283,-5.7348346400990389,6.1187477329864546,13.884468960314935,-0.10349502706394959,3.5732416108077869,-8.0622574320809832,-1.5221081034032553,1.7014130566879897,-8.91442973069862]
[null,"jan","feb","mar","apr","may","jun","jul","aug","sep","oct","nov","dec","ytd_total"]
["chg_prv_12-11",{"$f":"B245-B243","v":10619},17729,502,-5834,-6338,-2513,6761,5635,4760,12717,-467,1156,{"$f":"N245-N241","v":2648.0537066836696}]
["%chg_prv_12-11",{"$f":"(B320/B243)*100","v":13.546543520136753},26.302983546726406,0.59540047205057345,-6.8007227370752457,-6.9510095304942912,-2.5349015493867011,7.5321405494529978,5.9732660567963789,5.4617220488342211,16.346598796853311,-0.50475572849113703,1.3979755958931444,{"$f":"(N320/N241)*100","v":3.0129402876905615}]
[]
[null,"jan-dec","feb-jan","mar-feb","apr-mar","may-apr","jun-may","jul-jun","aug-jul","sep-aug","oct-sep","nov-oct","dec-nov"]
["change_13",{"$f":"B249-M245","v":9174},{"$f":"C249-B249","v":-12846},3408,16467,-2343,2850,415,751,-4790,5044,-2209,-10017]
["%change_13",{"$f":"(B324/M245)*100","v":10.941357472539268},{"$f":"(C324/B249)*100","v":-13.809784887283516},4.2507015902712819,19.701374681454361,-2.3418290854572712,2.9168841536430348,0.41270125401513569,0.74377055025155481,-4.7088662347748302,5.203594235193381,-2.1661747256734363,-10.040293480875631]
[null,"jan","feb","mar","apr","may","jun","jul","aug","sep","oct","nov","dec","ytd_total"]
["chg_prv_13-12",{"$f":"B249-B247","v":4013},-4957,-1232,20099,12864,3934,4449,1751,5021,11464,7715,5904,6465.1666728375567]
["%chg_prv_13-12",{"$f":"(B327/B247)*100","v":4.5085834981125288},-5.8227223605694682,-1.4525732476566644,25.139147727983392,15.16212298009264,4.0714943646957762,4.6092641132165397,1.7514904173168488,5.4628340151449208,12.665583949266956,8.3810413566097797,7.0413968299402478,7.1408790595209588]
[]
[null,"jan-dec","feb-jan","mar-feb","apr-mar","may-apr","jun-may","jul-jun","aug-jul","sep-aug","oct-sep","nov-oct","dec-nov"]
["change_14",{"$f":"B255-M251","v":-1452},{"$f":"C255-B255","v":582},4515,-6115,6631,6718,-11739,8639,-2853,-1518,-6216,{"$f":"M253-L253","v":-2318}]
["%change_14",{"$f":"(B331/M251)*100","v":-1.6178092723200854},{"$f":"(C331/B255)*100","v":0.65912411239085378},5.0798258345428158,-6.547389609833397,7.5973006725404151,7.1535054093193633,-11.665507303984896,9.7186441822006717,-2.9252537680713626,-1.6033461136284419,-6.6724632080636335,{"$f":"(M331/L253)*100","v":-2.6661145808173172}]
[null,"jan","feb","mar","apr","may","jun","jul","aug","sep","oct","nov","dec","ytd_total"]
["chg_prv_14-13",{"$f":"B255-B251","v":-4722},8706,9813,-12769,-3795,73,-12081,-4193,-2256,-8818,-12825,-5126,{"$f":"N253-N251","v":-4326.5911656333192}]
["%chg_prv_14-13",{"$f":"(B334/B251)*100","v":-5.0762730996226653},10.858746492048644,11.740425684648791,-12.762618690654673,-3.8840615309036202,7.2595642272541935E-2,-11.96470308600404,-4.1219783136557124,-2.3273807681594505,-8.6470478637339792,-12.854823189800339,-5.7113569765239385,-4.4602849617293208]
[]
[null,"jan-dec","feb-jan","mar-feb","apr-mar","may-apr","jun-may","jul-jun","aug-jul","sep-aug","oct-sep","nov-oct","dec-nov"]
["change_15"]
["%change_15"]
[null,"jan","feb","mar","apr","may","jun","jul","aug","sep","oct","nov","dec","ytd_total"]
["chg_prv_15-14",{"$nulls":12},{"$f":"N258-N255","v":-3822.4675324675322}]
["%chg_prv_15-14",{"$nulls":12},{"$f":"(N341/N255)*100","v":-100}]
[]
["ecch_avg_rdom","jan","feb","mar","apr","may","jun","jul","aug","sep","oct","nov","dec","ytd_avg_total"]
[2003,88.270755019962138,104.68842686013039,99.995992540961282,84.047440586862194,61.582390668753312,64.58667680643093,65.226341054681882,79.554212934560297,73.0814783949169,60.292123892817308,119.72046725292864,112.09657798638629,{"$f":"AVERAGE(B345:M345)","v":84.428573666615961},{"$f":"AVERAGE(B345:M345)","v":84.428573666615961}]
[2004,140.82464454584715,126.17376966007103,131,135,125.59964009856719,113,105,126,91,136,136,138,125.29983785870711,125.29983785870711]
[2005,127,141,156,149,139,129,136,133,136,134,143,129,137.66666666666666,137.66666666666666,null,2000,{"$f":"AVERAGE(data!V14:V25)","v":65.251613270255689}]
[2006,142,148,131,108,118,102,101,111,101,103,127,133,118.75,118.75,null,2001,{"$f":"AVERAGE(data!V26:V37)","v":80.540513594998188}]
[2007,123,147,144,137,119,109,107,110,101,116,101,144,121.5,121.5,null,2002,{"$f":"AVERAGE(data!V38:V49)","v":78.08594247203358}]
[2008,110,115,139,105,135,118,101,123,137,127,131,128,122.41666666666667,122.41666666666667]
[2009,121,149,149,167,133,155,130,98,121,126,131,161,{"$f":"AVERAGE(B351:M351)","v":136.75},{"$f":"AVERAGE(B351:M351)","v":136.75}]
[2010,132,145,150,140,120,125,128,130,113,129,140,115,130.58333333333334,130.58333333333334]
[2011,118,132,156,117,123,128,117,117,136,128,111,132,126.25,126.25]
[2012,139,118,149,106,103,125,77,106,106,109,97,110,112.08333333333333,112.08333333333333]
[2013,108,144,124,100,82,86,79,87,94,80,70,75,94.083333333333329,94.083333333333329]
[2014,98,112,109,92,91,87,70,81,106,84,92,87,92.416666666666671,92.416666666666671]
[2015,{"$nulls":12},{"$f":"AVERAGE(B357:B357)","v":{"$error":"#DIV/0!"}},{"$f":"AVERAGE(B357:M357)","v":{"$error":"#DIV/0!"}}]
[null,"jan-dec","feb-jan","mar-feb","apr-mar","may-apr","jun-may","jul-jun","aug-jul","sep-aug","oct-sep","nov-oct","dec-nov"]
["change_04",{"$f":"B346-M345","v":28.728066559460856},{"$f":"C346-B346","v":-14.650874885776119},4.8262303399289692,4,-9.4003599014328074,-12.599640098567193,-8,21,-35,45,0,2]
["%change_04",{"$f":"(B359/M345)*100","v":25.627960349467376},{"$f":"(C359/B346)*100","v":-10.403629942063407},3.8250662977982492,3.0534351145038165,-6.963229556616894,-10.031589333121763,-7.0796460176991154,20,-27.777777777777779,49.450549450549453,0,1.4705882352941175]
[null,"jan","feb","mar","apr","may","jun","jul","aug","sep","oct","nov","dec","ytd_avg_total"]
["chg_prv_04-03",{"$f":"B346-B345","v":52.553889525885012},21.485342799940639,31.004007459038718,50.952559413137806,64.017249429813887,48.41332319356907,{"$f":"H346-H345","v":39.773658945318118},46.445787065439703,17.9185216050831,75.707876107182699,16.279532747071357,25.903422013613707,{"$f":"O346-O345","v":40.871264192091147}]
["%chg_prv_04-03",{"$f":"(B362/B345)*100","v":59.537147398365541},20.523130821944875,31.005249981731588,60.62357051846076,103.95382305659014,74.958684340836896,60.97790908120119,58.382561214759399,24.5185538095647,125.56843451355326,13.597952898628634,{"$f":"(M362/M345)*100","v":23.108129149811852},{"$f":"(N362/O345)*100","v":48.409279485734245}]
[]
[null,"jan-dec","feb-jan","mar-feb","apr-mar","may-apr","jun-may","jul-jun","aug-jul","sep-aug","oct-sep","nov-oct","dec-nov"]
["change_05",{"$f":"B347-M346","v":-11},{"$f":"C347-B347","v":14},15,-7,-10,-10,7,-3,3,-2,9,-14]
["%change_05",{"$f":"(B366/M346)*100","v":-7.9710144927536222},{"$f":"(C366/B347)*100","v":11.023622047244094},10.638297872340425,-4.4871794871794872,-6.7114093959731544,-7.1942446043165464,5.4263565891472867,-2.2058823529411766,2.2556390977443606,-1.4705882352941175,6.7164179104477615,-9.79020979020979]
[null,"jan","feb","mar","apr","may","jun","jul","aug","sep","oct","nov","dec","ytd_avg_total"]
["chg_prv_05-04",{"$f":"B347-B346","v":-13.82464454584715},14.826230339928969,25,14,13.400359901432807,16,{"$f":"H347-H346","v":31},7,45,-2,7,-9,{"$f":"O347-O346","v":12.36682880795955}]
["%chg_prv_05-04",{"$f":"(B369/B346)*100","v":-9.8169213140434177},11.750643877782849,19.083969465648856,10.37037037037037,10.669106926513935,14.159292035398231,29.523809523809526,5.5555555555555554,49.450549450549453,-1.4705882352941175,5.1470588235294112,-6.5217391304347823,{"$f":"(N369/O346)*100","v":9.8697883567134852}]
[]
[null,"jan-dec","feb-jan","mar-feb","apr-mar","may-apr","jun-may","jul-jun","aug-jul","sep-aug","oct-sep","nov-oct","dec-nov"]
["change_06",{"$f":"B348-M347","v":13},{"$f":"C348-B348","v":6},-17,-23,10,-16,-1,10,-10,2,{"$f":"L348-K348","v":24},{"$f":"M348-L348","v":6}]
["%change_06",{"$f":"(B373/M347)*100","v":10.077519379844961},{"$f":"(C373/B348)*100","v":4.225352112676056},-11.486486486486488,-17.557251908396946,9.2592592592592595,-13.559322033898304,-0.98039215686274506,9.9009900990099009,-9.0090090090090094,1.9801980198019802,{"$f":"(L373/K348)*100","v":23.300970873786408},{"$f":"(M373/L348)*100","v":4.7244094488188972}]
[null,"jan","feb","mar","apr","may","jun","jul","aug","sep","oct","nov","dec","ytd_total"]
["chg_prv_06-05",{"$f":"B348-B347","v":15},7,-25,-41,-21,-27,{"$f":"H348-H347","v":-35},-22,-35,-31,-16,4,{"$f":"O348-O347","v":-18.916666666666657}]
["%chg_prv_06-05",{"$f":"(B376/B347)*100","v":11.811023622047244},4.9645390070921991,-16.025641025641026,-27.516778523489933,-15.107913669064748,-20.930232558139537,-25.735294117647058,-16.541353383458645,-25.735294117647058,-23.134328358208954,{"$f":"(L376/L347)*100","v":-11.188811188811188},{"$f":"(M376/M347)*100","v":3.1007751937984498},{"$f":"(N376/O347)*100","v":-13.740920096852294}]
[]
[null,"jan-dec","feb-jan","mar-feb","apr-mar","may-apr","jun-may","jul-jun","aug-jul","sep-aug","oct-sep","nov-oct","dec-nov"]
["change_07",{"$f":"B349-M348","v":-10},{"$f":"C349-B349","v":24},-3,-7,-18,-10,-2,3,-9,{"$f":"K349-J349","v":15},{"$f":"L349-K349","v":-15},{"$f":"M349-L349","v":43}]
["%change_07",{"$f":"(B380/M348)*100","v":-7.518796992481203},{"$f":"(C380/B349)*100","v":19.512195121951219},-2.0408163265306123,-4.8611111111111116,-13.138686131386862,-8.4033613445378155,-1.834862385321101,2.8037383177570092,-8.1818181818181817,{"$f":"(K380/J349)*100","v":14.85148514851485},{"$f":"(L380/K349)*100","v":-12.931034482758621},{"$f":"(M380/L349)*100","v":42.574257425742573}]
[null,"jan","feb","mar","apr","may","jun","jul","aug","sep","oct","nov","dec","ytd_total"]
["chg_prv_07-06",{"$f":"B349-B348","v":-19},-1,13,29,1,7,6,-1,{"$f":"J349-J348","v":0},{"$f":"K349-K348","v":13},{"$f":"L349-L348","v":-26},{"$f":"M349-M348","v":11},{"$f":"O349-O348","v":2.75}]
["%chg_prv_07-06",{"$f":"(B383/B348)*100","v":-13.380281690140844},-0.67567567567567566,9.9236641221374047,26.851851851851855,0.84745762711864403,6.8627450980392162,5.9405940594059405,-0.90090090090090091,{"$f":"(J383/J348)*100","v":0},{"$f":"(K383/K348)*100","v":12.621359223300971},{"$f":"(L383/L348)*100","v":-20.472440944881889},{"$f":"(M383/M348)*100","v":8.2706766917293226},{"$f":"(N383/O348)*100","v":2.3157894736842106}]
[]
[null,"jan-dec","feb-jan","mar-feb","apr-mar","may-apr","jun-may","jul-jun","aug-jul","sep-aug","oct-sep","nov-oct","dec-nov"]
["change_08",{"$f":"B350-M349","v":-34},{"$f":"C350-B350","v":5},24,-34,30,-17,-17,{"$f":"I350-H350","v":22},{"$f":"J350-I350","v":14},{"$f":"K350-J350","v":-10},{"$f":"L350-K350","v":4},{"$f":"M350-L350","v":-3}]
["%change_08",{"$f":"(B387/M349)*100","v":-23.611111111111111},{"$f":"(C387/B350)*100","v":4.5454545454545459},20.869565217391305,-24.46043165467626,28.571428571428569,-12.592592592592592,-14.40677966101695,21.782178217821784,11.38211382113821,-7.2992700729926998,3.1496062992125982,-2.2900763358778624]
[null,"jan","feb","mar","apr","may","jun","jul","aug","sep","oct","nov","dec","ytd_total"]
["chg_prv_08-07",{"$f":"B350-B349","v":-13},-32,-5,-32,16,9,{"$f":"H350-H349","v":-6},13,36,11,30,-16,{"$f":"O350-O349","v":0.9166666666666714}]
["%chg_prv_08-07",{"$f":"-(B390/B349)*100","v":10.569105691056912},21.768707482993197,3.4722222222222223,23.357664233576642,-13.445378151260504,-8.2568807339449553,{"$f":"-(H390/H349)*100","v":5.6074766355140184},-11.818181818181818,-35.64356435643564,-9.4827586206896548,-29.702970297029701,11.111111111111111,{"$f":"(N390/O349)*100","v":0.75445816186557313}]
[]
[null,"jan-dec","feb-jan","mar-feb","apr-mar","may-apr","jun-may","jul-jun","aug-jul","sep-aug","oct-sep","nov-oct","dec-nov"]
["change_09",{"$f":"B351-M350","v":-7},{"$f":"C351-B351","v":28},0,18,-34,22,-25,{"$f":"I351-H351","v":-32},{"$f":"J351-I351","v":23},{"$f":"K351-J351","v":5},{"$f":"L351-K351","v":5},{"$f":"M351-L351","v":30}]
["%change_09",{"$f":"(B394/M350)*100","v":-5.46875},{"$f":"(C394/B351)*100","v":23.140495867768596},0,12.080536912751679,-20.359281437125748,16.541353383458645,-16.129032258064516,-24.615384615384617,23.469387755102041,4.1322314049586781,3.9682539682539679,22.900763358778626]
[null,"jan","feb","mar","apr","may","jun","jul","aug","sep","oct","nov","dec","ytd_total"]
["chg_prv_09-08",{"$f":"B351-B350","v":11},34,10,62,-2,37,{"$f":"H351-H350","v":29},-25,-16,-1,0,33,{"$f":"O351-O350","v":14.333333333333329}]
["%chg_prv_09-08",{"$f":"-(B397/B350)*100","v":-10},-29.565217391304348,-7.1942446043165464,-59.047619047619051,1.4814814814814816,-31.35593220338983,-28.71287128712871,{"$f":"-(I397/I350)*100","v":20.325203252032519},{"$f":"-(J397/J350)*100","v":11.678832116788321},{"$f":"-(K397/K350)*100","v":0.78740157480314954},{"$f":"-(L397/L350)*100","v":0},{"$f":"-(M397/M350)*100","v":-25.78125},{"$f":"(N397/O350)*100","v":11.708645336963917}]
[]
[null,"jan-dec","feb-jan","mar-feb","apr-mar","may-apr","jun-may","jul-jun","aug-jul","sep-aug","oct-sep","nov-oct","dec-nov"]
["change_10",{"$f":"B352-M351","v":-29},{"$f":"C352-B352","v":13},5,-10,-20,5,3,2,-17,16,11,-25]
["%change_10",{"$f":"(B401/M351)*100","v":-18.012422360248447},{"$f":"(C401/B352)*100","v":9.8484848484848477},3.4482758620689653,-6.666666666666667,-14.285714285714285,4.1666666666666661,2.4,1.5625,-13.076923076923078,14.159292035398231,8.5271317829457356,-17.857142857142858]
[null,"jan","feb","mar","apr","may","jun","jul","aug","sep","oct","nov","dec","ytd_total"]
["chg_prv_10-09",{"$f":"B352-B351","v":11},-4,1,-27,-13,-30,{"$f":"H352-H351","v":-2},32,-8,3,9,-46,{"$f":"O352-O351","v":-6.1666666666666572}]
["%chg_prv_10-09",{"$f":"(B404/B351)*100","v":9.0909090909090917},-2.6845637583892619,0.67114093959731547,-16.167664670658681,-9.7744360902255636,-19.35483870967742,-1.5384615384615385,{"$f":"(I404/I351)*100","v":32.653061224489797},{"$f":"(J404/J351)*100","v":-6.6115702479338845},{"$f":"(K404/K351)*100","v":2.3809523809523809},{"$f":"(L404/L351)*100","v":6.8702290076335881},{"$f":"(M404/M351)*100","v":-28.571428571428569},{"$f":"(N404/O351)*100","v":-4.5094454600853071}]
[]
[null,"jan-dec","feb-jan","mar-feb","apr-mar","may-apr","jun-may","jul-jun","aug-jul","sep-aug","oct-sep","nov-oct","dec-nov"]
["change_11",{"$f":"(B353-M352)","v":3},{"$f":"C353-B353","v":14},24,-39,6,5,-11,0,19,-8,-17,21]
["%change_11",{"$f":"(B408/M352)*100","v":2.6086956521739131},{"$f":"(C408/B353)*100","v":11.864406779661017},18.181818181818183,-25,5.1282051282051277,4.0650406504065035,-8.59375,0,16.239316239316238,-5.8823529411764701,-13.28125,18.918918918918919]
[null,"jan","feb","mar","apr","may","jun","jul","aug","sep","oct","nov","dec","ytd_total"]
["chg_prv_11-10",{"$f":"(B353-B352)","v":-14},-13,6,-23,3,3,{"$f":"(H353-H352)","v":-11},-13,23,-1,-29,17,{"$f":"O353-O352","v":-4.3333333333333428}]
["%chg_prv_11-10",{"$f":"(B411/B352)*100","v":-10.606060606060606},-8.9655172413793096,4,-16.428571428571427,2.5,2.4,{"$f":"(H411/H352)*100","v":-8.59375},-10,20.353982300884958,-0.77519379844961245,-20.714285714285715,14.782608695652174,{"$f":"(N411/O352)*100","v":-3.3184428844926681}]
[]
[null,"jan-dec","feb-jan","mar-feb","apr-mar","may-apr","jun-may","jul-jun","aug-jul","sep-aug","oct-sep","nov-oct","dec-nov"]
["change_12",{"$f":"B354-M353","v":7},{"$f":"C354-B354","v":-21},31,-43,-3,22,-48,{"$f":"I354-H354","v":29},0,3,-12,13]
["%change_12",{"$f":"(B415/M353)*100","v":5.3030303030303028},{"$f":"(C415/B354)*100","v":-15.107913669064748},26.271186440677969,-28.859060402684566,-2.8301886792452833,21.359223300970871,-38.4,37.662337662337663,0,2.8301886792452833,-11.009174311926607,13.402061855670103]
[null,"jan","feb","mar","apr","may","jun","jul","aug","sep","oct","nov","dec","ytd_total"]
["chg_prv_12-11",{"$f":"B354-B353","v":21},-14,-7,-11,-20,-3,{"$f":"H354-H353","v":-40},-11,{"$f":"J354-J353","v":-30},-19,{"$f":"L354-L353","v":-14},-22,{"$f":"O354-O353","v":-14.166666666666671}]
["%chg_prv_12-11",{"$f":"(B418/B353)*100","v":17.796610169491526},-10.606060606060606,-4.4871794871794872,-9.4017094017094021,-16.260162601626014,-2.34375,-34.188034188034187,{"$f":"(I418/I353)*100","v":-9.4017094017094021},-22.058823529411764,{"$f":"(K418/K353)*100","v":-14.84375},-12.612612612612612,{"$f":"(M418/M353)*100","v":-16.666666666666664},{"$f":"(O418/N353)*100","v":0}]
[]
[null,"jan-dec","feb-jan","mar-feb","apr-mar","may-apr","jun-may","jul-jun","aug-jul","sep-aug","oct-sep","nov-oct","dec-nov"]
["change_13",{"$f":"B355-M354","v":-2},{"$f":"C355-B355","v":36},-20,-24,-18,4,-7,{"$f":"I355-H355","v":8},7,-14,-10,5]
["%change_13",{"$f":"(B422/M354)*100","v":-1.8181818181818181},{"$f":"(C422/B355)*100","v":33.333333333333329},-13.888888888888889,-19.35483870967742,-18,4.8780487804878048,-8.1395348837209305,10.126582278481013,8.0459770114942533,-14.893617021276595,-12.5,7.1428571428571423]
[null,"jan","feb","mar","apr","may","jun","jul","aug","sep","oct","nov","dec","ytd_total"]
["chg_prv_13-12",{"$f":"B355-B354","v":-31},26,-25,-6,-21,-39,{"$f":"H355-H354","v":2},-19,{"$f":"J355-J354","v":-12},-29,{"$f":"L355-L354","v":-27},-35,{"$f":"O355-O354","v":-18}]
["%chg_prv_13-12",{"$f":"(B425/B354)*100","v":-22.302158273381295},22.033898305084744,-16.778523489932887,-5.6603773584905666,-20.388349514563107,-31.2,2.5974025974025974,{"$f":"(I425/I354)*100","v":-17.924528301886792},-11.320754716981133,{"$f":"(K425/K354)*100","v":-26.605504587155966},-27.835051546391753,{"$f":"(M425/M354)*100","v":-31.818181818181817},{"$f":"(N425/O354)*100","v":-16.059479553903348}]
[]
[null,"jan-dec","feb-jan","mar-feb","apr-mar","may-apr","jun-may","jul-jun","aug-jul","sep-aug","oct-sep","nov-oct","dec-nov"]
["change_14",{"$f":"B356-M355","v":23},{"$f":"C356-B356","v":14},-3,-17,-1,-4,-17,11,25,-22,8,-5]
["%change_14",{"$f":"(B429/M355)*100","v":30.666666666666664},{"$f":"(C429/B356)*100","v":14.285714285714285},-2.6785714285714284,-15.596330275229359,-1.0869565217391304,-4.395604395604396,-19.540229885057471,15.714285714285714,30.864197530864196,-20.754716981132077,9.5238095238095237,-5.4347826086956523]
[null,"jan","feb","mar","apr","may","jun","jul","aug","sep","oct","nov","dec","ytd_total"]
["chg_prv_14-13",{"$f":"B356-B355","v":-10},-32,-15,-8,9,1,{"$f":"H356-H355","v":-9},-6,{"$f":"J356-J355","v":12},4,{"$f":"L356-L355","v":22},12,{"$f":"O356-O355","v":-1.6666666666666572}]
["%chg_prv_14-13",{"$f":"(B432/B355)*100","v":-9.2592592592592595},-22.222222222222221,-12.096774193548388,-8,10.975609756097562,1.1627906976744187,-11.39240506329114,{"$f":"(I432/I355)*100","v":-6.8965517241379306},12.76595744680851,{"$f":"(K432/K355)*100","v":5},31.428571428571427,{"$f":"(M432/M355)*100","v":16},{"$f":"(N432/O355)*100","v":-1.7714791851195648}]
[]
[null,"jan-dec","feb-jan","mar-feb","apr-mar","may-apr","jun-may","jul-jun","aug-jul","sep-aug","oct-sep","nov-oct","dec-nov"]
["change_15"]
["%change_15"]
[null,"jan","feb","mar","apr","may","jun","jul","aug","sep","oct","nov","dec","ytd_total"]
["chg_prv_15-14",{"$nulls":12},{"$f":"N357-N356","v":{"$error":"#DIV/0!"}}]
["%chg_prv_15-14",{"$nulls":12},{"$f":"(N439/N356)*100","v":{"$error":"#DIV/0!"}}]

{"sheet":"graphs","index":5,"n_rows":0,"n_cols":0,"rows_kept":0,"cut":false,"hidden":false,"merged":[]}